Workbook
Name Men_sort_Area: 'Final Positions'!$A$3:$O$10
Name R___N_lions: 'Final Positions'!$A$3:$O$10
Name Women_sort_area: 'Final Positions'!$A$15:$O$22

Sheet Results input
A1: Men Results INPUT SHEET | H1: Women Results INPUT SHEET
A2: ='Men dec.'!A4 -> M60 100m | H2: ='women dec'!A4 -> W60 100m | P2: Men's Key to Teams | S2: Women's Key to Teams
A3: Position | B3: Number | C3: Name | D3: Club | E3: Performance | F3: Points | H3: Position | I3: Number | J3: Name | K3: Club | L3: Performance | M3: Points
A4: 1 | B4: 22 | C4: =IF(B4=""," ",HLOOKUP(D4,'Men dec.'!$C$1:$Q$28,4,FALSE)) -> Pete Mould | D4: =VLOOKUP(B4,$P$4:$Q$35,2,FALSE) -> B & R | E4: 13.4 | F4: =IF(OR(E4=0,E4="dis",E4="",E4=" ", E4="nvh"),"",8) -> 8 | G4: 12 | H4: 1 | I4: 152 | J4: =IF(I4=""," ",HLOOKUP(K4,'women dec'!$C$1:$Q$37,4,FALSE)) -> Gill Millicheap | K4: =VLOOKUP(I4,$S$4:$T$35,2,FALSE) -> Sparkhill | L4: 18.5 | M4: =IF(OR(L4=0,L4="dis",L4="",L4=" ", L4="nvh"),"",8) -> 8 | P4: 1 | Q4: Sparkhill | S4: 151 | T4: Sparkhill
A5: 2 | B5: 12 | C5: =IF(B5=""," ",HLOOKUP(D5,'Men dec.'!$C$1:$Q$28,4,FALSE)) -> Laurence Oldfield | D5: =VLOOKUP(B5,$P$4:$Q$35,2,FALSE) -> Worcester | E5: 14.7 | F5: =IF(OR(E5=0,E5="dis",E5="",E5=" ", E5="nvh"),"",7) -> 7 | H5: 2 | I5: 72 | J5: =IF(I5=""," ",HLOOKUP(K5,'women dec'!$C$1:$Q$37,4,FALSE)) -> Rita Brownlie | K5: =VLOOKUP(I5,$S$4:$T$35,2,FALSE) -> B & R | L5: 20.5 | M5: =IF(OR(L5=0,L5="dis",L5="",L5=" ", L5="nvh"),"",7) -> 7 | P5: 2 | Q5: Sparkhill | S5: 152 | T5: Sparkhill
A6: 3 | B6: 24 | C6: =IF(B6=""," ",HLOOKUP(D6,'Men dec.'!$C$1:$Q$28,4,FALSE)) -> Tony Crocker | D6: =VLOOKUP(B6,$P$4:$Q$35,2,FALSE) -> Droitwich & KSAC | E6: 16.6 | F6: =IF(OR(E6=0,E6="dis",E6="",E6=" ", E6="nvh"),"",6) -> 6 | H6: 3 | I6: 62 | J6: =IF(I6=""," ",HLOOKUP(K6,'women dec'!$C$1:$Q$37,4,FALSE)) -> Rebecca Hambrook | K6: =VLOOKUP(I6,$S$4:$T$35,2,FALSE) -> Worcester | L6: 20.7 | M6: =IF(OR(L6=0,L6="dis",L6="",L6=" ", L6="nvh"),"",6) -> 6 | P6: 3 | Q6: DASH | S6: 53 | T6: DASH
A7: 4 | B7: 10 | C7: =IF(B7=""," ",HLOOKUP(D7,'Men dec.'!$C$1:$Q$28,4,FALSE)) -> Les Woods | D7: =VLOOKUP(B7,$P$4:$Q$35,2,FALSE) -> Halesowen | E7: 16.7 | F7: =IF(OR(E7=0,E7="dis",E7="",E7=" ", E7="nvh"),"",5) -> 5 | H7: 4 | I7: 60 | J7: =IF(I7=""," ",HLOOKUP(K7,'women dec'!$C$1:$Q$37,4,FALSE)) -> Rosemary Chrimes | K7: =VLOOKUP(I7,$S$4:$T$35,2,FALSE) -> Halesowen | L7: 21.1 | M7: =IF(OR(L7=0,L7="dis",L7="",L7=" ", L7="nvh"),"",5) -> 5 | P7: 4 | Q7: DASH | S7: 54 | T7: DASH
A8: 5 | B8: 2 | C8: =IF(B8=""," ",HLOOKUP(D8,'Men dec.'!$C$1:$Q$28,4,FALSE)) -> Bernie Wareing | D8: =VLOOKUP(B8,$P$4:$Q$35,2,FALSE) -> Sparkhill | E8: 18.1 | F8: =IF(OR(E8=0,E8="dis",E8="",E8=" ", E8="nvh"),"",4) -> 4 | H8: 5 | J8: =IF(I8=""," ",HLOOKUP(K8,'women dec'!$C$1:$Q$37,4,FALSE)) | K8: =VLOOKUP(I8,$S$4:$T$35,2,FALSE) -> #N/A | M8: =IF(OR(L8=0,L8="dis",L8="",L8=" ", L8="nvh"),"",4) | P8: 9 | Q8: Halesowen | S8: 59 | T8: Halesowen
A9: 6 | B9: 14 | C9: =IF(B9=""," ",HLOOKUP(D9,'Men dec.'!$C$1:$Q$28,4,FALSE)) -> Robin Davies | D9: =VLOOKUP(B9,$P$4:$Q$35,2,FALSE) -> Birchfield | E9: 18.3 | F9: =IF(OR(E9=0,E9="dis",E9="",E9=" ", E9="nvh"),"",3) -> 3 | H9: 6 | J9: =IF(I9=""," ",HLOOKUP(K9,'women dec'!$C$1:$Q$37,4,FALSE)) | K9: =VLOOKUP(I9,$S$4:$T$35,2,FALSE) -> #N/A | M9: =IF(OR(L9=0,L9="dis",L9="",L9=" ", L9="nvh"),"",3) | P9: 10 | Q9: Halesowen | S9: 60 | T9: Halesowen
A10: 7 | B10: 36 | C10: =IF(B10=""," ",HLOOKUP(D10,'Men dec.'!$C$1:$Q$28,4,FALSE)) -> Michael Elwell | D10: =VLOOKUP(B10,$P$4:$Q$35,2,FALSE) -> MMAC | E10: 18.5 | F10: =IF(OR(E10=0,E10="dis",E10="",E10=" ", E10="nvh"),"",2) -> 2 | H10: 7 | J10: =IF(I10=""," ",HLOOKUP(K10,'women dec'!$C$1:$Q$37,4,FALSE)) | K10: =VLOOKUP(I10,$S$4:$T$35,2,FALSE) -> #N/A | M10: =IF(OR(L10=0,L10="dis",L10="",L10=" ", L10="nvh"),"",2) | P10: 11 | Q10: Worcester | S10: 61 | T10: Worcester
A11: 8 | C11: =IF(B11=""," ",HLOOKUP(D11,'Men dec.'!$C$1:$Q$28,4,FALSE)) | D11: =VLOOKUP(B11,$P$4:$Q$35,2,FALSE) -> #N/A | F11: =IF(OR(E11=0,E11="dis",E11="",E11=" ", E11="nvh"),"",1) | H11: 8 | J11: =IF(I11=""," ",HLOOKUP(K11,'women dec'!$C$1:$Q$37,4,FALSE)) | K11: =VLOOKUP(I11,$S$4:$T$35,2,FALSE) -> #N/A | M11: =IF(OR(L11=0,L11="dis",L11="",L11=" ", L11="nvh"),"",1) | P11: 12 | Q11: Worcester | S11: 62 | T11: Worcester
A12: ='Men dec.'!A5 -> M50 100m | H12: ='women dec'!A5 -> W50 100m | P12: 13 | Q12: Birchfield | S12: 63 | T12: Birchfield
A13: Position | B13: Number | C13: Name | D13: Club | E13: Performance | F13: Points | H13: Position | I13: Number | J13: Name | K13: Club | L13: Performance | M13: Points | P13: 14 | Q13: Birchfield | S13: 64 | T13: Birchfield
A14: 1 | B14: 23 | C14: =IF(B14=""," ",HLOOKUP(D14,'Men dec.'!$C$1:$Q$28,5,FALSE)) -> Andy Priest | D14: =VLOOKUP(B14,$P$4:$Q$35,2,FALSE) -> Droitwich & KSAC | E14: 13 | F14: =IF(OR(E14=0,E14="dis",E14="",E14=" ", E14="nvh"),"",8) -> 8 | G14: 12 | H14: 1 | I14: 63 | J14: =IF(I14=""," ",HLOOKUP(K14,'women dec'!$C$1:$Q$37,5,FALSE)) -> Viv Bonner | K14: =VLOOKUP(I14,$S$4:$T$35,2,FALSE) -> Birchfield | L14: 14.7 | M14: =IF(OR(L14=0,L14="dis",L14="",L14=" ", L14="nvh"),"",8) -> 8 | P14: 21 | Q14: B & R | S14: 71 | T14: B & R
A15: 2 | B15: 13 | C15: =IF(B15=""," ",HLOOKUP(D15,'Men dec.'!$C$1:$Q$28,5,FALSE)) -> Paul Rogers | D15: =VLOOKUP(B15,$P$4:$Q$35,2,FALSE) -> Birchfield | E15: 14.3 | F15: =IF(OR(E15=0,E15="dis",E15="",E15=" ", E15="nvh"),"",7) -> 7 | H15: 2 | I15: 53 | J15: =IF(I15=""," ",HLOOKUP(K15,'women dec'!$C$1:$Q$37,5,FALSE)) -> Elaine Restorick | K15: =VLOOKUP(I15,$S$4:$T$35,2,FALSE) -> DASH | L15: 16.5 | M15: =IF(OR(L15=0,L15="dis",L15="",L15=" ", L15="nvh"),"",7) -> 7 | P15: 22 | Q15: B & R | S15: 72 | T15: B & R
A16: 3 | B16: 11 | C16: =IF(B16=""," ",HLOOKUP(D16,'Men dec.'!$C$1:$Q$28,5,FALSE)) -> John Steel | D16: =VLOOKUP(B16,$P$4:$Q$35,2,FALSE) -> Worcester | E16: 14.4 | F16: =IF(OR(E16=0,E16="dis",E16="",E16=" ", E16="nvh"),"",6) -> 6 | H16: 3 | I16: 59 | J16: =IF(I16=""," ",HLOOKUP(K16,'women dec'!$C$1:$Q$37,5,FALSE)) -> Liz Tindle | K16: =VLOOKUP(I16,$S$4:$T$35,2,FALSE) -> Halesowen | L16: 16.7 | M16: =IF(OR(L16=0,L16="dis",L16="",L16=" ", L16="nvh"),"",6) -> 6 | P16: 23 | Q16: Droitwich & KSAC | S16: 73 | T16: Droitwich & KSAC
A17: 4 | B17: 1 | C17: =IF(B17=""," ",HLOOKUP(D17,'Men dec.'!$C$1:$Q$28,5,FALSE)) -> Simon Willington | D17: =VLOOKUP(B17,$P$4:$Q$35,2,FALSE) -> Sparkhill | E17: 15.2 | F17: =IF(OR(E17=0,E17="dis",E17="",E17=" ", E17="nvh"),"",5) -> 5 | H17: 4 | I17: 71 | J17: =IF(I17=""," ",HLOOKUP(K17,'women dec'!$C$1:$Q$37,5,FALSE)) -> Julie Wakelam | K17: =VLOOKUP(I17,$S$4:$T$35,2,FALSE) -> B & R | L17: 16.9 | M17: =IF(OR(L17=0,L17="dis",L17="",L17=" ", L17="nvh"),"",5) -> 5 | P17: 24 | Q17: Droitwich & KSAC | S17: 74 | T17: Droitwich & KSAC
A18: 5 | B18: 21 | C18: =IF(B18=""," ",HLOOKUP(D18,'Men dec.'!$C$1:$Q$28,5,FALSE)) -> David Cleverley | D18: =VLOOKUP(B18,$P$4:$Q$35,2,FALSE) -> B & R | E18: 17.3 | F18: =IF(OR(E18=0,E18="dis",E18="",E18=" ", E18="nvh"),"",4) -> 4 | H18: 5 | I18: 61 | J18: =IF(I18=""," ",HLOOKUP(K18,'women dec'!$C$1:$Q$37,5,FALSE)) -> Ros Townsend Hope | K18: =VLOOKUP(I18,$S$4:$T$35,2,FALSE) -> Worcester | L18: 17.8 | M18: =IF(OR(L18=0,L18="dis",L18="",L18=" ", L18="nvh"),"",4) -> 4 | P18: 35 | Q18: MMAC | S18: 85 | T18: MMAC
A19: 6 | C19: =IF(B19=""," ",HLOOKUP(D19,'Men dec.'!$C$1:$Q$28,5,FALSE)) | D19: =VLOOKUP(B19,$P$4:$Q$35,2,FALSE) -> #N/A | F19: =IF(OR(E19=0,E19="dis",E19="",E19=" ", E19="nvh"),"",3) | H19: 6 | J19: =IF(I19=""," ",HLOOKUP(K19,'women dec'!$C$1:$Q$37,5,FALSE)) | K19: =VLOOKUP(I19,$S$4:$T$35,2,FALSE) -> #N/A | M19: =IF(OR(L19=0,L19="dis",L19="",L19=" ", L19="nvh"),"",3) | P19: 36 | Q19: MMAC | S19: 86 | T19: MMAC
A20: 7 | C20: =IF(B20=""," ",HLOOKUP(D20,'Men dec.'!$C$1:$Q$28,5,FALSE)) | D20: =VLOOKUP(B20,$P$4:$Q$35,2,FALSE) -> #N/A | F20: =IF(OR(E20=0,E20="dis",E20="",E20=" ", E20="nvh"),"",2) | H20: 7 | J20: =IF(I20=""," ",HLOOKUP(K20,'women dec'!$C$1:$Q$37,5,FALSE)) | K20: =VLOOKUP(I20,$S$4:$T$35,2,FALSE) -> #N/A | M20: =IF(OR(L20=0,L20="dis",L20="",L20=" ", L20="nvh"),"",2) | P20: 1x | Q20: Sparkhill | S20: 151x | T20: Sparkhill
A21: 8 | C21: =IF(B21=""," ",HLOOKUP(D21,'Men dec.'!$C$1:$Q$28,5,FALSE)) | D21: =VLOOKUP(B21,$P$4:$Q$35,2,FALSE) -> #N/A | F21: =IF(OR(E21=0,E21="dis",E21="",E21=" ", E21="nvh"),"",1) | H21: 8 | J21: =IF(I21=""," ",HLOOKUP(K21,'women dec'!$C$1:$Q$37,5,FALSE)) | K21: =VLOOKUP(I21,$S$4:$T$35,2,FALSE) -> #N/A | M21: =IF(OR(L21=0,L21="dis",L21="",L21=" ", L21="nvh"),"",1) | P21: 2x | Q21: Sparkhill | S21: 152x | T21: Sparkhill
A22: ='Men dec.'!A6 -> M40 100m | H22: ='women dec'!A6 -> W40 100m | P22: 3x | Q22: DASH | S22: 53x | T22: DASH
A23: Position | B23: Number | C23: Name | D23: Club | E23: Performance | F23: Points | H23: Position | I23: Number | J23: Name | K23: Club | L23: Performance | M23: Points | P23: 4x | Q23: DASH | S23: 54x | T23: DASH
A24: 1 | B24: 14 | C24: =IF(B24=""," ",HLOOKUP(D24,'Men dec.'!$C$1:$Q$28,6,FALSE)) -> Martin Maynard | D24: =VLOOKUP(B24,$P$4:$Q$35,2,FALSE) -> Birchfield | E24: 12.8 | F24: =IF(OR(E24=0,E24="dis",E24="",E24=" ", E24="nvh"),"",8) -> 8 | G24: 12 | H24: 1 | I24: 74 | J24: =IF(I24=""," ",HLOOKUP(K24,'women dec'!$C$1:$Q$37,6,FALSE)) -> Kate Murdoch | K24: =VLOOKUP(I24,$S$4:$T$35,2,FALSE) -> Droitwich & KSAC | L24: 14.3 | M24: =IF(OR(L24=0,L24="dis",L24="",L24=" ", L24="nvh"),"",8) -> 8 | P24: 9x | Q24: Halesowen | S24: 59x | T24: Halesowen
A25: 2 | B25: 24 | C25: =IF(B25=""," ",HLOOKUP(D25,'Men dec.'!$C$1:$Q$28,6,FALSE)) -> Keith Waldron | D25: =VLOOKUP(B25,$P$4:$Q$35,2,FALSE) -> Droitwich & KSAC | E25: 13.2 | F25: =IF(OR(E25=0,E25="dis",E25="",E25=" ", E25="nvh"),"",7) -> 7 | H25: 2 | I25: 72 | J25: =IF(I25=""," ",HLOOKUP(K25,'women dec'!$C$1:$Q$37,6,FALSE)) -> Debbie Ricci | K25: =VLOOKUP(I25,$S$4:$T$35,2,FALSE) -> B & R | L25: 15.3 | M25: =IF(OR(L25=0,L25="dis",L25="",L25=" ", L25="nvh"),"",7) -> 7 | P25: 10x | Q25: Halesowen | S25: 60x | T25: Halesowen
A26: 3 | B26: 22 | C26: =IF(B26=""," ",HLOOKUP(D26,'Men dec.'!$C$1:$Q$28,6,FALSE)) -> Calvin Scoltock | D26: =VLOOKUP(B26,$P$4:$Q$35,2,FALSE) -> B & R | E26: 13.7 | F26: =IF(OR(E26=0,E26="dis",E26="",E26=" ", E26="nvh"),"",6) -> 6 | H26: 3 | I26: 64 | J26: =IF(I26=""," ",HLOOKUP(K26,'women dec'!$C$1:$Q$37,6,FALSE)) -> Judy Johnson | K26: =VLOOKUP(I26,$S$4:$T$35,2,FALSE) -> Birchfield | L26: 15.7 | M26: =IF(OR(L26=0,L26="dis",L26="",L26=" ", L26="nvh"),"",6) -> 6 | P26: 11x | Q26: Worcester | S26: 61x | T26: Worcester
A27: 4 | B27: 12 | C27: =IF(B27=""," ",HLOOKUP(D27,'Men dec.'!$C$1:$Q$28,6,FALSE)) -> Richard White | D27: =VLOOKUP(B27,$P$4:$Q$35,2,FALSE) -> Worcester | E27: 14 | F27: =IF(OR(E27=0,E27="dis",E27="",E27=" ", E27="nvh"),"",5) -> 5 | H27: 4 | I27: 60 | J27: =IF(I27=""," ",HLOOKUP(K27,'women dec'!$C$1:$Q$37,6,FALSE)) -> Julie Dale | K27: =VLOOKUP(I27,$S$4:$T$35,2,FALSE) -> Halesowen | L27: 15.9 | M27: =IF(OR(L27=0,L27="dis",L27="",L27=" ", L27="nvh"),"",5) -> 5 | P27: 12x | Q27: Worcester | S27: 62x | T27: Worcester
A28: 5 | B28: 10 | C28: =IF(B28=""," ",HLOOKUP(D28,'Men dec.'!$C$1:$Q$28,6,FALSE)) -> Kevin Monk | D28: =VLOOKUP(B28,$P$4:$Q$35,2,FALSE) -> Halesowen | E28: 14.3 | F28: =IF(OR(E28=0,E28="dis",E28="",E28=" ", E28="nvh"),"",4) -> 4 | H28: 5 | I28: 62 | J28: =IF(I28=""," ",HLOOKUP(K28,'women dec'!$C$1:$Q$37,6,FALSE)) -> Ruth Bird | K28: =VLOOKUP(I28,$S$4:$T$35,2,FALSE) -> Worcester | L28: 17.2 | M28: =IF(OR(L28=0,L28="dis",L28="",L28=" ", L28="nvh"),"",4) -> 4 | P28: 13x | Q28: Birchfield | S28: 63x | T28: Birchfield
A29: 6 | C29: =IF(B29=""," ",HLOOKUP(D29,'Men dec.'!$C$1:$Q$28,6,FALSE)) | D29: =VLOOKUP(B29,$P$4:$Q$35,2,FALSE) -> #N/A | F29: =IF(OR(E29=0,E29="dis",E29="",E29=" ", E29="nvh"),"",3) | H29: 6 | J29: =IF(I29=""," ",HLOOKUP(K29,'women dec'!$C$1:$Q$37,6,FALSE)) | K29: =VLOOKUP(I29,$S$4:$T$35,2,FALSE) -> #N/A | M29: =IF(OR(L29=0,L29="dis",L29="",L29=" ", L29="nvh"),"",3) | P29: 14x | Q29: Birchfield | S29: 64x | T29: Birchfield
A30: 7 | C30: =IF(B30=""," ",HLOOKUP(D30,'Men dec.'!$C$1:$Q$28,6,FALSE)) | D30: =VLOOKUP(B30,$P$4:$Q$35,2,FALSE) -> #N/A | F30: =IF(OR(E30=0,E30="dis",E30="",E30=" ", E30="nvh"),"",2) | H30: 7 | J30: =IF(I30=""," ",HLOOKUP(K30,'women dec'!$C$1:$Q$37,6,FALSE)) | K30: =VLOOKUP(I30,$S$4:$T$35,2,FALSE) -> #N/A | M30: =IF(OR(L30=0,L30="dis",L30="",L30=" ", L30="nvh"),"",2) | P30: 21x | Q30: B & R | S30: 71x | T30: B & R
A31: 8 | C31: =IF(B31=""," ",HLOOKUP(D31,'Men dec.'!$C$1:$Q$28,6,FALSE)) | D31: =VLOOKUP(B31,$P$4:$Q$35,2,FALSE) -> #N/A | F31: =IF(OR(E31=0,E31="dis",E31="",E31=" ", E31="nvh"),"",1) | H31: 8 | J31: =IF(I31=""," ",HLOOKUP(K31,'women dec'!$C$1:$Q$37,6,FALSE)) | K31: =VLOOKUP(I31,$S$4:$T$35,2,FALSE) -> #N/A | M31: =IF(OR(L31=0,L31="dis",L31="",L31=" ", L31="nvh"),"",1) | P31: 22x | Q31: B & R | S31: 72x | T31: B & R
A32: ='Men dec.'!A7 -> M35 100m | H32: ='women dec'!A7 -> W35 100m | P32: 23x | Q32: Droitwich & KSAC | S32: 73x | T32: Droitwich & KSAC
A33: Position | B33: Number | C33: Name | D33: Club | E33: Performance | F33: Points | H33: Position | I33: Number | J33: Name | K33: Club | L33: Performance | M33: Points | P33: 24x | Q33: Droitwich & KSAC | S33: 74x | T33: Droitwich & KSAC
A34: 1 | B34: 21 | C34: =IF(B34=""," ",HLOOKUP(D34,'Men dec.'!$C$1:$Q$28,7,FALSE)) -> Martin Aspley-Davis | D34: =VLOOKUP(B34,$P$4:$Q$35,2,FALSE) -> B & R | E34: 12.3 | F34: =IF(OR(E34=0,E34="dis",E34="",E34=" ", E34="nvh"),"",8) -> 8 | G34: 12 | H34: 1 | I34: 61 | J34: =IF(I34=""," ",HLOOKUP(K34,'women dec'!$C$1:$Q$37,7,FALSE)) -> Cat Goulder- Davies | K34: =VLOOKUP(I34,$S$4:$T$35,2,FALSE) -> Worcester | L34: 14.1 | M34: =IF(OR(L34=0,L34="dis",L34="",L34=" ", L34="nvh"),"",8) -> 8 | P34: 35x | Q34: MMAC | S34: 85x | T34: MMAC
A35: 2 | B35: 13 | C35: =IF(B35=""," ",HLOOKUP(D35,'Men dec.'!$C$1:$Q$28,7,FALSE)) -> Hervin Prince | D35: =VLOOKUP(B35,$P$4:$Q$35,2,FALSE) -> Birchfield | E35: 13.2 | F35: =IF(OR(E35=0,E35="dis",E35="",E35=" ", E35="nvh"),"",7) -> 7 | H35: 2 | I35: 63 | J35: =IF(I35=""," ",HLOOKUP(K35,'women dec'!$C$1:$Q$37,7,FALSE)) -> Julie Rogers | K35: =VLOOKUP(I35,$S$4:$T$35,2,FALSE) -> Birchfield | L35: 14.8 | M35: =IF(OR(L35=0,L35="dis",L35="",L35=" ", L35="nvh"),"",7) -> 7 | P35: 36x | Q35: MMAC | S35: 86x | T35: MMAC
A36: 3 | B36: 3 | C36: =IF(B36=""," ",HLOOKUP(D36,'Men dec.'!$C$1:$Q$28,7,FALSE)) -> Richard Westwood | D36: =VLOOKUP(B36,$P$4:$Q$35,2,FALSE) -> DASH | E36: 13.6 | F36: =IF(OR(E36=0,E36="dis",E36="",E36=" ", E36="nvh"),"",6) -> 6 | H36: 3 | I36: 151 | J36: =IF(I36=""," ",HLOOKUP(K36,'women dec'!$C$1:$Q$37,7,FALSE)) -> Megan Harris | K36: =VLOOKUP(I36,$S$4:$T$35,2,FALSE) -> Sparkhill | L36: 15.7 | M36: =IF(OR(L36=0,L36="dis",L36="",L36=" ", L36="nvh"),"",6) -> 6
A37: 4 | B37: 11 | C37: =IF(B37=""," ",HLOOKUP(D37,'Men dec.'!$C$1:$Q$28,7,FALSE)) -> Edward Gerrard | D37: =VLOOKUP(B37,$P$4:$Q$35,2,FALSE) -> Worcester | E37: 14.4 | F37: =IF(OR(E37=0,E37="dis",E37="",E37=" ", E37="nvh"),"",5) -> 5 | H37: 4 | I37: 71 | J37: =IF(I37=""," ",HLOOKUP(K37,'women dec'!$C$1:$Q$37,7,FALSE)) -> Yasmine Al-Daftary | K37: =VLOOKUP(I37,$S$4:$T$35,2,FALSE) -> B & R | L37: 16.1 | M37: =IF(OR(L37=0,L37="dis",L37="",L37=" ", L37="nvh"),"",5) -> 5
A38: 5 | B38: 9 | C38: =IF(B38=""," ",HLOOKUP(D38,'Men dec.'!$C$1:$Q$28,7,FALSE)) -> Matt Allen | D38: =VLOOKUP(B38,$P$4:$Q$35,2,FALSE) -> Halesowen | E38: 16.7 | F38: =IF(OR(E38=0,E38="dis",E38="",E38=" ", E38="nvh"),"",4) -> 4 | H38: 5 | I38: 59 | J38: =IF(I38=""," ",HLOOKUP(K38,'women dec'!$C$1:$Q$37,7,FALSE)) -> Sally Spencer | K38: =VLOOKUP(I38,$S$4:$T$35,2,FALSE) -> Halesowen | L38: 16.3 | M38: =IF(OR(L38=0,L38="dis",L38="",L38=" ", L38="nvh"),"",4) -> 4
A39: 6 | C39: =IF(B39=""," ",HLOOKUP(D39,'Men dec.'!$C$1:$Q$28,7,FALSE)) | D39: =VLOOKUP(B39,$P$4:$Q$35,2,FALSE) -> #N/A | E39: 0 | F39: =IF(OR(E39=0,E39="dis",E39="",E39=" ", E39="nvh"),"",3) | H39: 6 | J39: =IF(I39=""," ",HLOOKUP(K39,'women dec'!$C$1:$Q$37,7,FALSE)) | K39: =VLOOKUP(I39,$S$4:$T$35,2,FALSE) -> #N/A | M39: =IF(OR(L39=0,L39="dis",L39="",L39=" ", L39="nvh"),"",3)
A40: 7 | C40: =IF(B40=""," ",HLOOKUP(D40,'Men dec.'!$C$1:$Q$28,7,FALSE)) | D40: =VLOOKUP(B40,$P$4:$Q$35,2,FALSE) -> #N/A | E40: 0 | F40: =IF(OR(E40=0,E40="dis",E40="",E40=" ", E40="nvh"),"",2) | H40: 7 | J40: =IF(I40=""," ",HLOOKUP(K40,'women dec'!$C$1:$Q$37,7,FALSE)) | K40: =VLOOKUP(I40,$S$4:$T$35,2,FALSE) -> #N/A | M40: =IF(OR(L40=0,L40="dis",L40="",L40=" ", L40="nvh"),"",2)
A41: 8 | C41: =IF(B41=""," ",HLOOKUP(D41,'Men dec.'!$C$1:$Q$28,7,FALSE)) | D41: =VLOOKUP(B41,$P$4:$Q$35,2,FALSE) -> #N/A | E41: 0 | F41: =IF(OR(E41=0,E41="dis",E41="",E41=" ", E41="nvh"),"",1) | H41: 8 | J41: =IF(I41=""," ",HLOOKUP(K41,'women dec'!$C$1:$Q$37,7,FALSE)) | K41: =VLOOKUP(I41,$S$4:$T$35,2,FALSE) -> #N/A | M41: =IF(OR(L41=0,L41="dis",L41="",L41=" ", L41="nvh"),"",1)
A42: ='Men dec.'!A8 -> M35 400m | H42: ='women dec'!A8 -> W35 400m
A43: Position | B43: Number | C43: Name | D43: Club | E43: Performance | F43: Points | H43: Position | I43: Number | J43: Name | K43: Club | L43: Performance | M43: Points
A44: 1 | B44: 9 | C44: =IF(B44=""," ",HLOOKUP(D44,'Men dec.'!$C$1:$Q$28,8,FALSE)) -> Mark Turner | D44: =VLOOKUP(B44,$P$4:$Q$35,2,FALSE) -> Halesowen | E44: 53 | F44: =IF(OR(E44=0,E44="dis",E44="",E44=" ", E44="nvh"),"",8) -> 8 | G44: 12 | H44: 1 | I44: 71 | J44: =IF(I44=""," ",HLOOKUP(K44,'women dec'!$C$1:$Q$37,8,FALSE)) -> Karen Riley | K44: =VLOOKUP(I44,$S$4:$T$35,2,FALSE) -> B & R | L44: 73 | M44: =IF(OR(L44=0,L44="dis",L44="",L44=" ", L44="nvh"),"",8) -> 8
A45: 2 | B45: 21 | C45: =IF(B45=""," ",HLOOKUP(D45,'Men dec.'!$C$1:$Q$28,8,FALSE)) -> Martin Aspley-Davis | D45: =VLOOKUP(B45,$P$4:$Q$35,2,FALSE) -> B & R | E45: 53.8 | F45: =IF(OR(E45=0,E45="dis",E45="",E45=" ", E45="nvh"),"",7) -> 7 | H45: 2 | I45: 59 | J45: =IF(I45=""," ",HLOOKUP(K45,'women dec'!$C$1:$Q$37,8,FALSE)) -> Sam Morton | K45: =VLOOKUP(I45,$S$4:$T$35,2,FALSE) -> Halesowen | L45: 73 | M45: =IF(OR(L45=0,L45="dis",L45="",L45=" ", L45="nvh"),"",7) -> 7
A46: 3 | B46: 11 | C46: =IF(B46=""," ",HLOOKUP(D46,'Men dec.'!$C$1:$Q$28,8,FALSE)) -> Dave Hall | D46: =VLOOKUP(B46,$P$4:$Q$35,2,FALSE) -> Worcester | E46: 62 | F46: =IF(OR(E46=0,E46="dis",E46="",E46=" ", E46="nvh"),"",6) -> 6 | H46: 3 | I46: 61 | J46: =IF(I46=""," ",HLOOKUP(K46,'women dec'!$C$1:$Q$37,8,FALSE)) -> Becky Freeman | K46: =VLOOKUP(I46,$S$4:$T$35,2,FALSE) -> Worcester | L46: 74 | M46: =IF(OR(L46=0,L46="dis",L46="",L46=" ", L46="nvh"),"",6) -> 6
A47: 4 | B47: 13 | C47: =IF(B47=""," ",HLOOKUP(D47,'Men dec.'!$C$1:$Q$28,8,FALSE)) -> Jag Ubhoo | D47: =VLOOKUP(B47,$P$4:$Q$35,2,FALSE) -> Birchfield | E47: 62.8 | F47: =IF(OR(E47=0,E47="dis",E47="",E47=" ", E47="nvh"),"",5) -> 5 | H47: 4 | I47: 151 | J47: =IF(I47=""," ",HLOOKUP(K47,'women dec'!$C$1:$Q$37,8,FALSE)) -> Stella Denniss | K47: =VLOOKUP(I47,$S$4:$T$35,2,FALSE) -> Sparkhill | L47: 81 | M47: =IF(OR(L47=0,L47="dis",L47="",L47=" ", L47="nvh"),"",5) -> 5
A48: 5 | B48: 1 | C48: =IF(B48=""," ",HLOOKUP(D48,'Men dec.'!$C$1:$Q$28,8,FALSE)) -> Rob Mills | D48: =VLOOKUP(B48,$P$4:$Q$35,2,FALSE) -> Sparkhill | E48: 72.5 | F48: =IF(OR(E48=0,E48="dis",E48="",E48=" ", E48="nvh"),"",4) -> 4 | H48: 5 | J48: =IF(I48=""," ",HLOOKUP(K48,'women dec'!$C$1:$Q$37,8,FALSE)) | K48: =VLOOKUP(I48,$S$4:$T$35,2,FALSE) -> #N/A | M48: =IF(OR(L48=0,L48="dis",L48="",L48=" ", L48="nvh"),"",4)
A49: 6 | C49: =IF(B49=""," ",HLOOKUP(D49,'Men dec.'!$C$1:$Q$28,8,FALSE)) | D49: =VLOOKUP(B49,$P$4:$Q$35,2,FALSE) -> #N/A | F49: =IF(OR(E49=0,E49="dis",E49="",E49=" ", E49="nvh"),"",3) | H49: 6 | J49: =IF(I49=""," ",HLOOKUP(K49,'women dec'!$C$1:$Q$37,8,FALSE)) | K49: =VLOOKUP(I49,$S$4:$T$35,2,FALSE) -> #N/A | M49: =IF(OR(L49=0,L49="dis",L49="",L49=" ", L49="nvh"),"",3)
A50: 7 | C50: =IF(B50=""," ",HLOOKUP(D50,'Men dec.'!$C$1:$Q$28,8,FALSE)) | D50: =VLOOKUP(B50,$P$4:$Q$35,2,FALSE) -> #N/A | F50: =IF(OR(E50=0,E50="dis",E50="",E50=" ", E50="nvh"),"",2) | H50: 7 | J50: =IF(I50=""," ",HLOOKUP(K50,'women dec'!$C$1:$Q$37,8,FALSE)) | K50: =VLOOKUP(I50,$S$4:$T$35,2,FALSE) -> #N/A | M50: =IF(OR(L50=0,L50="dis",L50="",L50=" ", L50="nvh"),"",2)
A51: 8 | C51: =IF(B51=""," ",HLOOKUP(D51,'Men dec.'!$C$1:$Q$28,8,FALSE)) | D51: =VLOOKUP(B51,$P$4:$Q$35,2,FALSE) -> #N/A | F51: =IF(OR(E51=0,E51="dis",E51="",E51=" ", E51="nvh"),"",1) | H51: 8 | J51: =IF(I51=""," ",HLOOKUP(K51,'women dec'!$C$1:$Q$37,8,FALSE)) | K51: =VLOOKUP(I51,$S$4:$T$35,2,FALSE) -> #N/A | M51: =IF(OR(L51=0,L51="dis",L51="",L51=" ", L51="nvh"),"",1)
A52: ='Men dec.'!A9 -> M40 400m | H52: ='women dec'!A9 -> W40 400m
A53: Position | B53: Number | C53: Name | D53: Club | E53: Performance | F53: Points | H53: Position | I53: Number | J53: Name | K53: Club | L53: Performance | M53: Points
A54: 1 | B54: 24 | C54: =IF(B54=""," ",HLOOKUP(D54,'Men dec.'!$C$1:$Q$28,9,FALSE)) -> Adrian James | D54: =VLOOKUP(B54,$P$4:$Q$35,2,FALSE) -> Droitwich & KSAC | E54: 57.8 | F54: =IF(OR(E54=0,E54="dis",E54="",E54=" ", E54="nvh"),"",8) -> 8 | G54: 12 | H54: 1 | I54: 64 | J54: =IF(I54=""," ",HLOOKUP(K54,'women dec'!$C$1:$Q$37,9,FALSE)) -> Julie Rogers | K54: =VLOOKUP(I54,$S$4:$T$35,2,FALSE) -> Birchfield | L54: 67.7 | M54: =IF(OR(L54=0,L54="dis",L54="",L54=" ", L54="nvh"),"",8) -> 8
A55: 2 | B55: 2 | C55: =IF(B55=""," ",HLOOKUP(D55,'Men dec.'!$C$1:$Q$28,9,FALSE)) -> David Hanson | D55: =VLOOKUP(B55,$P$4:$Q$35,2,FALSE) -> Sparkhill | E55: 59 | F55: =IF(OR(E55=0,E55="dis",E55="",E55=" ", E55="nvh"),"",7) -> 7 | H55: 2 | I55: 60 | J55: =IF(I55=""," ",HLOOKUP(K55,'women dec'!$C$1:$Q$37,9,FALSE)) -> Julie Dale | K55: =VLOOKUP(I55,$S$4:$T$35,2,FALSE) -> Halesowen | L55: 75.6 | M55: =IF(OR(L55=0,L55="dis",L55="",L55=" ", L55="nvh"),"",7) -> 7
A56: 3 | B56: 22 | C56: =IF(B56=""," ",HLOOKUP(D56,'Men dec.'!$C$1:$Q$28,9,FALSE)) -> Calvin Scoltock | D56: =VLOOKUP(B56,$P$4:$Q$35,2,FALSE) -> B & R | E56: 59.6 | F56: =IF(OR(E56=0,E56="dis",E56="",E56=" ", E56="nvh"),"",6) -> 6 | H56: 3 | I56: 72 | J56: =IF(I56=""," ",HLOOKUP(K56,'women dec'!$C$1:$Q$37,9,FALSE)) -> Debbie Ricci | K56: =VLOOKUP(I56,$S$4:$T$35,2,FALSE) -> B & R | L56: 77.8 | M56: =IF(OR(L56=0,L56="dis",L56="",L56=" ", L56="nvh"),"",6) -> 6
A57: 4 | B57: 10 | C57: =IF(B57=""," ",HLOOKUP(D57,'Men dec.'!$C$1:$Q$28,9,FALSE)) -> Mike Neylon | D57: =VLOOKUP(B57,$P$4:$Q$35,2,FALSE) -> Halesowen | E57: 59.8 | F57: =IF(OR(E57=0,E57="dis",E57="",E57=" ", E57="nvh"),"",5) -> 5 | H57: 4 | I57: 62 | J57: =IF(I57=""," ",HLOOKUP(K57,'women dec'!$C$1:$Q$37,9,FALSE)) -> Tracy Miles | K57: =VLOOKUP(I57,$S$4:$T$35,2,FALSE) -> Worcester | L57: 81.4 | M57: =IF(OR(L57=0,L57="dis",L57="",L57=" ", L57="nvh"),"",5) -> 5
A58: 5 | B58: 14 | C58: =IF(B58=""," ",HLOOKUP(D58,'Men dec.'!$C$1:$Q$28,9,FALSE)) -> Connolly Meagher | D58: =VLOOKUP(B58,$P$4:$Q$35,2,FALSE) -> Birchfield | E58: 61.5 | F58: =IF(OR(E58=0,E58="dis",E58="",E58=" ", E58="nvh"),"",4) -> 4 | H58: 5 | I58: 152 | J58: =IF(I58=""," ",HLOOKUP(K58,'women dec'!$C$1:$Q$37,9,FALSE)) -> Manisha Parmar | K58: =VLOOKUP(I58,$S$4:$T$35,2,FALSE) -> Sparkhill | L58: 102.1 | M58: =IF(OR(L58=0,L58="dis",L58="",L58=" ", L58="nvh"),"",4) -> 4
A59: 6 | B59: 12 | C59: =IF(B59=""," ",HLOOKUP(D59,'Men dec.'!$C$1:$Q$28,9,FALSE)) -> Nick Hitchens | D59: =VLOOKUP(B59,$P$4:$Q$35,2,FALSE) -> Worcester | E59: 62.2 | F59: =IF(OR(E59=0,E59="dis",E59="",E59=" ", E59="nvh"),"",3) -> 3 | H59: 6 | J59: =IF(I59=""," ",HLOOKUP(K59,'women dec'!$C$1:$Q$37,9,FALSE)) | K59: =VLOOKUP(I59,$S$4:$T$35,2,FALSE) -> #N/A | M59: =IF(OR(L59=0,L59="dis",L59="",L59=" ", L59="nvh"),"",3)
A60: 7 | B60: 36 | C60: =IF(B60=""," ",HLOOKUP(D60,'Men dec.'!$C$1:$Q$28,9,FALSE)) -> Michael Elwell | D60: =VLOOKUP(B60,$P$4:$Q$35,2,FALSE) -> MMAC | E60: 83.9 | F60: =IF(OR(E60=0,E60="dis",E60="",E60=" ", E60="nvh"),"",2) -> 2 | H60: 7 | J60: =IF(I60=""," ",HLOOKUP(K60,'women dec'!$C$1:$Q$37,9,FALSE)) | K60: =VLOOKUP(I60,$S$4:$T$35,2,FALSE) -> #N/A | M60: =IF(OR(L60=0,L60="dis",L60="",L60=" ", L60="nvh"),"",2)
A61: 8 | C61: =IF(B61=""," ",HLOOKUP(D61,'Men dec.'!$C$1:$Q$28,9,FALSE)) | D61: =VLOOKUP(B61,$P$4:$Q$35,2,FALSE) -> #N/A | F61: =IF(OR(E61=0,E61="dis",E61="",E61=" ", E61="nvh"),"",1) | H61: 8 | J61: =IF(I61=""," ",HLOOKUP(K61,'women dec'!$C$1:$Q$37,9,FALSE)) | K61: =VLOOKUP(I61,$S$4:$T$35,2,FALSE) -> #N/A | M61: =IF(OR(L61=0,L61="dis",L61="",L61=" ", L61="nvh"),"",1)
A62: ='Men dec.'!A10 -> M50 400m | H62: ='women dec'!A10 -> W60 400m
A63: Position | B63: Number | C63: Name | D63: Club | E63: Performance | F63: Points | H63: Position | I63: Number | J63: Name | K63: Club | L63: Performance | M63: Points
A64: 1 | B64: 11 | C64: =IF(B64=""," ",HLOOKUP(D64,'Men dec.'!$C$1:$Q$28,10,FALSE)) -> Richard White | D64: =VLOOKUP(B64,$P$4:$Q$35,2,FALSE) -> Worcester | E64: 58.3 | F64: =IF(OR(E64=0,E64="dis",E64="",E64=" ", E64="nvh"),"",8) -> 8 | G64: 12 | H64: 1 | I64: 54 | J64: =IF(I64=""," ",HLOOKUP(K64,'women dec'!$C$1:$Q$37,10,FALSE)) -> Nancy Hitchhough | K64: =VLOOKUP(I64,$S$4:$T$35,2,FALSE) -> DASH | L64: 76.3 | M64: =IF(OR(L64=0,L64="dis",L64="",L64=" ", L64="nvh"),"",8) -> 8
A65: 2 | B65: 1 | C65: =IF(B65=""," ",HLOOKUP(D65,'Men dec.'!$C$1:$Q$28,10,FALSE)) -> Simon Willington | D65: =VLOOKUP(B65,$P$4:$Q$35,2,FALSE) -> Sparkhill | E65: 72.7 | F65: =IF(OR(E65=0,E65="dis",E65="",E65=" ", E65="nvh"),"",7) -> 7 | H65: 2 | I65: 64 | J65: =IF(I65=""," ",HLOOKUP(K65,'women dec'!$C$1:$Q$37,10,FALSE)) -> Viv Bonner | K65: =VLOOKUP(I65,$S$4:$T$35,2,FALSE) -> Birchfield | L65: 83.1 | M65: =IF(OR(L65=0,L65="dis",L65="",L65=" ", L65="nvh"),"",7) -> 7
A66: 3 | B66: 21 | C66: =IF(B66=""," ",HLOOKUP(D66,'Men dec.'!$C$1:$Q$28,10,FALSE)) -> David Cleverley | D66: =VLOOKUP(B66,$P$4:$Q$35,2,FALSE) -> B & R | E66: 78.9 | F66: =IF(OR(E66=0,E66="dis",E66="",E66=" ", E66="nvh"),"",6) -> 6 | H66: 3 | I66: 62 | J66: =IF(I66=""," ",HLOOKUP(K66,'women dec'!$C$1:$Q$37,10,FALSE)) -> Rebecca Hambrook | K66: =VLOOKUP(I66,$S$4:$T$35,2,FALSE) -> Worcester | L66: 95.4 | M66: =IF(OR(L66=0,L66="dis",L66="",L66=" ", L66="nvh"),"",6) -> 6
A67: 4 | B67: 35 | C67: =IF(B67=""," ",HLOOKUP(D67,'Men dec.'!$C$1:$Q$28,10,FALSE)) -> Robin MacDonald | D67: =VLOOKUP(B67,$P$4:$Q$35,2,FALSE) -> MMAC | E67: 82.7 | F67: =IF(OR(E67=0,E67="dis",E67="",E67=" ", E67="nvh"),"",5) -> 5 | H67: 4 | I67: 152 | J67: =IF(I67=""," ",HLOOKUP(K67,'women dec'!$C$1:$Q$37,10,FALSE)) -> Gill Millicheap | K67: =VLOOKUP(I67,$S$4:$T$35,2,FALSE) -> Sparkhill | L67: 95.9 | M67: =IF(OR(L67=0,L67="dis",L67="",L67=" ", L67="nvh"),"",5) -> 5
A68: 5 | B68: 13 | C68: =IF(B68=""," ",HLOOKUP(D68,'Men dec.'!$C$1:$Q$28,10,FALSE)) -> Wilf Morgan | D68: =VLOOKUP(B68,$P$4:$Q$35,2,FALSE) -> Birchfield | E68: 88.3 | F68: =IF(OR(E68=0,E68="dis",E68="",E68=" ", E68="nvh"),"",4) -> 4 | H68: 5 | I68: 72 | J68: =IF(I68=""," ",HLOOKUP(K68,'women dec'!$C$1:$Q$37,10,FALSE)) -> Rita Brownlie | K68: =VLOOKUP(I68,$S$4:$T$35,2,FALSE) -> B & R | L68: 101 | M68: =IF(OR(L68=0,L68="dis",L68="",L68=" ", L68="nvh"),"",4) -> 4
A69: 6 | C69: =IF(B69=""," ",HLOOKUP(D69,'Men dec.'!$C$1:$Q$28,10,FALSE)) | D69: =VLOOKUP(B69,$P$4:$Q$35,2,FALSE) -> #N/A | F69: =IF(OR(E69=0,E69="dis",E69="",E69=" ", E69="nvh"),"",3) | H69: 6 | J69: =IF(I69=""," ",HLOOKUP(K69,'women dec'!$C$1:$Q$37,10,FALSE)) | K69: =VLOOKUP(I69,$S$4:$T$35,2,FALSE) -> #N/A | M69: =IF(OR(L69=0,L69="dis",L69="",L69=" ", L69="nvh"),"",3)
A70: 7 | C70: =IF(B70=""," ",HLOOKUP(D70,'Men dec.'!$C$1:$Q$28,10,FALSE)) | D70: =VLOOKUP(B70,$P$4:$Q$35,2,FALSE) -> #N/A | F70: =IF(OR(E70=0,E70="dis",E70="",E70=" ", E70="nvh"),"",2) | H70: 7 | J70: =IF(I70=""," ",HLOOKUP(K70,'women dec'!$C$1:$Q$37,10,FALSE)) | K70: =VLOOKUP(I70,$S$4:$T$35,2,FALSE) -> #N/A | M70: =IF(OR(L70=0,L70="dis",L70="",L70=" ", L70="nvh"),"",2)
A71: 8 | C71: =IF(B71=""," ",HLOOKUP(D71,'Men dec.'!$C$1:$Q$28,10,FALSE)) | D71: =VLOOKUP(B71,$P$4:$Q$35,2,FALSE) -> #N/A | F71: =IF(OR(E71=0,E71="dis",E71="",E71=" ", E71="nvh"),"",1) | H71: 8 | J71: =IF(I71=""," ",HLOOKUP(K71,'women dec'!$C$1:$Q$37,10,FALSE)) | K71: =VLOOKUP(I71,$S$4:$T$35,2,FALSE) -> #N/A | M71: =IF(OR(L71=0,L71="dis",L71="",L71=" ", L71="nvh"),"",1)
A72: ='Men dec.'!A11 -> M40 2k Walk | H72: ='women dec'!A11 -> W35 2k Walk
A73: Position | B73: Number | C73: Name | D73: Club | E73: Performance | F73: Points | H73: Position | I73: Number | J73: Name | K73: Club | L73: Performance | M73: Points
A74: 1 | B74: 10 | C74: =IF(B74=""," ",HLOOKUP(D74,'Men dec.'!$C$1:$Q$28,11,FALSE)) -> Kevin Monk | D74: =VLOOKUP(B74,$P$4:$Q$35,2,FALSE) -> Halesowen | E74: 10.24.5 | F74: =IF(OR(E74=0,E74="dis",E74="",E74=" ", E74="nvh"),"",8) -> 8 | G74: 12 | H74: 1 | I74: 59 | J74: =IF(I74=""," ",HLOOKUP(K74,'women dec'!$C$1:$Q$37,11,FALSE)) -> Lynn Bellfield | K74: =VLOOKUP(I74,$S$4:$T$35,2,FALSE) -> Halesowen | L74: 13.32.0 | M74: =IF(OR(L74=0,L74="dis",L74="",L74=" ", L74="nvh"),"",8) -> 8
A75: 2 | B75: 14 | C75: =IF(B75=""," ",HLOOKUP(D75,'Men dec.'!$C$1:$Q$28,11,FALSE)) -> John Constandinou | D75: =VLOOKUP(B75,$P$4:$Q$35,2,FALSE) -> Birchfield | E75: 10.56.4 | F75: =IF(OR(E75=0,E75="dis",E75="",E75=" ", E75="nvh"),"",7) -> 7 | H75: 2 | I75: 71 | J75: =IF(I75=""," ",HLOOKUP(K75,'women dec'!$C$1:$Q$37,11,FALSE)) -> Yasmine Al-Daftary | K75: =VLOOKUP(I75,$S$4:$T$35,2,FALSE) -> B & R | L75: 15.31.9 | M75: =IF(OR(L75=0,L75="dis",L75="",L75=" ", L75="nvh"),"",7) -> 7
A76: 3 | B76: 22 | C76: =IF(B76=""," ",HLOOKUP(D76,'Men dec.'!$C$1:$Q$28,11,FALSE)) -> Calvin Scoltock | D76: =VLOOKUP(B76,$P$4:$Q$35,2,FALSE) -> B & R | E76: 11.48.0 | F76: =IF(OR(E76=0,E76="dis",E76="",E76=" ", E76="nvh"),"",6) -> 6 | H76: 3 | I76: 151 | J76: =IF(I76=""," ",HLOOKUP(K76,'women dec'!$C$1:$Q$37,11,FALSE)) -> Megan Harris | K76: =VLOOKUP(I76,$S$4:$T$35,2,FALSE) -> Sparkhill | L76: 15.32.3 | M76: =IF(OR(L76=0,L76="dis",L76="",L76=" ", L76="nvh"),"",6) -> 6
A77: 4 | B77: 12 | C77: =IF(B77=""," ",HLOOKUP(D77,'Men dec.'!$C$1:$Q$28,11,FALSE)) -> Mark Palethorpe | D77: =VLOOKUP(B77,$P$4:$Q$35,2,FALSE) -> Worcester | E77: 12.22.2 | F77: =IF(OR(E77=0,E77="dis",E77="",E77=" ", E77="nvh"),"",5) -> 5 | H77: 4 | J77: =IF(I77=""," ",HLOOKUP(K77,'women dec'!$C$1:$Q$37,11,FALSE)) | K77: =VLOOKUP(I77,$S$4:$T$35,2,FALSE) -> #N/A | M77: =IF(OR(L77=0,L77="dis",L77="",L77=" ", L77="nvh"),"",5)
A78: 5 | B78: 4 | C78: =IF(B78=""," ",HLOOKUP(D78,'Men dec.'!$C$1:$Q$28,11,FALSE)) -> Mike Horton | D78: =VLOOKUP(B78,$P$4:$Q$35,2,FALSE) -> DASH | E78: 13.29.0 | F78: =IF(OR(E78=0,E78="dis",E78="",E78=" ", E78="nvh"),"",4) -> 4 | H78: 5 | J78: =IF(I78=""," ",HLOOKUP(K78,'women dec'!$C$1:$Q$37,11,FALSE)) | K78: =VLOOKUP(I78,$S$4:$T$35,2,FALSE) -> #N/A | M78: =IF(OR(L78=0,L78="dis",L78="",L78=" ", L78="nvh"),"",4)
A79: 6 | B79: 2 | C79: =IF(B79=""," ",HLOOKUP(D79,'Men dec.'!$C$1:$Q$28,11,FALSE)) -> Martin Millicheap | D79: =VLOOKUP(B79,$P$4:$Q$35,2,FALSE) -> Sparkhill | E79: 14.33.7 | F79: =IF(OR(E79=0,E79="dis",E79="",E79=" ", E79="nvh"),"",3) -> 3 | H79: 6 | J79: =IF(I79=""," ",HLOOKUP(K79,'women dec'!$C$1:$Q$37,11,FALSE)) | K79: =VLOOKUP(I79,$S$4:$T$35,2,FALSE) -> #N/A | M79: =IF(OR(L79=0,L79="dis",L79="",L79=" ", L79="nvh"),"",3)
A80: 7 | C80: =IF(B80=""," ",HLOOKUP(D80,'Men dec.'!$C$1:$Q$28,11,FALSE)) | D80: =VLOOKUP(B80,$P$4:$Q$35,2,FALSE) -> #N/A | F80: =IF(OR(E80=0,E80="dis",E80="",E80=" ", E80="nvh"),"",2) | H80: 7 | J80: =IF(I80=""," ",HLOOKUP(K80,'women dec'!$C$1:$Q$37,11,FALSE)) | K80: =VLOOKUP(I80,$S$4:$T$35,2,FALSE) -> #N/A | M80: =IF(OR(L80=0,L80="dis",L80="",L80=" ", L80="nvh"),"",2)
A81: 8 | C81: =IF(B81=""," ",HLOOKUP(D81,'Men dec.'!$C$1:$Q$28,11,FALSE)) | D81: =VLOOKUP(B81,$P$4:$Q$35,2,FALSE) -> #N/A | F81: =IF(OR(E81=0,E81="dis",E81="",E81=" ", E81="nvh"),"",1) | H81: 8 | J81: =IF(I81=""," ",HLOOKUP(K81,'women dec'!$C$1:$Q$37,11,FALSE)) | K81: =VLOOKUP(I81,$S$4:$T$35,2,FALSE) -> #N/A | M81: =IF(OR(L81=0,L81="dis",L81="",L81=" ", L81="nvh"),"",1)
A82: ='Men dec.'!A12 -> M60 2k Walk | H82: ='women dec'!A12 -> W40 2k Walk
A83: Position | B83: Number | C83: Name | D83: Club | E83: Performance | F83: Points | H83: Position | I83: Number | J83: Name | K83: Club | L83: Performance | M83: Points
A84: 1 | B84: 14 | C84: =IF(B84=""," ",HLOOKUP(D84,'Men dec.'!$C$1:$Q$28,12,FALSE)) -> Peter Boszko | D84: =VLOOKUP(B84,$P$4:$Q$35,2,FALSE) -> Birchfield | E84: 11.00.5 | F84: =IF(OR(E84=0,E84="dis",E84="",E84=" ", E84="nvh"),"",8) -> 8 | G84: 12 | H84: 1 | I84: 62 | J84: =IF(I84=""," ",HLOOKUP(K84,'women dec'!$C$1:$Q$37,12,FALSE)) -> Wendy Bennett | K84: =VLOOKUP(I84,$S$4:$T$35,2,FALSE) -> Worcester | L84: 11.02.4 | M84: =IF(OR(L84=0,L84="dis",L84="",L84=" ", L84="nvh"),"",8) -> 8
A85: 2 | B85: 4 | C85: =IF(B85=""," ",HLOOKUP(D85,'Men dec.'!$C$1:$Q$28,12,FALSE)) -> Glyn Jones | D85: =VLOOKUP(B85,$P$4:$Q$35,2,FALSE) -> DASH | E85: 11.59.5 | F85: =IF(OR(E85=0,E85="dis",E85="",E85=" ", E85="nvh"),"",7) -> 7 | H85: 2 | I85: 60 | J85: =IF(I85=""," ",HLOOKUP(K85,'women dec'!$C$1:$Q$37,12,FALSE)) -> Julie Bellfield | K85: =VLOOKUP(I85,$S$4:$T$35,2,FALSE) -> Halesowen | L85: 12.18.7 | M85: =IF(OR(L85=0,L85="dis",L85="",L85=" ", L85="nvh"),"",7) -> 7
A86: 3 | B86: 2 | C86: =IF(B86=""," ",HLOOKUP(D86,'Men dec.'!$C$1:$Q$28,12,FALSE)) -> David Winter | D86: =VLOOKUP(B86,$P$4:$Q$35,2,FALSE) -> Sparkhill | E86: 12.08.6 | F86: =IF(OR(E86=0,E86="dis",E86="",E86=" ", E86="nvh"),"",6) -> 6 | H86: 3 | I86: 64 | J86: =IF(I86=""," ",HLOOKUP(K86,'women dec'!$C$1:$Q$37,12,FALSE)) -> Zita McDonald | K86: =VLOOKUP(I86,$S$4:$T$35,2,FALSE) -> Birchfield | L86: 12.48.2 | M86: =IF(OR(L86=0,L86="dis",L86="",L86=" ", L86="nvh"),"",6) -> 6
A87: 4 | B87: 21 | C87: =IF(B87=""," ",HLOOKUP(D87,'Men dec.'!$C$1:$Q$28,12,FALSE)) -> Len Quartly | D87: =VLOOKUP(B87,$P$4:$Q$35,2,FALSE) -> B & R | E87: 12.15.1 | F87: =IF(OR(E87=0,E87="dis",E87="",E87=" ", E87="nvh"),"",5) -> 5 | H87: 4 | I87: 152 | J87: =IF(I87=""," ",HLOOKUP(K87,'women dec'!$C$1:$Q$37,12,FALSE)) -> Hilary Mann | K87: =VLOOKUP(I87,$S$4:$T$35,2,FALSE) -> Sparkhill | L87: 13.11.0 | M87: =IF(OR(L87=0,L87="dis",L87="",L87=" ", L87="nvh"),"",5) -> 5
A88: 5 | B88: 12 | C88: =IF(B88=""," ",HLOOKUP(D88,'Men dec.'!$C$1:$Q$28,12,FALSE)) -> Les Scrivens | D88: =VLOOKUP(B88,$P$4:$Q$35,2,FALSE) -> Worcester | E88: 12.55.8 | F88: =IF(OR(E88=0,E88="dis",E88="",E88=" ", E88="nvh"),"",4) -> 4 | H88: 5 | J88: =IF(I88=""," ",HLOOKUP(K88,'women dec'!$C$1:$Q$37,12,FALSE)) | K88: =VLOOKUP(I88,$S$4:$T$35,2,FALSE) -> #N/A | M88: =IF(OR(L88=0,L88="dis",L88="",L88=" ", L88="nvh"),"",4)
A89: 6 | C89: =IF(B89=""," ",HLOOKUP(D89,'Men dec.'!$C$1:$Q$28,12,FALSE)) | D89: =VLOOKUP(B89,$P$4:$Q$35,2,FALSE) -> #N/A | F89: =IF(OR(E89=0,E89="dis",E89="",E89=" ", E89="nvh"),"",3) | H89: 6 | J89: =IF(I89=""," ",HLOOKUP(K89,'women dec'!$C$1:$Q$37,12,FALSE)) | K89: =VLOOKUP(I89,$S$4:$T$35,2,FALSE) -> #N/A | M89: =IF(OR(L89=0,L89="dis",L89="",L89=" ", L89="nvh"),"",3)
A90: 7 | C90: =IF(B90=""," ",HLOOKUP(D90,'Men dec.'!$C$1:$Q$28,12,FALSE)) | D90: =VLOOKUP(B90,$P$4:$Q$35,2,FALSE) -> #N/A | F90: =IF(OR(E90=0,E90="dis",E90="",E90=" ", E90="nvh"),"",2) | H90: 7 | J90: =IF(I90=""," ",HLOOKUP(K90,'women dec'!$C$1:$Q$37,12,FALSE)) | K90: =VLOOKUP(I90,$S$4:$T$35,2,FALSE) -> #N/A | M90: =IF(OR(L90=0,L90="dis",L90="",L90=" ", L90="nvh"),"",2)
A91: 8 | C91: =IF(B91=""," ",HLOOKUP(D91,'Men dec.'!$C$1:$Q$28,12,FALSE)) | D91: =VLOOKUP(B91,$P$4:$Q$35,2,FALSE) -> #N/A | F91: =IF(OR(E91=0,E91="dis",E91="",E91=" ", E91="nvh"),"",1) | H91: 8 | J91: =IF(I91=""," ",HLOOKUP(K91,'women dec'!$C$1:$Q$37,12,FALSE)) | K91: =VLOOKUP(I91,$S$4:$T$35,2,FALSE) -> #N/A | M91: =IF(OR(L91=0,L91="dis",L91="",L91=" ", L91="nvh"),"",1)
A92: ='Men dec.'!A13 -> M35 1500m | H92: ='women dec'!A13 -> W35 1500m
A93: Position | B93: Number | C93: Name | D93: Club | E93: Performance | F93: Points | H93: Position | I93: Number | J93: Name | K93: Club | L93: Performance | M93: Points
A94: 1 | B94: 9 | C94: =IF(B94=""," ",HLOOKUP(D94,'Men dec.'!$C$1:$Q$28,13,FALSE)) -> Nic Hazelwood | D94: =VLOOKUP(B94,$P$4:$Q$35,2,FALSE) -> Halesowen | E94: 4.06.4 | F94: =IF(OR(E94=0,E94="dis",E94="",E94=" ", E94="nvh"),"",8) -> 8 | H94: 1 | I94: 61 | J94: =IF(I94=""," ",HLOOKUP(K94,'women dec'!$C$1:$Q$37,13,FALSE)) -> Becky Freeman | K94: =VLOOKUP(I94,$S$4:$T$35,2,FALSE) -> Worcester | L94: 5.35.1 | M94: =IF(OR(L94=0,L94="dis",L94="",L94=" ", L94="nvh"),"",8) -> 8
A95: 2 | B95: 11 | C95: =IF(B95=""," ",HLOOKUP(D95,'Men dec.'!$C$1:$Q$28,13,FALSE)) -> Dave Hall | D95: =VLOOKUP(B95,$P$4:$Q$35,2,FALSE) -> Worcester | E95: 4.19.0 | F95: =IF(OR(E95=0,E95="dis",E95="",E95=" ", E95="nvh"),"",7) -> 7 | H95: 2 | I95: 59 | J95: =IF(I95=""," ",HLOOKUP(K95,'women dec'!$C$1:$Q$37,13,FALSE)) -> Sam Morton | K95: =VLOOKUP(I95,$S$4:$T$35,2,FALSE) -> Halesowen | L95: 5.39.9 | M95: =IF(OR(L95=0,L95="dis",L95="",L95=" ", L95="nvh"),"",7) -> 7
A96: 3 | B96: 13 | C96: =IF(B96=""," ",HLOOKUP(D96,'Men dec.'!$C$1:$Q$28,13,FALSE)) -> Johnny Cullen | D96: =VLOOKUP(B96,$P$4:$Q$35,2,FALSE) -> Birchfield | E96: 4.27.6 | F96: =IF(OR(E96=0,E96="dis",E96="",E96=" ", E96="nvh"),"",6) -> 6 | H96: 3 | I96: 151 | J96: =IF(I96=""," ",HLOOKUP(K96,'women dec'!$C$1:$Q$37,13,FALSE)) -> Stella Denniss | K96: =VLOOKUP(I96,$S$4:$T$35,2,FALSE) -> Sparkhill | L96: 6.16.2 | M96: =IF(OR(L96=0,L96="dis",L96="",L96=" ", L96="nvh"),"",6) -> 6
A97: 4 | B97: 21 | C97: =IF(B97=""," ",HLOOKUP(D97,'Men dec.'!$C$1:$Q$28,13,FALSE)) -> Andy Freeman | D97: =VLOOKUP(B97,$P$4:$Q$35,2,FALSE) -> B & R | E97: 4.37.1 | F97: =IF(OR(E97=0,E97="dis",E97="",E97=" ", E97="nvh"),"",5) -> 5 | H97: 4 | J97: =IF(I97=""," ",HLOOKUP(K97,'women dec'!$C$1:$Q$37,13,FALSE)) | K97: =VLOOKUP(I97,$S$4:$T$35,2,FALSE) -> #N/A | M97: =IF(OR(L97=0,L97="dis",L97="",L97=" ", L97="nvh"),"",5)
A98: 5 | B98: 1 | C98: =IF(B98=""," ",HLOOKUP(D98,'Men dec.'!$C$1:$Q$28,13,FALSE)) -> Rob Mills | D98: =VLOOKUP(B98,$P$4:$Q$35,2,FALSE) -> Sparkhill | E98: 5.33.1 | F98: =IF(OR(E98=0,E98="dis",E98="",E98=" ", E98="nvh"),"",4) -> 4 | H98: 5 | J98: =IF(I98=""," ",HLOOKUP(K98,'women dec'!$C$1:$Q$37,13,FALSE)) | K98: =VLOOKUP(I98,$S$4:$T$35,2,FALSE) -> #N/A | M98: =IF(OR(L98=0,L98="dis",L98="",L98=" ", L98="nvh"),"",4)
A99: 6 | C99: =IF(B99=""," ",HLOOKUP(D99,'Men dec.'!$C$1:$Q$28,13,FALSE)) | D99: =VLOOKUP(B99,$P$4:$Q$35,2,FALSE) -> #N/A | F99: =IF(OR(E99=0,E99="dis",E99="",E99=" ", E99="nvh"),"",3) | H99: 6 | J99: =IF(I99=""," ",HLOOKUP(K99,'women dec'!$C$1:$Q$37,13,FALSE)) | K99: =VLOOKUP(I99,$S$4:$T$35,2,FALSE) -> #N/A | M99: =IF(OR(L99=0,L99="dis",L99="",L99=" ", L99="nvh"),"",3)
A100: 7 | C100: =IF(B100=""," ",HLOOKUP(D100,'Men dec.'!$C$1:$Q$28,13,FALSE)) | D100: =VLOOKUP(B100,$P$4:$Q$35,2,FALSE) -> #N/A | F100: =IF(OR(E100=0,E100="dis",E100="",E100=" ", E100="nvh"),"",2) | H100: 7 | J100: =IF(I100=""," ",HLOOKUP(K100,'women dec'!$C$1:$Q$37,13,FALSE)) | K100: =VLOOKUP(I100,$S$4:$T$35,2,FALSE) -> #N/A | M100: =IF(OR(L100=0,L100="dis",L100="",L100=" ", L100="nvh"),"",2)
...

Sheet Men
A1: EVENT | B1: Club:- | C1: ='Men dec.'!C1 -> Birchfield | E1: ='Men dec.'!E1 -> B & R | G1: ='Men dec.'!G1 -> Droitwich & KSAC | I1: ='Men dec.'!I1 -> DASH | K1: ='Men dec.'!K1 -> Halesowen | M1: ='Men dec.'!M1 -> Sparkhill | O1: ='Men dec.'!O1 -> Worcester | Q1: ='Men dec.'!Q1 -> MMAC
B2: Number | C2: ='Men dec.'!C2 -> 13 / 14 / A | D2: Pts | E2: ='Men dec.'!E2 -> 21 / 22 / N | F2: Pts | G2: ='Men dec.'!G2 -> 23 / 24 / O | H2: Pts | I2: ='Men dec.'!I2 -> 3 / 4 / C | J2: Pts | K2: ='Men dec.'!K2 -> 9 / 10 / P | L2: Pts | M2: ='Men dec.'!M2 -> 1 /2 / S | N2: Pts | O2: ='Men dec.'!O2 -> 11 / 12 / F | P2: Pts | Q2: ='Men dec.'!Q2 -> 35 / 36 / F | R2: Pts
A3: ='Men dec.'!A4 -> M60 100m | B3: Name | C3: =IF('Men dec.'!C4=0," ",'Men dec.'!C4) -> Robin Davies | D3: =IF((C4>0),VLOOKUP(C3,'Results input'!$C$4:$F$11,4,),"") -> 3 | E3: =IF('Men dec.'!E4=0," ",'Men dec.'!E4) -> Pete Mould | F3: =IF((E4>0),VLOOKUP(E3,'Results input'!$C$4:$F$11,4,),"") -> 8 | G3: =IF('Men dec.'!G4=0," ",'Men dec.'!G4) -> Tony Crocker | H3: =IF((G4>0),VLOOKUP(G3,'Results input'!$C$4:$F$11,4,),"") -> 6 | I3: =IF('Men dec.'!I4=0," ",'Men dec.'!I4) | J3: =IF((I4>0),VLOOKUP(I3,'Results input'!$C$4:$F$11,4,),"") | K3: =IF('Men dec.'!K4=0," ",'Men dec.'!K4) -> Les Woods | L3: =IF((K4>0),VLOOKUP(K3,'Results input'!$C$4:$F$11,4,),"") -> 5 | M3: =IF('Men dec.'!M4=0," ",'Men dec.'!M4) -> Bernie Wareing | N3: =IF((M4>0),VLOOKUP(M3,'Results input'!$C$4:$F$11,4,),"") -> 4 | O3: =IF('Men dec.'!O4=0," ",'Men dec.'!O4) -> Laurence Oldfield | P3: =IF((O4>0),VLOOKUP(O3,'Results input'!$C$4:$F$11,4,),"") -> 7 | Q3: =IF('Men dec.'!Q4=0," ",'Men dec.'!Q4) -> Michael Elwell | R3: =IF((Q4>0),VLOOKUP(Q3,'Results input'!$C$4:$F$11,4,),"") -> 2
B4: Perf. | C4: =IF(ISNA(VLOOKUP(C3,'Results input'!$C$4:$E$11,3,FALSE)),0,VLOOKUP(C3,'Results input'!$C$4:$E$11,3,FALSE)) -> 18.3 | E4: =IF(ISNA(VLOOKUP(E3,'Results input'!$C$4:$E$11,3,FALSE)),0,VLOOKUP(E3,'Results input'!$C$4:$E$11,3,FALSE)) -> 13.4 | G4: =IF(ISNA(VLOOKUP(G3,'Results input'!$C$4:$E$11,3,FALSE)),0,VLOOKUP(G3,'Results input'!$C$4:$E$11,3,FALSE)) -> 16.6 | I4: =IF(ISNA(VLOOKUP(I3,'Results input'!$C$4:$E$11,3,FALSE)),0,VLOOKUP(I3,'Results input'!$C$4:$E$11,3,FALSE)) -> 0 | K4: =IF(ISNA(VLOOKUP(K3,'Results input'!$C$4:$E$11,3,FALSE)),0,VLOOKUP(K3,'Results input'!$C$4:$E$11,3,FALSE)) -> 16.7 | M4: =IF(ISNA(VLOOKUP(M3,'Results input'!$C$4:$E$11,3,FALSE)),0,VLOOKUP(M3,'Results input'!$C$4:$E$11,3,FALSE)) -> 18.1 | O4: =IF(ISNA(VLOOKUP(O3,'Results input'!$C$4:$E$11,3,FALSE)),0,VLOOKUP(O3,'Results input'!$C$4:$E$11,3,FALSE)) -> 14.7 | Q4: =IF(ISNA(VLOOKUP(Q3,'Results input'!$C$4:$E$11,3,FALSE)),0,VLOOKUP(Q3,'Results input'!$C$4:$E$11,3,FALSE)) -> 18.5
A5: ='Men dec.'!A5 -> M50 100m | B5: Name | C5: =IF('Men dec.'!C5=0," ",'Men dec.'!C5) -> Paul Rogers | D5: =IF((C6>0),VLOOKUP(C5,'Results input'!$C$14:$F$21,4,),"") -> 7 | E5: =IF('Men dec.'!E5=0," ",'Men dec.'!E5) -> David Cleverley | F5: =IF((E6>0),VLOOKUP(E5,'Results input'!$C$14:$F$21,4,),"") -> 4 | G5: =IF('Men dec.'!G5=0," ",'Men dec.'!G5) -> Andy Priest | H5: =IF((G6>0),VLOOKUP(G5,'Results input'!$C$14:$F$21,4,),"") -> 8 | I5: =IF('Men dec.'!I5=0," ",'Men dec.'!I5) | J5: =IF((I6>0),VLOOKUP(I5,'Results input'!$C$14:$F$21,4,),"") | K5: =IF('Men dec.'!K5=0," ",'Men dec.'!K5) -> Chris Cleary | L5: =IF((K6>0),VLOOKUP(K5,'Results input'!$C$14:$F$21,4,),"") | M5: =IF('Men dec.'!M5=0," ",'Men dec.'!M5) -> Simon Willington | N5: =IF((M6>0),VLOOKUP(M5,'Results input'!$C$14:$F$21,4,),"") -> 5 | O5: =IF('Men dec.'!O5=0," ",'Men dec.'!O5) -> John Steel | P5: =IF((O6>0),VLOOKUP(O5,'Results input'!$C$14:$F$21,4,),"") -> 6 | Q5: =IF('Men dec.'!Q5=0," ",'Men dec.'!Q5) | R5: =IF((Q6>0),VLOOKUP(Q5,'Results input'!$C$14:$F$21,4,),"")
B6: Perf. | C6: =IF(ISNA(VLOOKUP(C5,'Results input'!$C$14:$E$21,3,FALSE)),0,VLOOKUP(C5,'Results input'!$C$14:$E$21,3,FALSE)) -> 14.3 | E6: =IF(ISNA(VLOOKUP(E5,'Results input'!$C$14:$E$21,3,FALSE)),0,VLOOKUP(E5,'Results input'!$C$14:$E$21,3,FALSE)) -> 17.3 | G6: =IF(ISNA(VLOOKUP(G5,'Results input'!$C$14:$E$21,3,FALSE)),0,VLOOKUP(G5,'Results input'!$C$14:$E$21,3,FALSE)) -> 13 | I6: =IF(ISNA(VLOOKUP(I5,'Results input'!$C$14:$E$21,3,FALSE)),0,VLOOKUP(I5,'Results input'!$C$14:$E$21,3,FALSE)) -> 0 | K6: =IF(ISNA(VLOOKUP(K5,'Results input'!$C$14:$E$21,3,FALSE)),0,VLOOKUP(K5,'Results input'!$C$14:$E$21,3,FALSE)) -> 0 | M6: =IF(ISNA(VLOOKUP(M5,'Results input'!$C$14:$E$21,3,FALSE)),0,VLOOKUP(M5,'Results input'!$C$14:$E$21,3,FALSE)) -> 15.2 | O6: =IF(ISNA(VLOOKUP(O5,'Results input'!$C$14:$E$21,3,FALSE)),0,VLOOKUP(O5,'Results input'!$C$14:$E$21,3,FALSE)) -> 14.4 | Q6: =IF(ISNA(VLOOKUP(Q5,'Results input'!$C$14:$E$21,3,FALSE)),0,VLOOKUP(Q5,'Results input'!$C$14:$E$21,3,FALSE)) -> 0 | S6: Note performances will not appear unless the athlete has been declared
A7: ='Men dec.'!A6 -> M40 100m | B7: Name | C7: =IF('Men dec.'!C6=0," ",'Men dec.'!C6) -> Martin Maynard | D7: =IF((C8>0),VLOOKUP(C7,'Results input'!$C$24:$F$31,4,),"") -> 8 | E7: =IF('Men dec.'!E6=0," ",'Men dec.'!E6) -> Calvin Scoltock | F7: =IF((E8>0),VLOOKUP(E7,'Results input'!$C$24:$F$31,4,),"") -> 6 | G7: =IF('Men dec.'!G6=0," ",'Men dec.'!G6) -> Keith Waldron | H7: =IF((G8>0),VLOOKUP(G7,'Results input'!$C$24:$F$31,4,),"") -> 7 | I7: =IF('Men dec.'!I6=0," ",'Men dec.'!I6) | J7: =IF((I8>0),VLOOKUP(I7,'Results input'!$C$24:$F$31,4,),"") | K7: =IF('Men dec.'!K6=0," ",'Men dec.'!K6) -> Kevin Monk | L7: =IF((K8>0),VLOOKUP(K7,'Results input'!$C$24:$F$31,4,),"") -> 4 | M7: =IF('Men dec.'!M6=0," ",'Men dec.'!M6) | N7: =IF((M8>0),VLOOKUP(M7,'Results input'!$C$24:$F$31,4,),"") | O7: =IF('Men dec.'!O6=0," ",'Men dec.'!O6) -> Richard White | P7: =IF((O8>0),VLOOKUP(O7,'Results input'!$C$24:$F$31,4,),"") -> 5 | Q7: =IF('Men dec.'!Q6=0," ",'Men dec.'!Q6) | R7: =IF((Q8>0),VLOOKUP(Q7,'Results input'!$C$24:$F$31,4,),"")
B8: Perf. | C8: =IF(ISNA(VLOOKUP(C7,'Results input'!$C$24:$E$31,3,FALSE)),0,VLOOKUP(C7,'Results input'!$C$24:$E$31,3,FALSE)) -> 12.8 | E8: =IF(ISNA(VLOOKUP(E7,'Results input'!$C$24:$E$31,3,FALSE)),0,VLOOKUP(E7,'Results input'!$C$24:$E$31,3,FALSE)) -> 13.7 | G8: =IF(ISNA(VLOOKUP(G7,'Results input'!$C$24:$E$31,3,FALSE)),0,VLOOKUP(G7,'Results input'!$C$24:$E$31,3,FALSE)) -> 13.2 | I8: =IF(ISNA(VLOOKUP(I7,'Results input'!$C$24:$E$31,3,FALSE)),0,VLOOKUP(I7,'Results input'!$C$24:$E$31,3,FALSE)) -> 0 | K8: =IF(ISNA(VLOOKUP(K7,'Results input'!$C$24:$E$31,3,FALSE)),0,VLOOKUP(K7,'Results input'!$C$24:$E$31,3,FALSE)) -> 14.3 | M8: =IF(ISNA(VLOOKUP(M7,'Results input'!$C$24:$E$31,3,FALSE)),0,VLOOKUP(M7,'Results input'!$C$24:$E$31,3,FALSE)) -> 0 | O8: =IF(ISNA(VLOOKUP(O7,'Results input'!$C$24:$E$31,3,FALSE)),0,VLOOKUP(O7,'Results input'!$C$24:$E$31,3,FALSE)) -> 14 | Q8: =IF(ISNA(VLOOKUP(Q7,'Results input'!$C$24:$E$31,3,FALSE)),0,VLOOKUP(Q7,'Results input'!$C$24:$E$31,3,FALSE)) -> 0
A9: ='Men dec.'!A7 -> M35 100m | B9: Name | C9: =IF('Men dec.'!C7=0," ",'Men dec.'!C7) -> Hervin Prince | D9: =IF((C10>0),VLOOKUP(C9,'Results input'!$C$34:$F$41,4,),"") -> 7 | E9: =IF('Men dec.'!E7=0," ",'Men dec.'!E7) -> Martin Aspley-Davis | F9: =IF((E10>0),VLOOKUP(E9,'Results input'!$C$34:$F$41,4,),"") -> 8 | G9: =IF('Men dec.'!G7=0," ",'Men dec.'!G7) | H9: =IF((G10>0),VLOOKUP(G9,'Results input'!$C$34:$F$41,4,),"") | I9: =IF('Men dec.'!I7=0," ",'Men dec.'!I7) -> Richard Westwood | J9: =IF((I10>0),VLOOKUP(I9,'Results input'!$C$34:$F$41,4,),"") -> 6 | K9: =IF('Men dec.'!K7=0," ",'Men dec.'!K7) -> Matt Allen | L9: =IF((K10>0),VLOOKUP(K9,'Results input'!$C$34:$F$41,4,),"") -> 4 | M9: =IF('Men dec.'!M7=0," ",'Men dec.'!M7) | N9: =IF((M10>0),VLOOKUP(M9,'Results input'!$C$34:$F$41,4,),"") | O9: =IF('Men dec.'!O7=0," ",'Men dec.'!O7) -> Edward Gerrard | P9: =IF((O10>0),VLOOKUP(O9,'Results input'!$C$34:$F$41,4,),"") -> 5 | Q9: =IF('Men dec.'!Q7=0," ",'Men dec.'!Q7) | R9: =IF((Q10>0),VLOOKUP(Q9,'Results input'!$C$34:$F$41,4,),"")
B10: Perf. | C10: =IF(ISNA(VLOOKUP(C9,'Results input'!$C$34:$E$41,3,FALSE)),0,VLOOKUP(C9,'Results input'!$C$34:$E$41,3,FALSE)) -> 13.2 | E10: =IF(ISNA(VLOOKUP(E9,'Results input'!$C$34:$E$41,3,FALSE)),0,VLOOKUP(E9,'Results input'!$C$34:$E$41,3,FALSE)) -> 12.3 | G10: =IF(ISNA(VLOOKUP(G9,'Results input'!$C$34:$E$41,3,FALSE)),0,VLOOKUP(G9,'Results input'!$C$34:$E$41,3,FALSE)) -> 0 | I10: =IF(ISNA(VLOOKUP(I9,'Results input'!$C$34:$E$41,3,FALSE)),0,VLOOKUP(I9,'Results input'!$C$34:$E$41,3,FALSE)) -> 13.6 | K10: =IF(ISNA(VLOOKUP(K9,'Results input'!$C$34:$E$41,3,FALSE)),0,VLOOKUP(K9,'Results input'!$C$34:$E$41,3,FALSE)) -> 16.7 | M10: =IF(ISNA(VLOOKUP(M9,'Results input'!$C$34:$E$41,3,FALSE)),0,VLOOKUP(M9,'Results input'!$C$34:$E$41,3,FALSE)) -> 0 | O10: =IF(ISNA(VLOOKUP(O9,'Results input'!$C$34:$E$41,3,FALSE)),0,VLOOKUP(O9,'Results input'!$C$34:$E$41,3,FALSE)) -> 14.4 | Q10: =IF(ISNA(VLOOKUP(Q9,'Results input'!$C$34:$E$41,3,FALSE)),0,VLOOKUP(Q9,'Results input'!$C$34:$E$41,3,FALSE)) -> 0
A11: ='Men dec.'!A8 -> M35 400m | B11: Name | C11: =IF('Men dec.'!C8=0," ",'Men dec.'!C8) -> Jag Ubhoo | D11: =IF((C12>0),VLOOKUP(C11,'Results input'!$C$44:$F$51,4,),"") -> 5 | E11: =IF('Men dec.'!E8=0," ",'Men dec.'!E8) -> Martin Aspley-Davis | F11: =IF((E12>0),VLOOKUP(E11,'Results input'!$C$44:$F$51,4,),"") -> 7 | G11: =IF('Men dec.'!G8=0," ",'Men dec.'!G8) | H11: =IF((G12>0),VLOOKUP(G11,'Results input'!$C$44:$F$51,4,),"") | I11: =IF('Men dec.'!I8=0," ",'Men dec.'!I8) | J11: =IF((I12>0),VLOOKUP(I11,'Results input'!$C$44:$F$51,4,),"") | K11: =IF('Men dec.'!K8=0," ",'Men dec.'!K8) -> Mark Turner | L11: =IF((K12>0),VLOOKUP(K11,'Results input'!$C$44:$F$51,4,),"") -> 8 | M11: =IF('Men dec.'!M8=0," ",'Men dec.'!M8) -> Rob Mills | N11: =IF((M12>0),VLOOKUP(M11,'Results input'!$C$44:$F$51,4,),"") -> 4 | O11: =IF('Men dec.'!O8=0," ",'Men dec.'!O8) -> Dave Hall | P11: =IF((O12>0),VLOOKUP(O11,'Results input'!$C$44:$F$51,4,),"") -> 6 | Q11: =IF('Men dec.'!Q8=0," ",'Men dec.'!Q8) | R11: =IF((Q12>0),VLOOKUP(Q11,'Results input'!$C$44:$F$51,4,),"")
B12: Perf. | C12: =IF(ISNA(VLOOKUP(C11,'Results input'!$C$44:$E$51,3,FALSE)),0,VLOOKUP(C11,'Results input'!$C$44:$E$51,3,FALSE)) -> 62.8 | E12: =IF(ISNA(VLOOKUP(E11,'Results input'!$C$44:$E$51,3,FALSE)),0,VLOOKUP(E11,'Results input'!$C$44:$E$51,3,FALSE)) -> 53.8 | G12: =IF(ISNA(VLOOKUP(G11,'Results input'!$C$44:$E$51,3,FALSE)),0,VLOOKUP(G11,'Results input'!$C$44:$E$51,3,FALSE)) -> 0 | I12: =IF(ISNA(VLOOKUP(I11,'Results input'!$C$44:$E$51,3,FALSE)),0,VLOOKUP(I11,'Results input'!$C$44:$E$51,3,FALSE)) -> 0 | K12: =IF(ISNA(VLOOKUP(K11,'Results input'!$C$44:$E$51,3,FALSE)),0,VLOOKUP(K11,'Results input'!$C$44:$E$51,3,FALSE)) -> 53 | M12: =IF(ISNA(VLOOKUP(M11,'Results input'!$C$44:$E$51,3,FALSE)),0,VLOOKUP(M11,'Results input'!$C$44:$E$51,3,FALSE)) -> 72.5 | O12: =IF(ISNA(VLOOKUP(O11,'Results input'!$C$44:$E$51,3,FALSE)),0,VLOOKUP(O11,'Results input'!$C$44:$E$51,3,FALSE)) -> 62 | Q12: =IF(ISNA(VLOOKUP(Q11,'Results input'!$C$44:$E$51,3,FALSE)),0,VLOOKUP(Q11,'Results input'!$C$44:$E$51,3,FALSE)) -> 0 | U12: `
A13: ='Men dec.'!A9 -> M40 400m | B13: Name | C13: =IF('Men dec.'!C9=0," ",'Men dec.'!C9) -> Connolly Meagher | D13: =IF((C14>0),VLOOKUP(C13,'Results input'!$C$54:$F$61,4,),"") -> 4 | E13: =IF('Men dec.'!E9=0," ",'Men dec.'!E9) -> Calvin Scoltock | F13: =IF((E14>0),VLOOKUP(E13,'Results input'!$C$54:$F$61,4,),"") -> 6 | G13: =IF('Men dec.'!G9=0," ",'Men dec.'!G9) -> Adrian James | H13: =IF((G14>0),VLOOKUP(G13,'Results input'!$C$54:$F$61,4,),"") -> 8 | I13: =IF('Men dec.'!I9=0," ",'Men dec.'!I9) | J13: =IF((I14>0),VLOOKUP(I13,'Results input'!$C$54:$F$61,4,),"") | K13: =IF('Men dec.'!K9=0," ",'Men dec.'!K9) -> Mike Neylon | L13: =IF((K14>0),VLOOKUP(K13,'Results input'!$C$54:$F$61,4,),"") -> 5 | M13: =IF('Men dec.'!M9=0," ",'Men dec.'!M9) -> David Hanson | N13: =IF((M14>0),VLOOKUP(M13,'Results input'!$C$54:$F$61,4,),"") -> 7 | O13: =IF('Men dec.'!O9=0," ",'Men dec.'!O9) -> Nick Hitchens | P13: =IF((O14>0),VLOOKUP(O13,'Results input'!$C$54:$F$61,4,),"") -> 3 | Q13: =IF('Men dec.'!Q9=0," ",'Men dec.'!Q9) -> Michael Elwell | R13: =IF((Q14>0),VLOOKUP(Q13,'Results input'!$C$54:$F$61,4,),"") -> 2
B14: Perf. | C14: =IF(ISNA(VLOOKUP(C13,'Results input'!$C$54:$E$61,3,FALSE)),0,VLOOKUP(C13,'Results input'!$C$54:$E$61,3,FALSE)) -> 61.5 | E14: =IF(ISNA(VLOOKUP(E13,'Results input'!$C$54:$E$61,3,FALSE)),0,VLOOKUP(E13,'Results input'!$C$54:$E$61,3,FALSE)) -> 59.6 | G14: =IF(ISNA(VLOOKUP(G13,'Results input'!$C$54:$E$61,3,FALSE)),0,VLOOKUP(G13,'Results input'!$C$54:$E$61,3,FALSE)) -> 57.8 | I14: =IF(ISNA(VLOOKUP(I13,'Results input'!$C$54:$E$61,3,FALSE)),0,VLOOKUP(I13,'Results input'!$C$54:$E$61,3,FALSE)) -> 0 | K14: =IF(ISNA(VLOOKUP(K13,'Results input'!$C$54:$E$61,3,FALSE)),0,VLOOKUP(K13,'Results input'!$C$54:$E$61,3,FALSE)) -> 59.8 | M14: =IF(ISNA(VLOOKUP(M13,'Results input'!$C$54:$E$61,3,FALSE)),0,VLOOKUP(M13,'Results input'!$C$54:$E$61,3,FALSE)) -> 59 | O14: =IF(ISNA(VLOOKUP(O13,'Results input'!$C$54:$E$61,3,FALSE)),0,VLOOKUP(O13,'Results input'!$C$54:$E$61,3,FALSE)) -> 62.2 | Q14: =IF(ISNA(VLOOKUP(Q13,'Results input'!$C$54:$E$61,3,FALSE)),0,VLOOKUP(Q13,'Results input'!$C$54:$E$61,3,FALSE)) -> 83.9
A15: ='Men dec.'!A10 -> M50 400m | B15: Name | C15: =IF('Men dec.'!C10=0," ",'Men dec.'!C10) -> Wilf Morgan | D15: =IF((C16>0),VLOOKUP(C15,'Results input'!$C$64:$F$71,4,),"") -> 4 | E15: =IF('Men dec.'!E10=0," ",'Men dec.'!E10) -> David Cleverley | F15: =IF((E16>0),VLOOKUP(E15,'Results input'!$C$64:$F$71,4,),"") -> 6 | G15: =IF('Men dec.'!G10=0," ",'Men dec.'!G10) | H15: =IF((G16>0),VLOOKUP(G15,'Results input'!$C$64:$F$71,4,),"") | I15: =IF('Men dec.'!I10=0," ",'Men dec.'!I10) | J15: =IF((I16>0),VLOOKUP(I15,'Results input'!$C$64:$F$71,4,),"") | K15: =IF('Men dec.'!K10=0," ",'Men dec.'!K10) -> Chris Cleary | L15: =IF((K16>0),VLOOKUP(K15,'Results input'!$C$64:$F$71,4,),"") | M15: =IF('Men dec.'!M10=0," ",'Men dec.'!M10) -> Simon Willington | N15: =IF((M16>0),VLOOKUP(M15,'Results input'!$C$64:$F$71,4,),"") -> 7 | O15: =IF('Men dec.'!O10=0," ",'Men dec.'!O10) -> Richard White | P15: =IF((O16>0),VLOOKUP(O15,'Results input'!$C$64:$F$71,4,),"") -> 8 | Q15: =IF('Men dec.'!Q10=0," ",'Men dec.'!Q10) -> Robin MacDonald | R15: =IF((Q16>0),VLOOKUP(Q15,'Results input'!$C$64:$F$71,4,),"") -> 5
B16: Perf. | C16: =IF(ISNA(VLOOKUP(C15,'Results input'!$C$64:$E$71,3,FALSE)),0,VLOOKUP(C15,'Results input'!$C$64:$E$71,3,FALSE)) -> 88.3 | E16: =IF(ISNA(VLOOKUP(E15,'Results input'!$C$64:$E$71,3,FALSE)),0,VLOOKUP(E15,'Results input'!$C$64:$E$71,3,FALSE)) -> 78.9 | G16: =IF(ISNA(VLOOKUP(G15,'Results input'!$C$64:$E$71,3,FALSE)),0,VLOOKUP(G15,'Results input'!$C$64:$E$71,3,FALSE)) -> 0 | I16: =IF(ISNA(VLOOKUP(I15,'Results input'!$C$64:$E$71,3,FALSE)),0,VLOOKUP(I15,'Results input'!$C$64:$E$71,3,FALSE)) -> 0 | K16: =IF(ISNA(VLOOKUP(K15,'Results input'!$C$64:$E$71,3,FALSE)),0,VLOOKUP(K15,'Results input'!$C$64:$E$71,3,FALSE)) -> 0 | M16: =IF(ISNA(VLOOKUP(M15,'Results input'!$C$64:$E$71,3,FALSE)),0,VLOOKUP(M15,'Results input'!$C$64:$E$71,3,FALSE)) -> 72.7 | O16: =IF(ISNA(VLOOKUP(O15,'Results input'!$C$64:$E$71,3,FALSE)),0,VLOOKUP(O15,'Results input'!$C$64:$E$71,3,FALSE)) -> 58.3 | Q16: =IF(ISNA(VLOOKUP(Q15,'Results input'!$C$64:$E$71,3,FALSE)),0,VLOOKUP(Q15,'Results input'!$C$64:$E$71,3,FALSE)) -> 82.7
A17: ='Men dec.'!A11 -> M40 2k Walk | B17: Name | C17: =IF('Men dec.'!C11=0," ",'Men dec.'!C11) -> John Constandinou | D17: =IF((C18>0),VLOOKUP(C17,'Results input'!$C$74:$F$81,4,),"") -> 7 | E17: =IF('Men dec.'!E11=0," ",'Men dec.'!E11) -> Calvin Scoltock | F17: =IF((E18>0),VLOOKUP(E17,'Results input'!$C$74:$F$81,4,),"") -> 6 | G17: =IF('Men dec.'!G11=0," ",'Men dec.'!G11) | H17: =IF((G18>0),VLOOKUP(G17,'Results input'!$C$74:$F$81,4,),"") | I17: =IF('Men dec.'!I11=0," ",'Men dec.'!I11) -> Mike Horton | J17: =IF((I18>0),VLOOKUP(I17,'Results input'!$C$74:$F$81,4,),"") -> 4 | K17: =IF('Men dec.'!K11=0," ",'Men dec.'!K11) -> Kevin Monk | L17: =IF((K18>0),VLOOKUP(K17,'Results input'!$C$74:$F$81,4,),"") -> 8 | M17: =IF('Men dec.'!M11=0," ",'Men dec.'!M11) -> Martin Millicheap | N17: =IF((M18>0),VLOOKUP(M17,'Results input'!$C$74:$F$81,4,),"") -> 3 | O17: =IF('Men dec.'!O11=0," ",'Men dec.'!O11) -> Mark Palethorpe | P17: =IF((O18>0),VLOOKUP(O17,'Results input'!$C$74:$F$81,4,),"") -> 5 | Q17: =IF('Men dec.'!Q11=0," ",'Men dec.'!Q11) | R17: =IF((Q18>0),VLOOKUP(Q17,'Results input'!$C$74:$F$81,4,),"")
B18: Perf. | C18: =IF(ISNA(VLOOKUP(C17,'Results input'!$C$74:$E$81,3,FALSE)),0,VLOOKUP(C17,'Results input'!$C$74:$E$81,3,FALSE)) -> 10.56.4 | E18: =IF(ISNA(VLOOKUP(E17,'Results input'!$C$74:$E$81,3,FALSE)),0,VLOOKUP(E17,'Results input'!$C$74:$E$81,3,FALSE)) -> 11.48.0 | G18: =IF(ISNA(VLOOKUP(G17,'Results input'!$C$74:$E$81,3,FALSE)),0,VLOOKUP(G17,'Results input'!$C$74:$E$81,3,FALSE)) -> 0 | I18: =IF(ISNA(VLOOKUP(I17,'Results input'!$C$74:$E$81,3,FALSE)),0,VLOOKUP(I17,'Results input'!$C$74:$E$81,3,FALSE)) -> 13.29.0 | K18: =IF(ISNA(VLOOKUP(K17,'Results input'!$C$74:$E$81,3,FALSE)),0,VLOOKUP(K17,'Results input'!$C$74:$E$81,3,FALSE)) -> 10.24.5 | M18: =IF(ISNA(VLOOKUP(M17,'Results input'!$C$74:$E$81,3,FALSE)),0,VLOOKUP(M17,'Results input'!$C$74:$E$81,3,FALSE)) -> 14.33.7 | O18: =IF(ISNA(VLOOKUP(O17,'Results input'!$C$74:$E$81,3,FALSE)),0,VLOOKUP(O17,'Results input'!$C$74:$E$81,3,FALSE)) -> 12.22.2 | Q18: =IF(ISNA(VLOOKUP(Q17,'Results input'!$C$74:$E$81,3,FALSE)),0,VLOOKUP(Q17,'Results input'!$C$74:$E$81,3,FALSE)) -> 0
A19: ='Men dec.'!A12 -> M60 2k Walk | B19: Name | C19: =IF('Men dec.'!C12=0," ",'Men dec.'!C12) -> Peter Boszko | D19: =IF((C20>0),VLOOKUP(C19,'Results input'!$C$84:$F$91,4,),"") -> 8 | E19: =IF('Men dec.'!E12=0," ",'Men dec.'!E12) -> Len Quartly | F19: =IF((E20>0),VLOOKUP(E19,'Results input'!$C$84:$F$91,4,),"") -> 5 | G19: =IF('Men dec.'!G12=0," ",'Men dec.'!G12) | H19: =IF((G20>0),VLOOKUP(G19,'Results input'!$C$84:$F$91,4,),"") | I19: =IF('Men dec.'!I12=0," ",'Men dec.'!I12) -> Glyn Jones | J19: =IF((I20>0),VLOOKUP(I19,'Results input'!$C$84:$F$91,4,),"") -> 7 | K19: =IF('Men dec.'!K12=0," ",'Men dec.'!K12) | L19: =IF((K20>0),VLOOKUP(K19,'Results input'!$C$84:$F$91,4,),"") | M19: =IF('Men dec.'!M12=0," ",'Men dec.'!M12) -> David Winter | N19: =IF((M20>0),VLOOKUP(M19,'Results input'!$C$84:$F$91,4,),"") -> 6 | O19: =IF('Men dec.'!O12=0," ",'Men dec.'!O12) -> Les Scrivens | P19: =IF((O20>0),VLOOKUP(O19,'Results input'!$C$84:$F$91,4,),"") -> 4 | Q19: =IF('Men dec.'!Q12=0," ",'Men dec.'!Q12) | R19: =IF((Q20>0),VLOOKUP(Q19,'Results input'!$C$84:$F$91,4,),"")
B20: Perf. | C20: =IF(ISNA(VLOOKUP(C19,'Results input'!$C$84:$E$91,3,FALSE)),0,VLOOKUP(C19,'Results input'!$C$84:$E$91,3,FALSE)) -> 11.00.5 | E20: =IF(ISNA(VLOOKUP(E19,'Results input'!$C$84:$E$91,3,FALSE)),0,VLOOKUP(E19,'Results input'!$C$84:$E$91,3,FALSE)) -> 12.15.1 | G20: =IF(ISNA(VLOOKUP(G19,'Results input'!$C$84:$E$91,3,FALSE)),0,VLOOKUP(G19,'Results input'!$C$84:$E$91,3,FALSE)) -> 0 | I20: =IF(ISNA(VLOOKUP(I19,'Results input'!$C$84:$E$91,3,FALSE)),0,VLOOKUP(I19,'Results input'!$C$84:$E$91,3,FALSE)) -> 11.59.5 | K20: =IF(ISNA(VLOOKUP(K19,'Results input'!$C$84:$E$91,3,FALSE)),0,VLOOKUP(K19,'Results input'!$C$84:$E$91,3,FALSE)) -> 0 | M20: =IF(ISNA(VLOOKUP(M19,'Results input'!$C$84:$E$91,3,FALSE)),0,VLOOKUP(M19,'Results input'!$C$84:$E$91,3,FALSE)) -> 12.08.6 | O20: =IF(ISNA(VLOOKUP(O19,'Results input'!$C$84:$E$91,3,FALSE)),0,VLOOKUP(O19,'Results input'!$C$84:$E$91,3,FALSE)) -> 12.55.8 | Q20: =IF(ISNA(VLOOKUP(Q19,'Results input'!$C$84:$E$91,3,FALSE)),0,VLOOKUP(Q19,'Results input'!$C$84:$E$91,3,FALSE)) -> 0
A21: ='Men dec.'!A13 -> M35 1500m | B21: Name | C21: =IF('Men dec.'!C13=0," ",'Men dec.'!C13) -> Johnny Cullen | D21: =IF((C22>0),VLOOKUP(C21,'Results input'!$C$94:$F$101,4,),"") -> 6 | E21: =IF('Men dec.'!E13=0," ",'Men dec.'!E13) -> Andy Freeman | F21: =IF((E22>0),VLOOKUP(E21,'Results input'!$C$94:$F$101,4,),"") -> 5 | G21: =IF('Men dec.'!G13=0," ",'Men dec.'!G13) | H21: =IF((G22>0),VLOOKUP(G21,'Results input'!$C$94:$F$101,4,),"") | I21: =IF('Men dec.'!I13=0," ",'Men dec.'!I13) | J21: =IF((I22>0),VLOOKUP(I21,'Results input'!$C$94:$F$101,4,),"") | K21: =IF('Men dec.'!K13=0," ",'Men dec.'!K13) -> Nic Hazelwood | L21: =IF((K22>0),VLOOKUP(K21,'Results input'!$C$94:$F$101,4,),"") -> 8 | M21: =IF('Men dec.'!M13=0," ",'Men dec.'!M13) -> Rob Mills | N21: =IF((M22>0),VLOOKUP(M21,'Results input'!$C$94:$F$101,4,),"") -> 4 | O21: =IF('Men dec.'!O13=0," ",'Men dec.'!O13) -> Dave Hall | P21: =IF((O22>0),VLOOKUP(O21,'Results input'!$C$94:$F$101,4,),"") -> 7 | Q21: =IF('Men dec.'!Q13=0," ",'Men dec.'!Q13) | R21: =IF((Q22>0),VLOOKUP(Q21,'Results input'!$C$94:$F$101,4,),"")
B22: Perf. | C22: =IF(ISNA(VLOOKUP(C21,'Results input'!$C$94:$E$101,3,FALSE)),0,VLOOKUP(C21,'Results input'!$C$94:$E$101,3,FALSE)) -> 4.27.6 | E22: =IF(ISNA(VLOOKUP(E21,'Results input'!$C$94:$E$101,3,FALSE)),0,VLOOKUP(E21,'Results input'!$C$94:$E$101,3,FALSE)) -> 4.37.1 | G22: =IF(ISNA(VLOOKUP(G21,'Results input'!$C$94:$E$101,3,FALSE)),0,VLOOKUP(G21,'Results input'!$C$94:$E$101,3,FALSE)) -> 0 | I22: =IF(ISNA(VLOOKUP(I21,'Results input'!$C$94:$E$101,3,FALSE)),0,VLOOKUP(I21,'Results input'!$C$94:$E$101,3,FALSE)) -> 0 | K22: =IF(ISNA(VLOOKUP(K21,'Results input'!$C$94:$E$101,3,FALSE)),0,VLOOKUP(K21,'Results input'!$C$94:$E$101,3,FALSE)) -> 4.06.4 | M22: =IF(ISNA(VLOOKUP(M21,'Results input'!$C$94:$E$101,3,FALSE)),0,VLOOKUP(M21,'Results input'!$C$94:$E$101,3,FALSE)) -> 5.33.1 | O22: =IF(ISNA(VLOOKUP(O21,'Results input'!$C$94:$E$101,3,FALSE)),0,VLOOKUP(O21,'Results input'!$C$94:$E$101,3,FALSE)) -> 4.19.0 | Q22: =IF(ISNA(VLOOKUP(Q21,'Results input'!$C$94:$E$101,3,FALSE)),0,VLOOKUP(Q21,'Results input'!$C$94:$E$101,3,FALSE)) -> 0
A23: ='Men dec.'!A14 -> M40 1500m | B23: Name | C23: =IF('Men dec.'!C14=0," ",'Men dec.'!C14) -> Connolly Meagher | D23: =IF((C24>0),VLOOKUP(C23,'Results input'!$C$104:$F$111,4,),"") | E23: =IF('Men dec.'!E14=0," ",'Men dec.'!E14) -> Dean Hartshorne | F23: =IF((E24>0),VLOOKUP(E23,'Results input'!$C$104:$F$111,4,),"") -> 5 | G23: =IF('Men dec.'!G14=0," ",'Men dec.'!G14) | H23: =IF((G24>0),VLOOKUP(G23,'Results input'!$C$104:$F$111,4,),"") | I23: =IF('Men dec.'!I14=0," ",'Men dec.'!I14) | J23: =IF((I24>0),VLOOKUP(I23,'Results input'!$C$104:$F$111,4,),"") | K23: =IF('Men dec.'!K14=0," ",'Men dec.'!K14) -> Mark Hadley | L23: =IF((K24>0),VLOOKUP(K23,'Results input'!$C$104:$F$111,4,),"") -> 7 | M23: =IF('Men dec.'!M14=0," ",'Men dec.'!M14) -> Paul Shipway | N23: =IF((M24>0),VLOOKUP(M23,'Results input'!$C$104:$F$111,4,),"") -> 4 | O23: =IF('Men dec.'!O14=0," ",'Men dec.'!O14) -> Warren Miles | P23: =IF((O24>0),VLOOKUP(O23,'Results input'!$C$104:$F$111,4,),"") -> 8 | Q23: =IF('Men dec.'!Q14=0," ",'Men dec.'!Q14) -> Carson Tweedie | R23: =IF((Q24>0),VLOOKUP(Q23,'Results input'!$C$104:$F$111,4,),"") -> 6
B24: Perf. | C24: =IF(ISNA(VLOOKUP(C23,'Results input'!$C$104:$E$111,3,FALSE)),0,VLOOKUP(C23,'Results input'!$C$104:$E$111,3,FALSE)) -> 0 | E24: =IF(ISNA(VLOOKUP(E23,'Results input'!$C$104:$E$111,3,FALSE)),0,VLOOKUP(E23,'Results input'!$C$104:$E$111,3,FALSE)) -> 4.57.6 | G24: =IF(ISNA(VLOOKUP(G23,'Results input'!$C$104:$E$111,3,FALSE)),0,VLOOKUP(G23,'Results input'!$C$104:$E$111,3,FALSE)) -> 0 | I24: =IF(ISNA(VLOOKUP(I23,'Results input'!$C$104:$E$111,3,FALSE)),0,VLOOKUP(I23,'Results input'!$C$104:$E$111,3,FALSE)) -> 0 | K24: =IF(ISNA(VLOOKUP(K23,'Results input'!$C$104:$E$111,3,FALSE)),0,VLOOKUP(K23,'Results input'!$C$104:$E$111,3,FALSE)) -> 4.34.2 | M24: =IF(ISNA(VLOOKUP(M23,'Results input'!$C$104:$E$111,3,FALSE)),0,VLOOKUP(M23,'Results input'!$C$104:$E$111,3,FALSE)) -> 5.53.5 | O24: =IF(ISNA(VLOOKUP(O23,'Results input'!$C$104:$E$111,3,FALSE)),0,VLOOKUP(O23,'Results input'!$C$104:$E$111,3,FALSE)) -> 4.34.1 | Q24: =IF(ISNA(VLOOKUP(Q23,'Results input'!$C$104:$E$111,3,FALSE)),0,VLOOKUP(Q23,'Results input'!$C$104:$E$111,3,FALSE)) -> 4.38.9
A25: ='Men dec.'!A15 -> M60 1500m | B25: Name | C25: =IF('Men dec.'!C15=0," ",'Men dec.'!C15) -> Robin Davies | D25: =IF((C26>0),VLOOKUP(C25,'Results input'!$C$114:$F$121,4,),"") -> 3 | E25: =IF('Men dec.'!E15=0," ",'Men dec.'!E15) -> Vince Rollason | F25: =IF((E26>0),VLOOKUP(E25,'Results input'!$C$114:$F$121,4,),"") -> 7 | G25: =IF('Men dec.'!G15=0," ",'Men dec.'!G15) | H25: =IF((G26>0),VLOOKUP(G25,'Results input'!$C$114:$F$121,4,),"") | I25: =IF('Men dec.'!I15=0," ",'Men dec.'!I15) | J25: =IF((I26>0),VLOOKUP(I25,'Results input'!$C$114:$F$121,4,),"") | K25: =IF('Men dec.'!K15=0," ",'Men dec.'!K15) -> Paul Allen | L25: =IF((K26>0),VLOOKUP(K25,'Results input'!$C$114:$F$121,4,),"") -> 6 | M25: =IF('Men dec.'!M15=0," ",'Men dec.'!M15) -> Mick Edwards | N25: =IF((M26>0),VLOOKUP(M25,'Results input'!$C$114:$F$121,4,),"") -> 5 | O25: =IF('Men dec.'!O15=0," ",'Men dec.'!O15) -> Terry Bedington | P25: =IF((O26>0),VLOOKUP(O25,'Results input'!$C$114:$F$121,4,),"") -> 8 | Q25: =IF('Men dec.'!Q15=0," ",'Men dec.'!Q15) -> Michael Elwell | R25: =IF((Q26>0),VLOOKUP(Q25,'Results input'!$C$114:$F$121,4,),"") -> 4
B26: Perf. | C26: =IF(ISNA(VLOOKUP(C25,'Results input'!$C$114:$E$121,3,FALSE)),0,VLOOKUP(C25,'Results input'!$C$114:$E$121,3,FALSE)) -> 7.18.3 | E26: =IF(ISNA(VLOOKUP(E25,'Results input'!$C$114:$E$121,3,FALSE)),0,VLOOKUP(E25,'Results input'!$C$114:$E$121,3,FALSE)) -> 5.49.4 | G26: =IF(ISNA(VLOOKUP(G25,'Results input'!$C$114:$E$121,3,FALSE)),0,VLOOKUP(G25,'Results input'!$C$114:$E$121,3,FALSE)) -> 0 | I26: =IF(ISNA(VLOOKUP(I25,'Results input'!$C$114:$E$121,3,FALSE)),0,VLOOKUP(I25,'Results input'!$C$114:$E$121,3,FALSE)) -> 0 | K26: =IF(ISNA(VLOOKUP(K25,'Results input'!$C$114:$E$121,3,FALSE)),0,VLOOKUP(K25,'Results input'!$C$114:$E$121,3,FALSE)) -> 5.55.0 | M26: =IF(ISNA(VLOOKUP(M25,'Results input'!$C$114:$E$121,3,FALSE)),0,VLOOKUP(M25,'Results input'!$C$114:$E$121,3,FALSE)) -> 6.04.6 | O26: =IF(ISNA(VLOOKUP(O25,'Results input'!$C$114:$E$121,3,FALSE)),0,VLOOKUP(O25,'Results input'!$C$114:$E$121,3,FALSE)) -> 5.45.5 | Q26: =IF(ISNA(VLOOKUP(Q25,'Results input'!$C$114:$E$121,3,FALSE)),0,VLOOKUP(Q25,'Results input'!$C$114:$E$121,3,FALSE)) -> 6.32.4
A27: ='Men dec.'!A16 -> Team name | C27: =IF('Men dec.'!C16=0," ",'Men dec.'!C16) -> Birchfield | E27: =IF('Men dec.'!E16=0," ",'Men dec.'!E16) -> B & R | G27: =IF('Men dec.'!G16=0," ",'Men dec.'!G16) -> Droitwich & KSAC | I27: =IF('Men dec.'!I16=0," ",'Men dec.'!I16) -> DASH | K27: =IF('Men dec.'!K16=0," ",'Men dec.'!K16) -> Halesowen | M27: =IF('Men dec.'!M16=0," ",'Men dec.'!M16) -> Sparkhill | O27: =IF('Men dec.'!O16=0," ",'Men dec.'!O16) -> Worcester | Q27: =IF('Men dec.'!Q16=0," ",'Men dec.'!Q16) -> MMAC
A28: ='Men dec.'!A17 -> Relay Team Names (4x200m) | B28: Name | C28: ='Men dec.'!C17 -> Martin Maynard | E28: ='Men dec.'!E17 -> Calvin Scoltock | G28: ='Men dec.'!G17 -> Keith Waldron | I28: ='Men dec.'!I17 -> 0 | K28: ='Men dec.'!K17 -> Nic Hazelwood | M28: ='Men dec.'!M17 -> 0 | O28: ='Men dec.'!O17 -> Dave Hall | Q28: ='Men dec.'!Q17 -> 0
C29: ='Men dec.'!C18 -> Connolly Meagher | E29: ='Men dec.'!E18 -> Dean Hartshorne | G29: ='Men dec.'!G18 -> Adrian James | I29: ='Men dec.'!I18 -> 0 | K29: ='Men dec.'!K18 -> Roger Mallard | M29: ='Men dec.'!M18 -> 0 | O29: ='Men dec.'!O18 -> Richard White | Q29: ='Men dec.'!Q18 -> 0
C30: ='Men dec.'!C19 -> Paul Rogers | E30: ='Men dec.'!E19 -> Martin Aspley-Davis | G30: ='Men dec.'!G19 -> Andy Priest | I30: ='Men dec.'!I19 -> 0 | K30: ='Men dec.'!K19 -> Matt Allen | M30: ='Men dec.'!M19 -> 0 | O30: ='Men dec.'!O19 -> Warren Miles | Q30: ='Men dec.'!Q19 -> 0
C31: ='Men dec.'!C20 -> Jag Ubhoo | D31: =IF((C32>0),VLOOKUP(C27,'Results input'!$C$124:$F$131,4,),"") -> 5 | E31: ='Men dec.'!E20 -> Andy Freeman | F31: =IF((E32>0),VLOOKUP(E27,'Results input'!$C$124:$F$131,4,),"") -> 7 | G31: ='Men dec.'!G20 -> Neil Williams | H31: =IF((G32>0),VLOOKUP(G27,'Results input'!$C$124:$F$131,4,),"") -> 8 | I31: ='Men dec.'!I20 -> 0 | J31: =IF((I32>0),VLOOKUP(I27,'Results input'!$C$124:$F$131,4,),"") | K31: ='Men dec.'!K20 -> Mike Neylon | L31: =IF((K32>0),VLOOKUP(K27,'Results input'!$C$124:$F$131,4,),"") -> 4 | M31: ='Men dec.'!M20 -> 0 | N31: =IF((M32>0),VLOOKUP(M27,'Results input'!$C$124:$F$131,4,),"") -> 3 | O31: ='Men dec.'!O20 -> Laurence Oldfield | P31: =IF((O32>0),VLOOKUP(O27,'Results input'!$C$124:$F$131,4,),"") -> 6 | Q31: ='Men dec.'!Q20 -> 0 | R31: =IF((Q32>0),VLOOKUP(Q27,'Results input'!$C$124:$F$131,4,),"")
B32: Perf. | C32: =IF(ISNA(VLOOKUP(C27,'Results input'!$C$124:$E$131,3,FALSE)),0,VLOOKUP(C27,'Results input'!$C$124:$E$131,3,FALSE)) -> 1.50.6 | E32: =IF(ISNA(VLOOKUP(E27,'Results input'!$C$124:$E$131,3,FALSE)),0,VLOOKUP(E27,'Results input'!$C$124:$E$131,3,FALSE)) -> 1.48.3 | G32: =IF(ISNA(VLOOKUP(G27,'Results input'!$C$124:$E$131,3,FALSE)),0,VLOOKUP(G27,'Results input'!$C$124:$E$131,3,FALSE)) -> 1.46.3 | I32: =IF(ISNA(VLOOKUP(I27,'Results input'!$C$124:$E$131,3,FALSE)),0,VLOOKUP(I27,'Results input'!$C$124:$E$131,3,FALSE)) -> 0 | K32: =IF(ISNA(VLOOKUP(K27,'Results input'!$C$124:$E$131,3,FALSE)),0,VLOOKUP(K27,'Results input'!$C$124:$E$131,3,FALSE)) -> 1.53.1 | M32: =IF(ISNA(VLOOKUP(M27,'Results input'!$C$124:$E$131,3,FALSE)),0,VLOOKUP(M27,'Results input'!$C$124:$E$131,3,FALSE)) -> 2.13.5 | O32: =IF(ISNA(VLOOKUP(O27,'Results input'!$C$124:$E$131,3,FALSE)),0,VLOOKUP(O27,'Results input'!$C$124:$E$131,3,FALSE)) -> 1.50.1 | Q32: =IF(ISNA(VLOOKUP(Q27,'Results input'!$C$124:$E$131,3,FALSE)),0,VLOOKUP(Q27,'Results input'!$C$124:$E$131,3,FALSE)) -> 0
A33: TOTALS (track) | D33: =SUM(D3:D32) -> 67 | F33: =SUM(F3:F32) -> 80 | H33: =SUM(H3:H32) -> 37 | J33: =SUM(J3:J32) -> 17 | L33: =SUM(L3:L32) -> 59 | N33: =SUM(N3:N32) -> 52 | P33: =SUM(P3:P32) -> 78 | R33: =SUM(R3:R32) -> 19
A35: EVENT | B35: Club:- | C35: =C1 -> Birchfield | E35: =E1 -> B & R | G35: =G1 -> Droitwich & KSAC | I35: =I1 -> DASH | K35: =K1 -> Halesowen | M35: =M1 -> Sparkhill | O35: =O1 -> Worcester | Q35: =Q1 -> MMAC
B36: Number | C36: =C2 -> 13 / 14 / A | D36: Pts | E36: =E2 -> 21 / 22 / N | F36: Pts | G36: =G2 -> 23 / 24 / O | H36: Pts | I36: =I2 -> 3 / 4 / C | J36: Pts | K36: =K2 -> 9 / 10 / P | L36: Pts | M36: =M2 -> 1 /2 / S | N36: Pts | O36: =O2 -> 11 / 12 / F | P36: Pts | Q36: =Q2 -> 35 / 36 / F | R36: Pts
A37: ='Men dec.'!A22 -> M50 Hammer | B37: Name | C37: =IF('Men dec.'!C22=0," ",'Men dec.'!C22) -> Dave Fall | D37: =IF((C38>0),VLOOKUP(C37,'Results input'!$C$135:$F$142,4,),"") -> 3 | E37: =IF('Men dec.'!E22=0," ",'Men dec.'!E22) -> Clive Brown | F37: =IF((E38>0),VLOOKUP(E37,'Results input'!$C$135:$F$142,4,),"") -> 4 | G37: =IF('Men dec.'!G22=0," ",'Men dec.'!G22) -> Dave Russell | H37: =IF((G38>0),VLOOKUP(G37,'Results input'!$C$135:$F$142,4,),"") -> 7 | I37: =IF('Men dec.'!I22=0," ",'Men dec.'!I22) | J37: =IF((I38>0),VLOOKUP(I37,'Results input'!$C$135:$F$142,4,),"") | K37: =IF('Men dec.'!K22=0," ",'Men dec.'!K22) -> Kevin Monk | L37: =IF((K38>0),VLOOKUP(K37,'Results input'!$C$135:$F$142,4,),"") -> 5 | M37: =IF('Men dec.'!M22=0," ",'Men dec.'!M22) | N37: =IF((M38>0),VLOOKUP(M37,'Results input'!$C$135:$F$142,4,),"") | O37: =IF('Men dec.'!O22=0," ",'Men dec.'!O22) -> Marc Flannery | P37: =IF((O38>0),VLOOKUP(O37,'Results input'!$C$135:$F$142,4,),"") -> 8 | Q37: =IF('Men dec.'!Q22=0," ",'Men dec.'!Q22) -> Anthony Porter | R37: =IF((Q38>0),VLOOKUP(Q37,'Results input'!$C$135:$F$142,4,),"") -> 6
B38: Perf. | C38: =IF(ISNA(VLOOKUP(C37,'Results input'!$C$135:$E$142,3,FALSE)),0,VLOOKUP(C37,'Results input'!$C$135:$E$142,3,FALSE)) -> 11.8 | E38: =IF(ISNA(VLOOKUP(E37,'Results input'!$C$135:$E$142,3,FALSE)),0,VLOOKUP(E37,'Results input'!$C$135:$E$142,3,FALSE)) -> 13.04 | G38: =IF(ISNA(VLOOKUP(G37,'Results input'!$C$135:$E$142,3,FALSE)),0,VLOOKUP(G37,'Results input'!$C$135:$E$142,3,FALSE)) -> 22.49 | I38: =IF(ISNA(VLOOKUP(I37,'Results input'!$C$135:$E$142,3,FALSE)),0,VLOOKUP(I37,'Results input'!$C$135:$E$142,3,FALSE)) -> 0 | K38: =IF(ISNA(VLOOKUP(K37,'Results input'!$C$135:$E$142,3,FALSE)),0,VLOOKUP(K37,'Results input'!$C$135:$E$142,3,FALSE)) -> 13.68 | M38: =IF(ISNA(VLOOKUP(M37,'Results input'!$C$135:$E$142,3,FALSE)),0,VLOOKUP(M37,'Results input'!$C$135:$E$142,3,FALSE)) -> 0 | O38: =IF(ISNA(VLOOKUP(O37,'Results input'!$C$135:$E$142,3,FALSE)),0,VLOOKUP(O37,'Results input'!$C$135:$E$142,3,FALSE)) -> 24.28 | Q38: =IF(ISNA(VLOOKUP(Q37,'Results input'!$C$135:$E$142,3,FALSE)),0,VLOOKUP(Q37,'Results input'!$C$135:$E$142,3,FALSE)) -> 16.55
A39: ='Men dec.'!A23 -> M35 Hammer | B39: Name | C39: =IF('Men dec.'!C23=0," ",'Men dec.'!C23) -> Julian Barnett | D39: =IF((C40>0),VLOOKUP(C39,'Results input'!$C$145:$F$152,4,),"") -> 5 | E39: =IF('Men dec.'!E23=0," ",'Men dec.'!E23) -> Andy Freeman | F39: =IF((E40>0),VLOOKUP(E39,'Results input'!$C$145:$F$152,4,),"") -> 7 | G39: =IF('Men dec.'!G23=0," ",'Men dec.'!G23) -> Keith Waldron | H39: =IF((G40>0),VLOOKUP(G39,'Results input'!$C$145:$F$152,4,),"") -> 6 | I39: =IF('Men dec.'!I23=0," ",'Men dec.'!I23) | J39: =IF((I40>0),VLOOKUP(I39,'Results input'!$C$145:$F$152,4,),"") | K39: =IF('Men dec.'!K23=0," ",'Men dec.'!K23) -> Matt Allen | L39: =IF((K40>0),VLOOKUP(K39,'Results input'!$C$145:$F$152,4,),"") -> 3 | M39: =IF('Men dec.'!M23=0," ",'Men dec.'!M23) -> Michael Westwood | N39: =IF((M40>0),VLOOKUP(M39,'Results input'!$C$145:$F$152,4,),"") -> 4 | O39: =IF('Men dec.'!O23=0," ",'Men dec.'!O23) -> Peter Stewart | P39: =IF((O40>0),VLOOKUP(O39,'Results input'!$C$145:$F$152,4,),"") -> 8 | Q39: =IF('Men dec.'!Q23=0," ",'Men dec.'!Q23) -> Anthony Porter | R39: =IF((Q40>0),VLOOKUP(Q39,'Results input'!$C$145:$F$152,4,),"")
B40: Perf. | C40: =IF(ISNA(VLOOKUP(C39,'Results input'!$C$145:$F$152,3,FALSE)),0,VLOOKUP(C39,'Results input'!$C$145:$F$152,3,FALSE)) -> 14.01 | E40: =IF(ISNA(VLOOKUP(E39,'Results input'!$C$145:$F$152,3,FALSE)),0,VLOOKUP(E39,'Results input'!$C$145:$F$152,3,FALSE)) -> 17.29 | G40: =IF(ISNA(VLOOKUP(G39,'Results input'!$C$145:$F$152,3,FALSE)),0,VLOOKUP(G39,'Results input'!$C$145:$F$152,3,FALSE)) -> 15.93 | I40: =IF(ISNA(VLOOKUP(I39,'Results input'!$C$145:$F$152,3,FALSE)),0,VLOOKUP(I39,'Results input'!$C$145:$F$152,3,FALSE)) -> 0 | K40: =IF(ISNA(VLOOKUP(K39,'Results input'!$C$145:$F$152,3,FALSE)),0,VLOOKUP(K39,'Results input'!$C$145:$F$152,3,FALSE)) -> 8.21 | M40: =IF(ISNA(VLOOKUP(M39,'Results input'!$C$145:$F$152,3,FALSE)),0,VLOOKUP(M39,'Results input'!$C$145:$F$152,3,FALSE)) -> 13.75 | O40: =IF(ISNA(VLOOKUP(O39,'Results input'!$C$145:$F$152,3,FALSE)),0,VLOOKUP(O39,'Results input'!$C$145:$F$152,3,FALSE)) -> 21.85 | Q40: =IF(ISNA(VLOOKUP(Q39,'Results input'!$C$145:$F$152,3,FALSE)),0,VLOOKUP(Q39,'Results input'!$C$145:$F$152,3,FALSE)) -> 0
A41: ='Men dec.'!A24 -> M60 Shot | B41: Name | C41: =IF('Men dec.'!C24=0," ",'Men dec.'!C24) -> Wilf Morgan | D41: =IF((C42>0),VLOOKUP(C41,'Results input'!$C$155:$F$162,4,),"") -> 2 | E41: =IF('Men dec.'!E24=0," ",'Men dec.'!E24) -> Clive Brown | F41: =IF((E42>0),VLOOKUP(E41,'Results input'!$C$155:$F$162,4,),"") -> 4 | G41: =IF('Men dec.'!G24=0," ",'Men dec.'!G24) -> Dave Russell | H41: =IF((G42>0),VLOOKUP(G41,'Results input'!$C$155:$F$162,4,),"") -> 8 | I41: =IF('Men dec.'!I24=0," ",'Men dec.'!I24) | J41: =IF((I42>0),VLOOKUP(I41,'Results input'!$C$155:$F$162,4,),"") | K41: =IF('Men dec.'!K24=0," ",'Men dec.'!K24) -> Les Woods | L41: =IF((K42>0),VLOOKUP(K41,'Results input'!$C$155:$F$162,4,),"") -> 5 | M41: =IF('Men dec.'!M24=0," ",'Men dec.'!M24) -> Bernie Waring | N41: =IF((M42>0),VLOOKUP(M41,'Results input'!$C$155:$F$162,4,),"") -> 6 | O41: =IF('Men dec.'!O24=0," ",'Men dec.'!O24) -> Ian Bowles | P41: =IF((O42>0),VLOOKUP(O41,'Results input'!$C$155:$F$162,4,),"") -> 7 | Q41: =IF('Men dec.'!Q24=0," ",'Men dec.'!Q24) -> Michael Elwell | R41: =IF((Q42>0),VLOOKUP(Q41,'Results input'!$C$155:$F$162,4,),"") -> 3
B42: Perf. | C42: =IF(ISNA(VLOOKUP(C41,'Results input'!$C$155:$F$162,3,FALSE)),0,VLOOKUP(C41,'Results input'!$C$155:$F$162,3,FALSE)) -> 5.83 | E42: =IF(ISNA(VLOOKUP(E41,'Results input'!$C$155:$F$162,3,FALSE)),0,VLOOKUP(E41,'Results input'!$C$155:$F$162,3,FALSE)) -> 6.1 | G42: =IF(ISNA(VLOOKUP(G41,'Results input'!$C$155:$F$162,3,FALSE)),0,VLOOKUP(G41,'Results input'!$C$155:$F$162,3,FALSE)) -> 9.73 | I42: =IF(ISNA(VLOOKUP(I41,'Results input'!$C$155:$F$162,3,FALSE)),0,VLOOKUP(I41,'Results input'!$C$155:$F$162,3,FALSE)) -> 0 | K42: =IF(ISNA(VLOOKUP(K41,'Results input'!$C$155:$F$162,3,FALSE)),0,VLOOKUP(K41,'Results input'!$C$155:$F$162,3,FALSE)) -> 6.7 | M42: =IF(ISNA(VLOOKUP(M41,'Results input'!$C$155:$F$162,3,FALSE)),0,VLOOKUP(M41,'Results input'!$C$155:$F$162,3,FALSE)) -> 7.31 | O42: =IF(ISNA(VLOOKUP(O41,'Results input'!$C$155:$F$162,3,FALSE)),0,VLOOKUP(O41,'Results input'!$C$155:$F$162,3,FALSE)) -> 9 | Q42: =IF(ISNA(VLOOKUP(Q41,'Results input'!$C$155:$F$162,3,FALSE)),0,VLOOKUP(Q41,'Results input'!$C$155:$F$162,3,FALSE)) -> 6
A43: ='Men dec.'!A25 -> M35 High J | B43: Name | C43: =IF('Men dec.'!C25=0," ",'Men dec.'!C25) -> Martin Maynard | D43: =IF((C44>0),VLOOKUP(C43,'Results input'!$C$165:$F$172,4,),"") -> 5 | E43: =IF('Men dec.'!E25=0," ",'Men dec.'!E25) -> Andy Freeman | F43: =IF((E44>0),VLOOKUP(E43,'Results input'!$C$165:$F$172,4,),"") -> 6 | G43: =IF('Men dec.'!G25=0," ",'Men dec.'!G25) -> Adrian James | H43: =IF((G44>0),VLOOKUP(G43,'Results input'!$C$165:$F$172,4,),"") | I43: =IF('Men dec.'!I25=0," ",'Men dec.'!I25) | J43: =IF((I44>0),VLOOKUP(I43,'Results input'!$C$165:$F$172,4,),"") | K43: =IF('Men dec.'!K25=0," ",'Men dec.'!K25) -> Mike Neylon | L43: =IF((K44>0),VLOOKUP(K43,'Results input'!$C$165:$F$172,4,),"") | M43: =IF('Men dec.'!M25=0," ",'Men dec.'!M25) -> David Hanson | N43: =IF((M44>0),VLOOKUP(M43,'Results input'!$C$165:$F$172,4,),"") -> 8 | O43: =IF('Men dec.'!O25=0," ",'Men dec.'!O25) -> Peter Stewart | P43: =IF((O44>0),VLOOKUP(O43,'Results input'!$C$165:$F$172,4,),"") -> 7 | Q43: =IF('Men dec.'!Q25=0," ",'Men dec.'!Q25) | R43: =IF((Q44>0),VLOOKUP(Q43,'Results input'!$C$165:$F$172,4,),"")
B44: Perf. | C44: =IF(ISNA(VLOOKUP(C43,'Results input'!$C$165:$F$172,3,FALSE)),0,VLOOKUP(C43,'Results input'!$C$165:$F$172,3,FALSE)) -> 1.4 | E44: =IF(ISNA(VLOOKUP(E43,'Results input'!$C$165:$F$172,3,FALSE)),0,VLOOKUP(E43,'Results input'!$C$165:$F$172,3,FALSE)) -> 1.45 | G44: =IF(ISNA(VLOOKUP(G43,'Results input'!$C$165:$F$172,3,FALSE)),0,VLOOKUP(G43,'Results input'!$C$165:$F$172,3,FALSE)) -> 0 | I44: =IF(ISNA(VLOOKUP(I43,'Results input'!$C$165:$F$172,3,FALSE)),0,VLOOKUP(I43,'Results input'!$C$165:$F$172,3,FALSE)) -> 0 | K44: =IF(ISNA(VLOOKUP(K43,'Results input'!$C$165:$F$172,3,FALSE)),0,VLOOKUP(K43,'Results input'!$C$165:$F$172,3,FALSE)) -> 0 | M44: =IF(ISNA(VLOOKUP(M43,'Results input'!$C$165:$F$172,3,FALSE)),0,VLOOKUP(M43,'Results input'!$C$165:$F$172,3,FALSE)) -> 1.6 | O44: =IF(ISNA(VLOOKUP(O43,'Results input'!$C$165:$F$172,3,FALSE)),0,VLOOKUP(O43,'Results input'!$C$165:$F$172,3,FALSE)) -> 1.5 | Q44: =IF(ISNA(VLOOKUP(Q43,'Results input'!$C$165:$F$172,3,FALSE)),0,VLOOKUP(Q43,'Results input'!$C$165:$F$172,3,FALSE)) -> 0
A45: ='Men dec.'!A26 -> M50 High J | B45: Name | C45: =IF('Men dec.'!C26=0," ",'Men dec.'!C26) -> Paul Rogers | D45: =IF((C46>0),VLOOKUP(C45,'Results input'!$C$175:$F$182,4,),"") -> 7 | E45: =IF('Men dec.'!E26=0," ",'Men dec.'!E26) -> Dave Cleverley | F45: =IF((E46>0),VLOOKUP(E45,'Results input'!$C$175:$F$182,4,),"") | G45: =IF('Men dec.'!G26=0," ",'Men dec.'!G26) -> Tony Crocker | H45: =IF((G46>0),VLOOKUP(G45,'Results input'!$C$175:$F$182,4,),"") -> 5 | I45: =IF('Men dec.'!I26=0," ",'Men dec.'!I26) | J45: =IF((I46>0),VLOOKUP(I45,'Results input'!$C$175:$F$182,4,),"") | K45: =IF('Men dec.'!K26=0," ",'Men dec.'!K26) | L45: =IF((K46>0),VLOOKUP(K45,'Results input'!$C$175:$F$182,4,),"") | M45: =IF('Men dec.'!M26=0," ",'Men dec.'!M26) -> Simon Willington | N45: =IF((M46>0),VLOOKUP(M45,'Results input'!$C$175:$F$182,4,),"") -> 6 | O45: =IF('Men dec.'!O26=0," ",'Men dec.'!O26) -> Marc Flannery | P45: =IF((O46>0),VLOOKUP(O45,'Results input'!$C$175:$F$182,4,),"") -> 8 | Q45: =IF('Men dec.'!Q26=0," ",'Men dec.'!Q26) | R45: =IF((Q46>0),VLOOKUP(Q45,'Results input'!$C$175:$F$182,4,),"")
B46: Perf. | C46: =IF(ISNA(VLOOKUP(C45,'Results input'!$C$175:$F$182,3,FALSE)),0,VLOOKUP(C45,'Results input'!$C$175:$F$182,3,FALSE)) -> 1.4 | E46: =IF(ISNA(VLOOKUP(E45,'Results input'!$C$175:$F$182,3,FALSE)),0,VLOOKUP(E45,'Results input'!$C$175:$F$182,3,FALSE)) -> 0 | G46: =IF(ISNA(VLOOKUP(G45,'Results input'!$C$175:$F$182,3,FALSE)),0,VLOOKUP(G45,'Results input'!$C$175:$F$182,3,FALSE)) -> 1.3 | I46: =IF(ISNA(VLOOKUP(I45,'Results input'!$C$175:$F$182,3,FALSE)),0,VLOOKUP(I45,'Results input'!$C$175:$F$182,3,FALSE)) -> 0 | K46: =IF(ISNA(VLOOKUP(K45,'Results input'!$C$175:$F$182,3,FALSE)),0,VLOOKUP(K45,'Results input'!$C$175:$F$182,3,FALSE)) -> 0 | M46: =IF(ISNA(VLOOKUP(M45,'Results input'!$C$175:$F$182,3,FALSE)),0,VLOOKUP(M45,'Results input'!$C$175:$F$182,3,FALSE)) -> 1.4 | O46: =IF(ISNA(VLOOKUP(O45,'Results input'!$C$175:$F$182,3,FALSE)),0,VLOOKUP(O45,'Results input'!$C$175:$F$182,3,FALSE)) -> 1.45 | Q46: =IF(ISNA(VLOOKUP(Q45,'Results input'!$C$175:$F$182,3,FALSE)),0,VLOOKUP(Q45,'Results input'!$C$175:$F$182,3,FALSE)) -> 0
A47: ='Men dec.'!A27 -> M40 Triple J | B47: Name | C47: =IF('Men dec.'!C27=0," ",'Men dec.'!C27) -> John Constandinou | D47: =IF((C48>0),VLOOKUP(C47,'Results input'!$C$185:$F$192,4,),"") -> 5 | E47: =IF('Men dec.'!E27=0," ",'Men dec.'!E27) -> Wondu Ben Beyene | F47: =IF((E48>0),VLOOKUP(E47,'Results input'!$C$185:$F$192,4,),"") -> 6 | G47: =IF('Men dec.'!G27=0," ",'Men dec.'!G27) -> Adrian James | H47: =IF((G48>0),VLOOKUP(G47,'Results input'!$C$185:$F$192,4,),"") | I47: =IF('Men dec.'!I27=0," ",'Men dec.'!I27) | J47: =IF((I48>0),VLOOKUP(I47,'Results input'!$C$185:$F$192,4,),"") | K47: =IF('Men dec.'!K27=0," ",'Men dec.'!K27) -> Mike Neylon | L47: =IF((K48>0),VLOOKUP(K47,'Results input'!$C$185:$F$192,4,),"") | M47: =IF('Men dec.'!M27=0," ",'Men dec.'!M27) -> David Hanson | N47: =IF((M48>0),VLOOKUP(M47,'Results input'!$C$185:$F$192,4,),"") -> 8 | O47: =IF('Men dec.'!O27=0," ",'Men dec.'!O27) -> Marc Flannery | P47: =IF((O48>0),VLOOKUP(O47,'Results input'!$C$185:$F$192,4,),"") -> 7 | Q47: =IF('Men dec.'!Q27=0," ",'Men dec.'!Q27) | R47: =IF((Q48>0),VLOOKUP(Q47,'Results input'!$C$185:$F$192,4,),"")
B48: Perf. | C48: =IF(ISNA(VLOOKUP(C47,'Results input'!$C$185:$F$192,3,FALSE)),0,VLOOKUP(C47,'Results input'!$C$185:$F$192,3,FALSE)) -> 6.81 | E48: =IF(ISNA(VLOOKUP(E47,'Results input'!$C$185:$F$192,3,FALSE)),0,VLOOKUP(E47,'Results input'!$C$185:$F$192,3,FALSE)) -> 7.35 | G48: =IF(ISNA(VLOOKUP(G47,'Results input'!$C$185:$F$192,3,FALSE)),0,VLOOKUP(G47,'Results input'!$C$185:$F$192,3,FALSE)) -> 0 | I48: =IF(ISNA(VLOOKUP(I47,'Results input'!$C$185:$F$192,3,FALSE)),0,VLOOKUP(I47,'Results input'!$C$185:$F$192,3,FALSE)) -> 0 | K48: =IF(ISNA(VLOOKUP(K47,'Results input'!$C$185:$F$192,3,FALSE)),0,VLOOKUP(K47,'Results input'!$C$185:$F$192,3,FALSE)) -> 0 | M48: =IF(ISNA(VLOOKUP(M47,'Results input'!$C$185:$F$192,3,FALSE)),0,VLOOKUP(M47,'Results input'!$C$185:$F$192,3,FALSE)) -> 10.14 | O48: =IF(ISNA(VLOOKUP(O47,'Results input'!$C$185:$F$192,3,FALSE)),0,VLOOKUP(O47,'Results input'!$C$185:$F$192,3,FALSE)) -> 8.58 | Q48: =IF(ISNA(VLOOKUP(Q47,'Results input'!$C$185:$F$192,3,FALSE)),0,VLOOKUP(Q47,'Results input'!$C$185:$F$192,3,FALSE)) -> 0
A49: ='Men dec.'!A28 -> M35 Javelin | B49: Name | C49: =IF('Men dec.'!C28=0," ",'Men dec.'!C28) -> Julian Barnett | D49: =IF((C50>0),VLOOKUP(C49,'Results input'!$C$195:$F$202,4,),"") -> 5 | E49: =IF('Men dec.'!E28=0," ",'Men dec.'!E28) -> Andy Freeman | F49: =IF((E50>0),VLOOKUP(E49,'Results input'!$C$195:$F$202,4,),"") -> 8 | G49: =IF('Men dec.'!G28=0," ",'Men dec.'!G28) -> Dave Russell | H49: =IF((G50>0),VLOOKUP(G49,'Results input'!$C$195:$F$202,4,),"") -> 6 | I49: =IF('Men dec.'!I28=0," ",'Men dec.'!I28) | J49: =IF((I50>0),VLOOKUP(I49,'Results input'!$C$195:$F$202,4,),"") | K49: =IF('Men dec.'!K28=0," ",'Men dec.'!K28) -> Matt Allen | L49: =IF((K50>0),VLOOKUP(K49,'Results input'!$C$195:$F$202,4,),"") -> 3 | M49: =IF('Men dec.'!M28=0," ",'Men dec.'!M28) -> Michael Westwood | N49: =IF((M50>0),VLOOKUP(M49,'Results input'!$C$195:$F$202,4,),"") -> 4 | O49: =IF('Men dec.'!O28=0," ",'Men dec.'!O28) -> Peter Stewart | P49: =IF((O50>0),VLOOKUP(O49,'Results input'!$C$195:$F$202,4,),"") -> 7 | Q49: =IF('Men dec.'!Q28=0," ",'Men dec.'!Q28) -> Anthony Porter | R49: =IF((Q50>0),VLOOKUP(Q49,'Results input'!$C$195:$F$202,4,),"")
B50: Perf. | C50: =IF(ISNA(VLOOKUP(C49,'Results input'!$C$195:$F$202,3,FALSE)),0,VLOOKUP(C49,'Results input'!$C$195:$F$202,3,FALSE)) -> 15.5 | E50: =IF(ISNA(VLOOKUP(E49,'Results input'!$C$195:$F$202,3,FALSE)),0,VLOOKUP(E49,'Results input'!$C$195:$F$202,3,FALSE)) -> 31.8 | G50: =IF(ISNA(VLOOKUP(G49,'Results input'!$C$195:$F$202,3,FALSE)),0,VLOOKUP(G49,'Results input'!$C$195:$F$202,3,FALSE)) -> 20.12 | I50: =IF(ISNA(VLOOKUP(I49,'Results input'!$C$195:$F$202,3,FALSE)),0,VLOOKUP(I49,'Results input'!$C$195:$F$202,3,FALSE)) -> 0 | K50: =IF(ISNA(VLOOKUP(K49,'Results input'!$C$195:$F$202,3,FALSE)),0,VLOOKUP(K49,'Results input'!$C$195:$F$202,3,FALSE)) -> 7.08 | M50: =IF(ISNA(VLOOKUP(M49,'Results input'!$C$195:$F$202,3,FALSE)),0,VLOOKUP(M49,'Results input'!$C$195:$F$202,3,FALSE)) -> 15.04 | O50: =IF(ISNA(VLOOKUP(O49,'Results input'!$C$195:$F$202,3,FALSE)),0,VLOOKUP(O49,'Results input'!$C$195:$F$202,3,FALSE)) -> 24.57 | Q50: =IF(ISNA(VLOOKUP(Q49,'Results input'!$C$195:$F$202,3,FALSE)),0,VLOOKUP(Q49,'Results input'!$C$195:$F$202,3,FALSE)) -> 0
A51: ='Men dec.'!A29 -> Spare | B51: Name | C51: =IF('Men dec.'!C29=0," ",'Men dec.'!C29) | D51: =IF((C52>0),VLOOKUP(C51,'Results input'!$C$205:$F$212,4,),"") | E51: =IF('Men dec.'!E29=0," ",'Men dec.'!E29) | F51: =IF((E52>0),VLOOKUP(E51,'Results input'!$C$205:$F$212,4,),"") | G51: =IF('Men dec.'!G29=0," ",'Men dec.'!G29) | H51: =IF((G52>0),VLOOKUP(G51,'Results input'!$C$205:$F$212,4,),"") | I51: =IF('Men dec.'!I29=0," ",'Men dec.'!I29) | J51: =IF((I52>0),VLOOKUP(I51,'Results input'!$C$205:$F$212,4,),"") | K51: =IF('Men dec.'!K29=0," ",'Men dec.'!K29) | L51: =IF((K52>0),VLOOKUP(K51,'Results input'!$C$205:$F$212,4,),"") | M51: =IF('Men dec.'!M29=0," ",'Men dec.'!M29) | N51: =IF((M52>0),VLOOKUP(M51,'Results input'!$C$205:$F$212,4,),"") | O51: =IF('Men dec.'!O29=0," ",'Men dec.'!O29) | P51: =IF((O52>0),VLOOKUP(O51,'Results input'!$C$205:$F$212,4,),"") | Q51: =IF('Men dec.'!Q29=0," ",'Men dec.'!Q29) | R51: =IF((Q52>0),VLOOKUP(Q51,'Results input'!$C$205:$F$212,4,),"")
B52: Perf. | C52: =IF(ISNA(VLOOKUP(C51,'Results input'!$C$205:$F$212,3,FALSE)),0,VLOOKUP(C51,'Results input'!$C$205:$F$212,3,FALSE)) -> 0 | E52: =IF(ISNA(VLOOKUP(E51,'Results input'!$C$205:$F$212,3,FALSE)),0,VLOOKUP(E51,'Results input'!$C$205:$F$212,3,FALSE)) -> 0 | G52: =IF(ISNA(VLOOKUP(G51,'Results input'!$C$205:$F$212,3,FALSE)),0,VLOOKUP(G51,'Results input'!$C$205:$F$212,3,FALSE)) -> 0 | I52: =IF(ISNA(VLOOKUP(I51,'Results input'!$C$205:$F$212,3,FALSE)),0,VLOOKUP(I51,'Results input'!$C$205:$F$212,3,FALSE)) -> 0 | K52: =IF(ISNA(VLOOKUP(K51,'Results input'!$C$205:$F$212,3,FALSE)),0,VLOOKUP(K51,'Results input'!$C$205:$F$212,3,FALSE)) -> 0 | M52: =IF(ISNA(VLOOKUP(M51,'Results input'!$C$205:$F$212,3,FALSE)),0,VLOOKUP(M51,'Results input'!$C$205:$F$212,3,FALSE)) -> 0 | O52: =IF(ISNA(VLOOKUP(O51,'Results input'!$C$205:$F$212,3,FALSE)),0,VLOOKUP(O51,'Results input'!$C$205:$F$212,3,FALSE)) -> 0 | Q52: =IF(ISNA(VLOOKUP(Q51,'Results input'!$C$205:$F$212,3,FALSE)),0,VLOOKUP(Q51,'Results input'!$C$205:$F$212,3,FALSE)) -> 0
A53: Field Totals | D53: =SUM(D37:D52) -> 32 | F53: =SUM(F37:F52) -> 35 | H53: =SUM(H37:H52) -> 32 | J53: =SUM(J37:J52) -> 0 | L53: =SUM(L37:L52) -> 16 | N53: =SUM(N37:N52) -> 36 | P53: =SUM(P37:P52) -> 52 | R53: =SUM(R37:R52) -> 9
A55: Track Totals | D55: =SUM(D3:D32) -> 67 | F55: =SUM(F3:F32) -> 80 | H55: =SUM(H3:H32) -> 37 | J55: =SUM(J3:J32) -> 17 | L55: =SUM(L3:L32) -> 59 | N55: =SUM(N3:N32) -> 52 | P55: =SUM(P3:P32) -> 78 | R55: =SUM(R3:R32) -> 19
A57: Final TOTALS | D57: =(D33+D53) -> 99 | F57: =(F33+F53) -> 115 | H57: =(H33+H53) -> 69 | J57: =(J33+J53) -> 17 | L57: =(L33+L53) -> 75 | N57: =(N33+N53) -> 88 | P57: =(P33+P53) -> 130 | R57: =(R33+R53) -> 28
A58: ` | B58: (Team) | D58: =RANK(D57,$D57:$R57) -> 3 | F58: =RANK(F57,$D57:$R57) -> 2 | H58: =RANK(H57,$D57:$R57) -> 6 | J58: =RANK(J57,$D57:$R57) -> 8 | L58: =RANK(L57,$D57:$R57) -> 5 | N58: =RANK(N57,$D57:$R57) -> 4 | P58: =RANK(P57,$D57:$R57) -> 1 | R58: =RANK(R57,$D57:$R57) -> 7
A59: Lge Pts | B59: (Team)
A61: Note;- All events + Relays Score ; 8,7,6,5,4,3,2,1
A62: GUESTS results:- | C62: Event | E62: Name | I62: Club | K62: Performance
C63: M60 2K Walk | E63: Dave Fall/ John Fenton (A1) | I63: Birchfield | K63: 13.41.5
C64: M60 2K Walk | E64: Dave Fall/ John Fenton (A2) | I64: Birchfield | K64: 14.08.7
C65: M50 Hammer | E65: Richard Eastman | I65: Droit & KSAC | K65: 20.81m
C66: M35 Hammer | E66: Tony Porter | I66: MMAC | K66: 15.47m
C67: M60 100m | E67: Richard Perkins | I67: Worc | K67: 16.1
C68: M35 1500m | E68: Nick Hitchings | I68: Worc | K68: 5.08.2
C69: M40 1500m | E69: Darren Salisbury | I69: Worc | K69: 4.27.1
C70: M40 1500m | E70: Matt Henney | I70: B&R | K70: 5.07.3
C71: M40 1500m | E71: Roger Mallard | I71: Halesowen | K71: 4.33.3
C72: M35 1500m | E72: Matt Allen | I72: Halesowen | K72: 4.51.2
C73: M50 1500m | E73: Martin Cole | I73: Worc | K73: 5.39.7
C74: 4x200m Relay | E74: Worcester | I74: Worc | K74: 1.58.1

Sheet Women
A1: EVENT | B1: Club:- | C1: ='women dec'!C1 -> Birchfield | E1: ='women dec'!E1 -> B & R | G1: ='women dec'!G1 -> Droitwich & KSAC | I1: ='women dec'!I1 -> DASH | K1: ='women dec'!K1 -> Halesowen | M1: ='women dec'!M1 -> Sparkhill | O1: ='women dec'!O1 -> Worcester | Q1: ='women dec'!Q1 -> MMAC
B2: Number | C2: ='women dec'!C2 -> 63 /64 / A | D2: Pts | E2: ='women dec'!E2 -> 71/ 72 /N | F2: Pts | G2: ='women dec'!G2 -> 73 / 74 /O | H2: Pts | I2: ='women dec'!I2 -> 53/ 54 / C | J2: Pts | K2: ='women dec'!K2 -> 59 / 60 / P | L2: Pts | M2: ='women dec'!M2 -> 151 /152 / S | N2: Pts | O2: ='women dec'!O2 -> 61 / 62 / F | P2: Pts | Q2: ='women dec'!Q2 -> 85 / 86 / K | R2: Pts
A3: ='women dec'!A4 -> W60 100m | B3: Name | C3: =IF('women dec'!C4=0," ",'women dec'!C4) | D3: =IF((C4>0),VLOOKUP(C3,'Results input'!$J$4:$M$11,4,),"") | E3: =IF('women dec'!E4=0," ",'women dec'!E4) -> Rita Brownlie | F3: =IF((E4>0),VLOOKUP(E3,'Results input'!$J$4:$M$11,4,),"") -> 7 | G3: =IF('women dec'!G4=0," ",'women dec'!G4) | H3: =IF((G4>0),VLOOKUP(G3,'Results input'!$J$4:$M$11,4,),"") | I3: =IF('women dec'!I4=0," ",'women dec'!I4) | J3: =IF((I4>0),VLOOKUP(I3,'Results input'!$J$4:$M$11,4,),"") | K3: =IF('women dec'!K4=0," ",'women dec'!K4) -> Rosemary Chrimes | L3: =IF((K4>0),VLOOKUP(K3,'Results input'!$J$4:$M$11,4,),"") -> 5 | M3: =IF('women dec'!M4=0," ",'women dec'!M4) -> Gill Millicheap | N3: =IF((M4>0),VLOOKUP(M3,'Results input'!$J$4:$M$11,4,),"") -> 8 | O3: =IF('women dec'!O4=0," ",'women dec'!O4) -> Rebecca Hambrook | P3: =IF((O4>0),VLOOKUP(O3,'Results input'!$J$4:$M$11,4,),"") -> 6 | Q3: =IF('women dec'!Q4=0," ",'women dec'!Q4) | R3: =IF((Q4>0),VLOOKUP(Q3,'Results input'!$J$4:$M$11,4,),"")
B4: Perf. | C4: =IF(ISNA(VLOOKUP(C3,'Results input'!$J$4:$L$11,3,FALSE)),0,VLOOKUP(C3,'Results input'!$J$4:$L$11,3,FALSE)) -> 0 | E4: =IF(ISNA(VLOOKUP(E3,'Results input'!$J$4:$L$11,3,FALSE)),0,VLOOKUP(E3,'Results input'!$J$4:$L$11,3,FALSE)) -> 20.5 | G4: =IF(ISNA(VLOOKUP(G3,'Results input'!$J$4:$L$11,3,FALSE)),0,VLOOKUP(G3,'Results input'!$J$4:$L$11,3,FALSE)) -> 0 | I4: =IF(ISNA(VLOOKUP(I3,'Results input'!$J$4:$L$11,3,FALSE)),0,VLOOKUP(I3,'Results input'!$J$4:$L$11,3,FALSE)) -> 0 | K4: =IF(ISNA(VLOOKUP(K3,'Results input'!$J$4:$L$11,3,FALSE)),0,VLOOKUP(K3,'Results input'!$J$4:$L$11,3,FALSE)) -> 21.1 | M4: =IF(ISNA(VLOOKUP(M3,'Results input'!$J$4:$L$11,3,FALSE)),0,VLOOKUP(M3,'Results input'!$J$4:$L$11,3,FALSE)) -> 18.5 | O4: =IF(ISNA(VLOOKUP(O3,'Results input'!$J$4:$L$11,3,FALSE)),0,VLOOKUP(O3,'Results input'!$J$4:$L$11,3,FALSE)) -> 20.7 | Q4: =IF(ISNA(VLOOKUP(Q3,'Results input'!$J$4:$L$11,3,FALSE)),0,VLOOKUP(Q3,'Results input'!$J$4:$L$11,3,FALSE)) -> 0
A5: ='women dec'!A5 -> W50 100m | B5: Name | C5: =IF('women dec'!C5=0," ",'women dec'!C5) -> Viv Bonner | D5: =IF((C6>0),VLOOKUP(C5,'Results input'!$J$14:$M$21,4,),"") -> 8 | E5: =IF('women dec'!E5=0," ",'women dec'!E5) -> Julie Wakelam | F5: =IF((E6>0),VLOOKUP(E5,'Results input'!$J$14:$M$21,4,),"") -> 5 | G5: =IF('women dec'!G5=0," ",'women dec'!G5) | H5: =IF((G6>0),VLOOKUP(G5,'Results input'!$J$14:$M$21,4,),"") | I5: =IF('women dec'!I5=0," ",'women dec'!I5) -> Elaine Restorick | J5: =IF((I6>0),VLOOKUP(I5,'Results input'!$J$14:$M$21,4,),"") -> 7 | K5: =IF('women dec'!K5=0," ",'women dec'!K5) -> Liz Tindle | L5: =IF((K6>0),VLOOKUP(K5,'Results input'!$J$14:$M$21,4,),"") -> 6 | M5: =IF('women dec'!M5=0," ",'women dec'!M5) | N5: =IF((M6>0),VLOOKUP(M5,'Results input'!$J$14:$M$21,4,),"") | O5: =IF('women dec'!O5=0," ",'women dec'!O5) -> Ros Townsend Hope | P5: =IF((O6>0),VLOOKUP(O5,'Results input'!$J$14:$M$21,4,),"") -> 4 | Q5: =IF('women dec'!Q5=0," ",'women dec'!Q5) | R5: =IF((Q6>0),VLOOKUP(Q5,'Results input'!$J$14:$M$21,4,),"")
B6: Perf. | C6: =IF(ISNA(VLOOKUP(C5,'Results input'!$J$14:$L$21,3,FALSE)),0,VLOOKUP(C5,'Results input'!$J$14:$L$21,3,FALSE)) -> 14.7 | E6: =IF(ISNA(VLOOKUP(E5,'Results input'!$J$14:$L$21,3,FALSE)),0,VLOOKUP(E5,'Results input'!$J$14:$L$21,3,FALSE)) -> 16.9 | G6: =IF(ISNA(VLOOKUP(G5,'Results input'!$J$14:$L$21,3,FALSE)),0,VLOOKUP(G5,'Results input'!$J$14:$L$21,3,FALSE)) -> 0 | I6: =IF(ISNA(VLOOKUP(I5,'Results input'!$J$14:$L$21,3,FALSE)),0,VLOOKUP(I5,'Results input'!$J$14:$L$21,3,FALSE)) -> 16.5 | K6: =IF(ISNA(VLOOKUP(K5,'Results input'!$J$14:$L$21,3,FALSE)),0,VLOOKUP(K5,'Results input'!$J$14:$L$21,3,FALSE)) -> 16.7 | M6: =IF(ISNA(VLOOKUP(M5,'Results input'!$J$14:$L$21,3,FALSE)),0,VLOOKUP(M5,'Results input'!$J$14:$L$21,3,FALSE)) -> 0 | O6: =IF(ISNA(VLOOKUP(O5,'Results input'!$J$14:$L$21,3,FALSE)),0,VLOOKUP(O5,'Results input'!$J$14:$L$21,3,FALSE)) -> 17.8 | Q6: =IF(ISNA(VLOOKUP(Q5,'Results input'!$J$14:$L$21,3,FALSE)),0,VLOOKUP(Q5,'Results input'!$J$14:$L$21,3,FALSE)) -> 0
A7: ='women dec'!A6 -> W40 100m | B7: Name | C7: =IF('women dec'!C6=0," ",'women dec'!C6) -> Judy Johnson | D7: =IF((C8>0),VLOOKUP(C7,'Results input'!$J$24:$M$31,4,),"") -> 6 | E7: =IF('women dec'!E6=0," ",'women dec'!E6) -> Debbie Ricci | F7: =IF((E8>0),VLOOKUP(E7,'Results input'!$J$24:$M$31,4,),"") -> 7 | G7: =IF('women dec'!G6=0," ",'women dec'!G6) -> Kate Murdoch | H7: =IF((G8>0),VLOOKUP(G7,'Results input'!$J$24:$M$31,4,),"") -> 8 | I7: =IF('women dec'!I6=0," ",'women dec'!I6) | J7: =IF((I8>0),VLOOKUP(I7,'Results input'!$J$24:$M$31,4,),"") | K7: =IF('women dec'!K6=0," ",'women dec'!K6) -> Julie Dale | L7: =IF((K8>0),VLOOKUP(K7,'Results input'!$J$24:$M$31,4,),"") -> 5 | M7: =IF('women dec'!M6=0," ",'women dec'!M6) | N7: =IF((M8>0),VLOOKUP(M7,'Results input'!$J$24:$M$31,4,),"") | O7: =IF('women dec'!O6=0," ",'women dec'!O6) -> Ruth Bird | P7: =IF((O8>0),VLOOKUP(O7,'Results input'!$J$24:$M$31,4,),"") -> 4 | Q7: =IF('women dec'!Q6=0," ",'women dec'!Q6) | R7: =IF((Q8>0),VLOOKUP(Q7,'Results input'!$J$24:$M$31,4,),"")
B8: Perf. | C8: =IF(ISNA(VLOOKUP(C7,'Results input'!$J$24:$L$31,3,FALSE)),0,VLOOKUP(C7,'Results input'!$J$24:$L$31,3,FALSE)) -> 15.7 | E8: =IF(ISNA(VLOOKUP(E7,'Results input'!$J$24:$L$31,3,FALSE)),0,VLOOKUP(E7,'Results input'!$J$24:$L$31,3,FALSE)) -> 15.3 | G8: =IF(ISNA(VLOOKUP(G7,'Results input'!$J$24:$L$31,3,FALSE)),0,VLOOKUP(G7,'Results input'!$J$24:$L$31,3,FALSE)) -> 14.3 | I8: =IF(ISNA(VLOOKUP(I7,'Results input'!$J$24:$L$31,3,FALSE)),0,VLOOKUP(I7,'Results input'!$J$24:$L$31,3,FALSE)) -> 0 | K8: =IF(ISNA(VLOOKUP(K7,'Results input'!$J$24:$L$31,3,FALSE)),0,VLOOKUP(K7,'Results input'!$J$24:$L$31,3,FALSE)) -> 15.9 | M8: =IF(ISNA(VLOOKUP(M7,'Results input'!$J$24:$L$31,3,FALSE)),0,VLOOKUP(M7,'Results input'!$J$24:$L$31,3,FALSE)) -> 0 | O8: =IF(ISNA(VLOOKUP(O7,'Results input'!$J$24:$L$31,3,FALSE)),0,VLOOKUP(O7,'Results input'!$J$24:$L$31,3,FALSE)) -> 17.2 | Q8: =IF(ISNA(VLOOKUP(Q7,'Results input'!$J$24:$L$31,3,FALSE)),0,VLOOKUP(Q7,'Results input'!$J$24:$L$31,3,FALSE)) -> 0 | S8: Note performances will not appear unless the athlete has been declared
A9: ='women dec'!A7 -> W35 100m | B9: Name | C9: =IF('women dec'!C7=0," ",'women dec'!C7) -> Julie Rogers | D9: =IF((C10>0),VLOOKUP(C9,'Results input'!$J$34:$M$41,4,),"") -> 7 | E9: =IF('women dec'!E7=0," ",'women dec'!E7) -> Yasmine Al-Daftary | F9: =IF((E10>0),VLOOKUP(E9,'Results input'!$J$34:$M$41,4,),"") -> 5 | G9: =IF('women dec'!G7=0," ",'women dec'!G7) | H9: =IF((G10>0),VLOOKUP(G9,'Results input'!$J$34:$M$41,4,),"") | I9: =IF('women dec'!I7=0," ",'women dec'!I7) | J9: =IF((I10>0),VLOOKUP(I9,'Results input'!$J$34:$M$41,4,),"") | K9: =IF('women dec'!K7=0," ",'women dec'!K7) -> Sally Spencer | L9: =IF((K10>0),VLOOKUP(K9,'Results input'!$J$34:$M$41,4,),"") -> 4 | M9: =IF('women dec'!M7=0," ",'women dec'!M7) -> Megan Harris | N9: =IF((M10>0),VLOOKUP(M9,'Results input'!$J$34:$M$41,4,),"") -> 6 | O9: =IF('women dec'!O7=0," ",'women dec'!O7) -> Cat Goulder- Davies | P9: =IF((O10>0),VLOOKUP(O9,'Results input'!$J$34:$M$41,4,),"") -> 8 | Q9: =IF('women dec'!Q7=0," ",'women dec'!Q7) | R9: =IF((Q10>0),VLOOKUP(Q9,'Results input'!$J$34:$M$41,4,),"")
B10: Perf. | C10: =IF(ISNA(VLOOKUP(C9,'Results input'!$J$34:$L$41,3,FALSE)),0,VLOOKUP(C9,'Results input'!$J$34:$L$41,3,FALSE)) -> 14.8 | E10: =IF(ISNA(VLOOKUP(E9,'Results input'!$J$34:$L$41,3,FALSE)),0,VLOOKUP(E9,'Results input'!$J$34:$L$41,3,FALSE)) -> 16.1 | G10: =IF(ISNA(VLOOKUP(G9,'Results input'!$J$34:$L$41,3,FALSE)),0,VLOOKUP(G9,'Results input'!$J$34:$L$41,3,FALSE)) -> 0 | I10: =IF(ISNA(VLOOKUP(I9,'Results input'!$J$34:$L$41,3,FALSE)),0,VLOOKUP(I9,'Results input'!$J$34:$L$41,3,FALSE)) -> 0 | K10: =IF(ISNA(VLOOKUP(K9,'Results input'!$J$34:$L$41,3,FALSE)),0,VLOOKUP(K9,'Results input'!$J$34:$L$41,3,FALSE)) -> 16.3 | M10: =IF(ISNA(VLOOKUP(M9,'Results input'!$J$34:$L$41,3,FALSE)),0,VLOOKUP(M9,'Results input'!$J$34:$L$41,3,FALSE)) -> 15.7 | O10: =IF(ISNA(VLOOKUP(O9,'Results input'!$J$34:$L$41,3,FALSE)),0,VLOOKUP(O9,'Results input'!$J$34:$L$41,3,FALSE)) -> 14.1 | Q10: =IF(ISNA(VLOOKUP(Q9,'Results input'!$J$34:$L$41,3,FALSE)),0,VLOOKUP(Q9,'Results input'!$J$34:$L$41,3,FALSE)) -> 0
A11: ='women dec'!A8 -> W35 400m | B11: Name | C11: =IF('women dec'!C8=0," ",'women dec'!C8) | D11: =IF((C12>0),VLOOKUP(C11,'Results input'!$J$44:$M$51,4,),"") | E11: =IF('women dec'!E8=0," ",'women dec'!E8) -> Karen Riley | F11: =IF((E12>0),VLOOKUP(E11,'Results input'!$J$44:$M$51,4,),"") -> 8 | G11: =IF('women dec'!G8=0," ",'women dec'!G8) | H11: =IF((G12>0),VLOOKUP(G11,'Results input'!$J$44:$M$51,4,),"") | I11: =IF('women dec'!I8=0," ",'women dec'!I8) | J11: =IF((I12>0),VLOOKUP(I11,'Results input'!$J$44:$M$51,4,),"") | K11: =IF('women dec'!K8=0," ",'women dec'!K8) -> Sam Morton | L11: =IF((K12>0),VLOOKUP(K11,'Results input'!$J$44:$M$51,4,),"") -> 7 | M11: =IF('women dec'!M8=0," ",'women dec'!M8) -> Stella Denniss | N11: =IF((M12>0),VLOOKUP(M11,'Results input'!$J$44:$M$51,4,),"") -> 5 | O11: =IF('women dec'!O8=0," ",'women dec'!O8) -> Becky Freeman | P11: =IF((O12>0),VLOOKUP(O11,'Results input'!$J$44:$M$51,4,),"") -> 6 | Q11: =IF('women dec'!Q8=0," ",'women dec'!Q8) | R11: =IF((Q12>0),VLOOKUP(Q11,'Results input'!$J$44:$M$51,4,),"")
B12: Perf. | C12: =IF(ISNA(VLOOKUP(C11,'Results input'!$J$44:$L$51,3,FALSE)),0,VLOOKUP(C11,'Results input'!$J$44:$L$51,3,FALSE)) -> 0 | E12: =IF(ISNA(VLOOKUP(E11,'Results input'!$J$44:$L$51,3,FALSE)),0,VLOOKUP(E11,'Results input'!$J$44:$L$51,3,FALSE)) -> 73 | G12: =IF(ISNA(VLOOKUP(G11,'Results input'!$J$44:$L$51,3,FALSE)),0,VLOOKUP(G11,'Results input'!$J$44:$L$51,3,FALSE)) -> 0 | I12: =IF(ISNA(VLOOKUP(I11,'Results input'!$J$44:$L$51,3,FALSE)),0,VLOOKUP(I11,'Results input'!$J$44:$L$51,3,FALSE)) -> 0 | K12: =IF(ISNA(VLOOKUP(K11,'Results input'!$J$44:$L$51,3,FALSE)),0,VLOOKUP(K11,'Results input'!$J$44:$L$51,3,FALSE)) -> 73 | M12: =IF(ISNA(VLOOKUP(M11,'Results input'!$J$44:$L$51,3,FALSE)),0,VLOOKUP(M11,'Results input'!$J$44:$L$51,3,FALSE)) -> 81 | O12: =IF(ISNA(VLOOKUP(O11,'Results input'!$J$44:$L$51,3,FALSE)),0,VLOOKUP(O11,'Results input'!$J$44:$L$51,3,FALSE)) -> 74 | Q12: =IF(ISNA(VLOOKUP(Q11,'Results input'!$J$44:$L$51,3,FALSE)),0,VLOOKUP(Q11,'Results input'!$J$44:$L$51,3,FALSE)) -> 0
A13: ='women dec'!A9 -> W40 400m | B13: Name | C13: =IF('women dec'!C9=0," ",'women dec'!C9) -> Julie Rogers | D13: =IF((C14>0),VLOOKUP(C13,'Results input'!$J$54:$M$61,4,),"") -> 8 | E13: =IF('women dec'!E9=0," ",'women dec'!E9) -> Debbie Ricci | F13: =IF((E14>0),VLOOKUP(E13,'Results input'!$J$54:$M$61,4,),"") -> 6 | G13: =IF('women dec'!G9=0," ",'women dec'!G9) -> Kate Murdoch | H13: =IF((G14>0),VLOOKUP(G13,'Results input'!$J$54:$M$61,4,),"") | I13: =IF('women dec'!I9=0," ",'women dec'!I9) -> Elaine Restorick | J13: =IF((I14>0),VLOOKUP(I13,'Results input'!$J$54:$M$61,4,),"") | K13: =IF('women dec'!K9=0," ",'women dec'!K9) -> Julie Dale | L13: =IF((K14>0),VLOOKUP(K13,'Results input'!$J$54:$M$61,4,),"") -> 7 | M13: =IF('women dec'!M9=0," ",'women dec'!M9) -> Manisha Parmar | N13: =IF((M14>0),VLOOKUP(M13,'Results input'!$J$54:$M$61,4,),"") -> 4 | O13: =IF('women dec'!O9=0," ",'women dec'!O9) -> Tracy Miles | P13: =IF((O14>0),VLOOKUP(O13,'Results input'!$J$54:$M$61,4,),"") -> 5 | Q13: =IF('women dec'!Q9=0," ",'women dec'!Q9) | R13: =IF((Q14>0),VLOOKUP(Q13,'Results input'!$J$54:$M$61,4,),"")
B14: Perf. | C14: =IF(ISNA(VLOOKUP(C13,'Results input'!$J$54:$L$61,3,FALSE)),0,VLOOKUP(C13,'Results input'!$J$54:$L$61,3,FALSE)) -> 67.7 | E14: =IF(ISNA(VLOOKUP(E13,'Results input'!$J$54:$L$61,3,FALSE)),0,VLOOKUP(E13,'Results input'!$J$54:$L$61,3,FALSE)) -> 77.8 | G14: =IF(ISNA(VLOOKUP(G13,'Results input'!$J$54:$L$61,3,FALSE)),0,VLOOKUP(G13,'Results input'!$J$54:$L$61,3,FALSE)) -> 0 | I14: =IF(ISNA(VLOOKUP(I13,'Results input'!$J$54:$L$61,3,FALSE)),0,VLOOKUP(I13,'Results input'!$J$54:$L$61,3,FALSE)) -> 0 | K14: =IF(ISNA(VLOOKUP(K13,'Results input'!$J$54:$L$61,3,FALSE)),0,VLOOKUP(K13,'Results input'!$J$54:$L$61,3,FALSE)) -> 75.6 | M14: =IF(ISNA(VLOOKUP(M13,'Results input'!$J$54:$L$61,3,FALSE)),0,VLOOKUP(M13,'Results input'!$J$54:$L$61,3,FALSE)) -> 102.1 | O14: =IF(ISNA(VLOOKUP(O13,'Results input'!$J$54:$L$61,3,FALSE)),0,VLOOKUP(O13,'Results input'!$J$54:$L$61,3,FALSE)) -> 81.4 | Q14: =IF(ISNA(VLOOKUP(Q13,'Results input'!$J$54:$L$61,3,FALSE)),0,VLOOKUP(Q13,'Results input'!$J$54:$L$61,3,FALSE)) -> 0
A15: ='women dec'!A10 -> W60 400m | B15: Name | C15: =IF('women dec'!C10=0,"",'women dec'!C10) -> Viv Bonner | D15: =IF((C16>0),VLOOKUP(C15,'Results input'!$J$64:$M$71,4,),"") -> 7 | E15: =IF('women dec'!E10=0,"",'women dec'!E10) -> Rita Brownlie | F15: =IF((E16>0),VLOOKUP(E15,'Results input'!$J$64:$M$71,4,),"") -> 4 | G15: =IF('women dec'!G10=0,"",'women dec'!G10) | H15: =IF((G16>0),VLOOKUP(G15,'Results input'!$J$64:$M$71,4,),"") | I15: =IF('women dec'!I10=0,"",'women dec'!I10) -> Nancy Hitchhough | J15: =IF((I16>0),VLOOKUP(I15,'Results input'!$J$64:$M$71,4,),"") -> 8 | K15: =IF('women dec'!K10=0,"",'women dec'!K10) | L15: =IF((K16>0),VLOOKUP(K15,'Results input'!$J$64:$M$71,4,),"") | M15: =IF('women dec'!M10=0,"",'women dec'!M10) -> Gill Millicheap | N15: =IF((M16>0),VLOOKUP(M15,'Results input'!$J$64:$M$71,4,),"") -> 5 | O15: =IF('women dec'!O10=0,"",'women dec'!O10) -> Rebecca Hambrook | P15: =IF((O16>0),VLOOKUP(O15,'Results input'!$J$64:$M$71,4,),"") -> 6 | Q15: =IF('women dec'!Q10=0,"",'women dec'!Q10) | R15: =IF((Q16>0),VLOOKUP(Q15,'Results input'!$J$64:$M$71,4,),"")
B16: Perf. | C16: =IF(ISNA(VLOOKUP(C15,'Results input'!$J$64:$L$71,3,FALSE)),0,VLOOKUP(C15,'Results input'!$J$64:$L$71,3,FALSE)) -> 83.1 | E16: =IF(ISNA(VLOOKUP(E15,'Results input'!$J$64:$L$71,3,FALSE)),0,VLOOKUP(E15,'Results input'!$J$64:$L$71,3,FALSE)) -> 101 | G16: =IF(ISNA(VLOOKUP(G15,'Results input'!$J$64:$L$71,3,FALSE)),0,VLOOKUP(G15,'Results input'!$J$64:$L$71,3,FALSE)) -> 0 | I16: =IF(ISNA(VLOOKUP(I15,'Results input'!$J$64:$L$71,3,FALSE)),0,VLOOKUP(I15,'Results input'!$J$64:$L$71,3,FALSE)) -> 76.3 | K16: =IF(ISNA(VLOOKUP(K15,'Results input'!$J$64:$L$71,3,FALSE)),0,VLOOKUP(K15,'Results input'!$J$64:$L$71,3,FALSE)) -> 0 | M16: =IF(ISNA(VLOOKUP(M15,'Results input'!$J$64:$L$71,3,FALSE)),0,VLOOKUP(M15,'Results input'!$J$64:$L$71,3,FALSE)) -> 95.9 | O16: =IF(ISNA(VLOOKUP(O15,'Results input'!$J$64:$L$71,3,FALSE)),0,VLOOKUP(O15,'Results input'!$J$64:$L$71,3,FALSE)) -> 95.4 | Q16: =IF(ISNA(VLOOKUP(Q15,'Results input'!$J$64:$L$71,3,FALSE)),0,VLOOKUP(Q15,'Results input'!$J$64:$L$71,3,FALSE)) -> 0
A17: ='women dec'!A11 -> W35 2k Walk | B17: Name | C17: =IF('women dec'!C11=0," ",'women dec'!C11) | D17: =IF((C18>0),VLOOKUP(C17,'Results input'!$J$74:$M$81,4,),"") | E17: =IF('women dec'!E11=0," ",'women dec'!E11) -> Yasmine Al-Daftary | F17: =IF((E18>0),VLOOKUP(E17,'Results input'!$J$74:$M$81,4,),"") -> 7 | G17: =IF('women dec'!G11=0," ",'women dec'!G11) | H17: =IF((G18>0),VLOOKUP(G17,'Results input'!$J$74:$M$81,4,),"") | I17: =IF('women dec'!I11=0," ",'women dec'!I11) | J17: =IF((I18>0),VLOOKUP(I17,'Results input'!$J$74:$M$81,4,),"") | K17: =IF('women dec'!K11=0," ",'women dec'!K11) -> Lynn Bellfield | L17: =IF((K18>0),VLOOKUP(K17,'Results input'!$J$74:$M$81,4,),"") -> 8 | M17: =IF('women dec'!M11=0," ",'women dec'!M11) -> Megan Harris | N17: =IF((M18>0),VLOOKUP(M17,'Results input'!$J$74:$M$81,4,),"") -> 6 | O17: =IF('women dec'!O11=0," ",'women dec'!O11) | P17: =IF((O18>0),VLOOKUP(O17,'Results input'!$J$74:$M$81,4,),"") | Q17: =IF('women dec'!Q11=0," ",'women dec'!Q11) | R17: =IF((Q18>0),VLOOKUP(Q17,'Results input'!$J$74:$M$81,4,),"")
B18: Perf. | C18: =IF(ISNA(VLOOKUP(C17,'Results input'!$J$74:$L$81,3,FALSE)),0,VLOOKUP(C17,'Results input'!$J$74:$L$81,3,FALSE)) -> 0 | E18: =IF(ISNA(VLOOKUP(E17,'Results input'!$J$74:$L$81,3,FALSE)),0,VLOOKUP(E17,'Results input'!$J$74:$L$81,3,FALSE)) -> 15.31.9 | G18: =IF(ISNA(VLOOKUP(G17,'Results input'!$J$74:$L$81,3,FALSE)),0,VLOOKUP(G17,'Results input'!$J$74:$L$81,3,FALSE)) -> 0 | I18: =IF(ISNA(VLOOKUP(I17,'Results input'!$J$74:$L$81,3,FALSE)),0,VLOOKUP(I17,'Results input'!$J$74:$L$81,3,FALSE)) -> 0 | K18: =IF(ISNA(VLOOKUP(K17,'Results input'!$J$74:$L$81,3,FALSE)),0,VLOOKUP(K17,'Results input'!$J$74:$L$81,3,FALSE)) -> 13.32.0 | M18: =IF(ISNA(VLOOKUP(M17,'Results input'!$J$74:$L$81,3,FALSE)),0,VLOOKUP(M17,'Results input'!$J$74:$L$81,3,FALSE)) -> 15.32.3 | O18: =IF(ISNA(VLOOKUP(O17,'Results input'!$J$74:$L$81,3,FALSE)),0,VLOOKUP(O17,'Results input'!$J$74:$L$81,3,FALSE)) -> 0 | Q18: =IF(ISNA(VLOOKUP(Q17,'Results input'!$J$74:$L$81,3,FALSE)),0,VLOOKUP(Q17,'Results input'!$J$74:$L$81,3,FALSE)) -> 0
A19: ='women dec'!A12 -> W40 2k Walk | B19: Name | C19: =IF('women dec'!C12=0," ",'women dec'!C12) -> Zita McDonald | D19: =IF((C20>0),VLOOKUP(C19,'Results input'!$J$84:$M$91,4,),"") -> 6 | E19: =IF('women dec'!E12=0," ",'women dec'!E12) -> Sharon Tonks | F19: =IF((E20>0),VLOOKUP(E19,'Results input'!$J$84:$M$91,4,),"") | G19: =IF('women dec'!G12=0," ",'women dec'!G12) | H19: =IF((G20>0),VLOOKUP(G19,'Results input'!$J$84:$M$91,4,),"") | I19: =IF('women dec'!I12=0," ",'women dec'!I12) -> Elaine Restorick | J19: =IF((I20>0),VLOOKUP(I19,'Results input'!$J$84:$M$91,4,),"") | K19: =IF('women dec'!K12=0," ",'women dec'!K12) -> Julie Bellfield | L19: =IF((K20>0),VLOOKUP(K19,'Results input'!$J$84:$M$91,4,),"") -> 7 | M19: =IF('women dec'!M12=0," ",'women dec'!M12) -> Hilary Mann | N19: =IF((M20>0),VLOOKUP(M19,'Results input'!$J$84:$M$91,4,),"") -> 5 | O19: =IF('women dec'!O12=0," ",'women dec'!O12) -> Wendy Bennett | P19: =IF((O20>0),VLOOKUP(O19,'Results input'!$J$84:$M$91,4,),"") -> 8 | Q19: =IF('women dec'!Q12=0," ",'women dec'!Q12) | R19: =IF((Q20>0),VLOOKUP(Q19,'Results input'!$J$84:$M$91,4,),"")
B20: Perf. | C20: =IF(ISNA(VLOOKUP(C19,'Results input'!$J$84:$L$91,3,FALSE)),0,VLOOKUP(C19,'Results input'!$J$84:$L$91,3,FALSE)) -> 12.48.2 | E20: =IF(ISNA(VLOOKUP(E19,'Results input'!$J$84:$L$91,3,FALSE)),0,VLOOKUP(E19,'Results input'!$J$84:$L$91,3,FALSE)) -> 0 | G20: =IF(ISNA(VLOOKUP(G19,'Results input'!$J$84:$L$91,3,FALSE)),0,VLOOKUP(G19,'Results input'!$J$84:$L$91,3,FALSE)) -> 0 | I20: =IF(ISNA(VLOOKUP(I19,'Results input'!$J$84:$L$91,3,FALSE)),0,VLOOKUP(I19,'Results input'!$J$84:$L$91,3,FALSE)) -> 0 | K20: =IF(ISNA(VLOOKUP(K19,'Results input'!$J$84:$L$91,3,FALSE)),0,VLOOKUP(K19,'Results input'!$J$84:$L$91,3,FALSE)) -> 12.18.7 | M20: =IF(ISNA(VLOOKUP(M19,'Results input'!$J$84:$L$91,3,FALSE)),0,VLOOKUP(M19,'Results input'!$J$84:$L$91,3,FALSE)) -> 13.11.0 | O20: =IF(ISNA(VLOOKUP(O19,'Results input'!$J$84:$L$91,3,FALSE)),0,VLOOKUP(O19,'Results input'!$J$84:$L$91,3,FALSE)) -> 11.02.4 | Q20: =IF(ISNA(VLOOKUP(Q19,'Results input'!$J$84:$L$91,3,FALSE)),0,VLOOKUP(Q19,'Results input'!$J$84:$L$91,3,FALSE)) -> 0
A21: ='women dec'!A13 -> W35 1500m | B21: Name | C21: =IF('women dec'!C13=0," ",'women dec'!C13) -> Wendy Morant | D21: =IF((C22>0),VLOOKUP(C21,'Results input'!$J$94:$M$101,4,),"") | E21: =IF('women dec'!E13=0," ",'women dec'!E13) -> Karen Riley | F21: =IF((E22>0),VLOOKUP(E21,'Results input'!$J$94:$M$101,4,),"") | G21: =IF('women dec'!G13=0," ",'women dec'!G13) | H21: =IF((G22>0),VLOOKUP(G21,'Results input'!$J$94:$M$101,4,),"") | I21: =IF('women dec'!I13=0," ",'women dec'!I13) | J21: =IF((I22>0),VLOOKUP(I21,'Results input'!$J$94:$M$101,4,),"") | K21: =IF('women dec'!K13=0," ",'women dec'!K13) -> Sam Morton | L21: =IF((K22>0),VLOOKUP(K21,'Results input'!$J$94:$M$101,4,),"") -> 7 | M21: =IF('women dec'!M13=0," ",'women dec'!M13) -> Stella Denniss | N21: =IF((M22>0),VLOOKUP(M21,'Results input'!$J$94:$M$101,4,),"") -> 6 | O21: =IF('women dec'!O13=0," ",'women dec'!O13) -> Becky Freeman | P21: =IF((O22>0),VLOOKUP(O21,'Results input'!$J$94:$M$101,4,),"") -> 8 | Q21: =IF('women dec'!Q13=0," ",'women dec'!Q13) | R21: =IF((Q22>0),VLOOKUP(Q21,'Results input'!$J$94:$M$101,4,),"")
B22: Perf. | C22: =IF(ISNA(VLOOKUP(C21,'Results input'!$J$94:$L$101,3,FALSE)),0,VLOOKUP(C21,'Results input'!$J$94:$L$101,3,FALSE)) -> 0 | E22: =IF(ISNA(VLOOKUP(E21,'Results input'!$J$94:$L$101,3,FALSE)),0,VLOOKUP(E21,'Results input'!$J$94:$L$101,3,FALSE)) -> 0 | G22: =IF(ISNA(VLOOKUP(G21,'Results input'!$J$94:$L$101,3,FALSE)),0,VLOOKUP(G21,'Results input'!$J$94:$L$101,3,FALSE)) -> 0 | I22: =IF(ISNA(VLOOKUP(I21,'Results input'!$J$94:$L$101,3,FALSE)),0,VLOOKUP(I21,'Results input'!$J$94:$L$101,3,FALSE)) -> 0 | K22: =IF(ISNA(VLOOKUP(K21,'Results input'!$J$94:$L$101,3,FALSE)),0,VLOOKUP(K21,'Results input'!$J$94:$L$101,3,FALSE)) -> 5.39.9 | M22: =IF(ISNA(VLOOKUP(M21,'Results input'!$J$94:$L$101,3,FALSE)),0,VLOOKUP(M21,'Results input'!$J$94:$L$101,3,FALSE)) -> 6.16.2 | O22: =IF(ISNA(VLOOKUP(O21,'Results input'!$J$94:$L$101,3,FALSE)),0,VLOOKUP(O21,'Results input'!$J$94:$L$101,3,FALSE)) -> 5.35.1 | Q22: =IF(ISNA(VLOOKUP(Q21,'Results input'!$J$94:$L$101,3,FALSE)),0,VLOOKUP(Q21,'Results input'!$J$94:$L$101,3,FALSE)) -> 0
A23: ='women dec'!A14 -> W40 1500m | B23: Name | C23: =IF('women dec'!C14=0," ",'women dec'!C14) -> Zita McDonald | D23: =IF((C24>0),VLOOKUP(C23,'Results input'!$J$104:$M$111,4,),"") -> 3 | E23: =IF('women dec'!E14=0," ",'women dec'!E14) -> Becky Salvey | F23: =IF((E24>0),VLOOKUP(E23,'Results input'!$J$104:$M$111,4,),"") -> 8 | G23: =IF('women dec'!G14=0," ",'women dec'!G14) | H23: =IF((G24>0),VLOOKUP(G23,'Results input'!$J$104:$M$111,4,),"") | I23: =IF('women dec'!I14=0," ",'women dec'!I14) -> Elaine Restorick | J23: =IF((I24>0),VLOOKUP(I23,'Results input'!$J$104:$M$111,4,),"") -> 5 | K23: =IF('women dec'!K14=0," ",'women dec'!K14) -> Anna Cosimetti | L23: =IF((K24>0),VLOOKUP(K23,'Results input'!$J$104:$M$111,4,),"") -> 6 | M23: =IF('women dec'!M14=0," ",'women dec'!M14) -> Manisha Parmar | N23: =IF((M24>0),VLOOKUP(M23,'Results input'!$J$104:$M$111,4,),"") -> 4 | O23: =IF('women dec'!O14=0," ",'women dec'!O14) -> Tracy Miles | P23: =IF((O24>0),VLOOKUP(O23,'Results input'!$J$104:$M$111,4,),"") -> 7 | Q23: =IF('women dec'!Q14=0," ",'women dec'!Q14) | R23: =IF((Q24>0),VLOOKUP(Q23,'Results input'!$J$104:$M$111,4,),"")
B24: Perf. | C24: =IF(ISNA(VLOOKUP(C23,'Results input'!$J$104:$L$111,3,FALSE)),0,VLOOKUP(C23,'Results input'!$J$104:$L$111,3,FALSE)) -> 8.03.9 | E24: =IF(ISNA(VLOOKUP(E23,'Results input'!$J$104:$L$111,3,FALSE)),0,VLOOKUP(E23,'Results input'!$J$104:$L$111,3,FALSE)) -> 5.48.5 | G24: =IF(ISNA(VLOOKUP(G23,'Results input'!$J$104:$L$111,3,FALSE)),0,VLOOKUP(G23,'Results input'!$J$104:$L$111,3,FALSE)) -> 0 | I24: =IF(ISNA(VLOOKUP(I23,'Results input'!$J$104:$L$111,3,FALSE)),0,VLOOKUP(I23,'Results input'!$J$104:$L$111,3,FALSE)) -> 7.28.0 | K24: =IF(ISNA(VLOOKUP(K23,'Results input'!$J$104:$L$111,3,FALSE)),0,VLOOKUP(K23,'Results input'!$J$104:$L$111,3,FALSE)) -> 6.55.9 | M24: =IF(ISNA(VLOOKUP(M23,'Results input'!$J$104:$L$111,3,FALSE)),0,VLOOKUP(M23,'Results input'!$J$104:$L$111,3,FALSE)) -> 8.02.4 | O24: =IF(ISNA(VLOOKUP(O23,'Results input'!$J$104:$L$111,3,FALSE)),0,VLOOKUP(O23,'Results input'!$J$104:$L$111,3,FALSE)) -> 6.05.4 | Q24: =IF(ISNA(VLOOKUP(Q23,'Results input'!$J$104:$L$111,3,FALSE)),0,VLOOKUP(Q23,'Results input'!$J$104:$L$111,3,FALSE)) -> 0
A25: ='women dec'!A15 -> W50 1500m | B25: Name | C25: =IF('women dec'!C15=0," ",'women dec'!C15) -> Zita McDonald | D25: =IF((C26>0),VLOOKUP(C25,'Results input'!$J$114:$M$121,4,),"") | E25: =IF('women dec'!E15=0," ",'women dec'!E15) -> Ann Stuart | F25: =IF((E26>0),VLOOKUP(E25,'Results input'!$J$114:$M$121,4,),"") -> 5 | G25: =IF('women dec'!G15=0," ",'women dec'!G15) | H25: =IF((G26>0),VLOOKUP(G25,'Results input'!$J$114:$M$121,4,),"") | I25: =IF('women dec'!I15=0," ",'women dec'!I15) -> Nancy Hitch Hough | J25: =IF((I26>0),VLOOKUP(I25,'Results input'!$J$114:$M$121,4,),"") -> 8 | K25: =IF('women dec'!K15=0," ",'women dec'!K15) -> Sally Spencer | L25: =IF((K26>0),VLOOKUP(K25,'Results input'!$J$114:$M$121,4,),"") -> 7 | M25: =IF('women dec'!M15=0," ",'women dec'!M15) | N25: =IF((M26>0),VLOOKUP(M25,'Results input'!$J$114:$M$121,4,),"") | O25: =IF('women dec'!O15=0," ",'women dec'!O15) -> Ros Townsend Hope | P25: =IF((O26>0),VLOOKUP(O25,'Results input'!$J$114:$M$121,4,),"") -> 6 | Q25: =IF('women dec'!Q15=0," ",'women dec'!Q15) | R25: =IF((Q26>0),VLOOKUP(Q25,'Results input'!$J$114:$M$121,4,),"")
B26: Perf. | C26: =IF(ISNA(VLOOKUP(C25,'Results input'!$J$114:$L$121,3,FALSE)),0,VLOOKUP(C25,'Results input'!$J$114:$L$121,3,FALSE)) -> 0 | E26: =IF(ISNA(VLOOKUP(E25,'Results input'!$J$114:$L$121,3,FALSE)),0,VLOOKUP(E25,'Results input'!$J$114:$L$121,3,FALSE)) -> 6.24.7 | G26: =IF(ISNA(VLOOKUP(G25,'Results input'!$J$114:$L$121,3,FALSE)),0,VLOOKUP(G25,'Results input'!$J$114:$L$121,3,FALSE)) -> 0 | I26: =IF(ISNA(VLOOKUP(I25,'Results input'!$J$114:$L$121,3,FALSE)),0,VLOOKUP(I25,'Results input'!$J$114:$L$121,3,FALSE)) -> 5.27.6 | K26: =IF(ISNA(VLOOKUP(K25,'Results input'!$J$114:$L$121,3,FALSE)),0,VLOOKUP(K25,'Results input'!$J$114:$L$121,3,FALSE)) -> 5.55.7 | M26: =IF(ISNA(VLOOKUP(M25,'Results input'!$J$114:$L$121,3,FALSE)),0,VLOOKUP(M25,'Results input'!$J$114:$L$121,3,FALSE)) -> 0 | O26: =IF(ISNA(VLOOKUP(O25,'Results input'!$J$114:$L$121,3,FALSE)),0,VLOOKUP(O25,'Results input'!$J$114:$L$121,3,FALSE)) -> 6.13.3 | Q26: =IF(ISNA(VLOOKUP(Q25,'Results input'!$J$114:$L$121,3,FALSE)),0,VLOOKUP(Q25,'Results input'!$J$114:$L$121,3,FALSE)) -> 0
A27: ='women dec'!A16 -> Team | C27: =IF('women dec'!C16=0," ",'women dec'!C16) -> Birchfield | E27: =IF('women dec'!E16=0," ",'women dec'!E16) -> B & R | G27: =IF('women dec'!G16=0," ",'women dec'!G16) -> Droitwich & KSAC | I27: =IF('women dec'!I16=0," ",'women dec'!I16) -> DASH | K27: =IF('women dec'!K16=0," ",'women dec'!K16) -> Halesowen | M27: =IF('women dec'!M16=0," ",'women dec'!M16) -> Sparkhill | O27: =IF('women dec'!O16=0," ",'women dec'!O16) -> Worcester | Q27: =IF('women dec'!Q16=0," ",'women dec'!Q16) -> MMAC
A28: ='women dec'!A17 -> Relay Teams names (4x200m) | B28: Names | C28: ='women dec'!C17 -> Viv Bonner | E28: ='women dec'!E17 -> Debbie Ricci | G28: ='women dec'!G17 -> 0 | I28: ='women dec'!I17 -> 0 | K28: ='women dec'!K17 -> Sally Spencer | M28: ='women dec'!M17 -> Stella Denniss | O28: ='women dec'!O17 -> Becky Freeman | Q28: ='women dec'!Q17 -> 0
C29: ='women dec'!C18 -> Judy Johnson | E29: ='women dec'!E18 -> Yasmine Al-Daftary | G29: ='women dec'!G18 -> 0 | I29: ='women dec'!I18 -> 0 | K29: ='women dec'!K18 -> Liz Tindle | M29: ='women dec'!M18 -> Manisha Parmar | O29: ='women dec'!O18 -> Tracy Miles | Q29: ='women dec'!Q18 -> 0
C30: ='women dec'!C19 -> Julie Rogers | E30: ='women dec'!E19 -> Karen Riley | G30: ='women dec'!G19 -> 0 | I30: ='women dec'!I19 -> 0 | K30: ='women dec'!K19 -> Julie Dale | M30: ='women dec'!M19 -> Gill Millicheap | O30: ='women dec'!O19 -> Ros Townsend Hope | Q30: ='women dec'!Q19 -> 0
C31: ='women dec'!C20 -> Zita McDonald | D31: =IF((C32>0),VLOOKUP(C27,'Results input'!$J$124:$M$131,4,),"") -> 7 | E31: ='women dec'!E20 -> Julie Wakelam | F31: =IF((E32>0),VLOOKUP(E27,'Results input'!$J$124:$M$131,4,),"") -> 5 | G31: ='women dec'!G20 -> 0 | H31: =IF((G32>0),VLOOKUP(G27,'Results input'!$J$124:$M$131,4,),"") | I31: ='women dec'!I20 -> 0 | J31: =IF((I32>0),VLOOKUP(I27,'Results input'!$J$124:$M$131,4,),"") | K31: ='women dec'!K20 -> Sam Morton | L31: =IF((K32>0),VLOOKUP(K27,'Results input'!$J$124:$M$131,4,),"") -> 8 | M31: ='women dec'!M20 -> Hilary Mann | N31: =IF((M32>0),VLOOKUP(M27,'Results input'!$J$124:$M$131,4,),"") -> 4 | O31: ='women dec'!O20 -> Cat Goulder- Davies | P31: =IF((O32>0),VLOOKUP(O27,'Results input'!$J$124:$M$131,4,),"") -> 6 | Q31: ='women dec'!Q20 -> 0 | R31: =IF((Q32>0),VLOOKUP(Q27,'Results input'!$J$124:$M$131,4,),"")
C32: =IF(ISNA(VLOOKUP(C27,'Results input'!$J$124:$L$131,3,FALSE)),0,VLOOKUP(C27,'Results input'!$J$124:$L$131,3,FALSE)) -> 2.15.5 | E32: =IF(ISNA(VLOOKUP(E27,'Results input'!$J$124:$L$131,3,FALSE)),0,VLOOKUP(E27,'Results input'!$J$124:$L$131,3,FALSE)) -> 2.16.0 | G32: =IF(ISNA(VLOOKUP(G27,'Results input'!$J$124:$L$131,3,FALSE)),0,VLOOKUP(G27,'Results input'!$J$124:$L$131,3,FALSE)) -> 0 | I32: =IF(ISNA(VLOOKUP(I27,'Results input'!$J$124:$L$131,3,FALSE)),0,VLOOKUP(I27,'Results input'!$J$124:$L$131,3,FALSE)) -> 0 | K32: =IF(ISNA(VLOOKUP(K27,'Results input'!$J$124:$L$131,3,FALSE)),0,VLOOKUP(K27,'Results input'!$J$124:$L$131,3,FALSE)) -> 2.13.4 | M32: =IF(ISNA(VLOOKUP(M27,'Results input'!$J$124:$L$131,3,FALSE)),0,VLOOKUP(M27,'Results input'!$J$124:$L$131,3,FALSE)) -> 2.40.0 | O32: =IF(ISNA(VLOOKUP(O27,'Results input'!$J$124:$L$131,3,FALSE)),0,VLOOKUP(O27,'Results input'!$J$124:$L$131,3,FALSE)) -> 2.16.0 | Q32: =IF(ISNA(VLOOKUP(Q27,'Results input'!$J$124:$L$131,3,FALSE)),0,VLOOKUP(Q27,'Results input'!$J$124:$L$131,3,FALSE)) -> 0
A33: TOTALS (track) | D33: =SUM(D3:D32) -> 52 | F33: =SUM(F3:F32) -> 67 | H33: =SUM(H3:H32) -> 8 | J33: =SUM(J3:J32) -> 28 | L33: =SUM(L3:L32) -> 77 | N33: =SUM(N3:N32) -> 53 | P33: =SUM(P3:P32) -> 74 | R33: =SUM(R3:R32) -> 0
A35: EVENT | B35: Club:- | C35: =C1 -> Birchfield | E35: =E1 -> B & R | G35: =G1 -> Droitwich & KSAC | I35: =I1 -> DASH | K35: =K1 -> Halesowen | M35: =M1 -> Sparkhill | O35: =O1 -> Worcester | Q35: =Q1 -> MMAC
B36: Number | C36: =C2 -> 63 /64 / A | D36: Pts | E36: =E2 -> 71/ 72 /N | F36: Pts | G36: =G2 -> 73 / 74 /O | H36: Pts | I36: =I2 -> 53/ 54 / C | J36: Pts | K36: =K2 -> 59 / 60 / P | L36: Pts | M36: =M2 -> 151 /152 / S | N36: Pts | O36: =O2 -> 61 / 62 / F | P36: Pts | Q36: =Q2 -> 85 / 86 / K | R36: Pts
A37: ='women dec'!A22 -> W35 High J | B37: Name | C37: =IF('women dec'!C22=0," ",'women dec'!C22) | D37: =IF((C38>0),VLOOKUP(C37,'Results input'!$J$135:$M$142,4,),"") | E37: =IF('women dec'!E22=0," ",'women dec'!E22) -> Karen Riley | F37: =IF((E38>0),VLOOKUP(E37,'Results input'!$J$135:$M$142,4,),"") -> 8 | G37: =IF('women dec'!G22=0," ",'women dec'!G22) | H37: =IF((G38>0),VLOOKUP(G37,'Results input'!$J$135:$M$142,4,),"") | I37: =IF('women dec'!I22=0," ",'women dec'!I22) | J37: =IF((I38>0),VLOOKUP(I37,'Results input'!$J$135:$M$142,4,),"") | K37: =IF('women dec'!K22=0," ",'women dec'!K22) | L37: =IF((K38>0),VLOOKUP(K37,'Results input'!$J$135:$M$142,4,),"") | M37: =IF('women dec'!M22=0," ",'women dec'!M22) | N37: =IF((M38>0),VLOOKUP(M37,'Results input'!$J$135:$M$142,4,),"") | O37: =IF('women dec'!O22=0," ",'women dec'!O22) -> Ruth Bird | P37: =IF((O38>0),VLOOKUP(O37,'Results input'!$J$135:$M$142,4,),"") -> 7 | Q37: =IF('women dec'!Q22=0," ",'women dec'!Q22) | R37: =IF((Q38>0),VLOOKUP(Q37,'Results input'!$J$135:$M$142,4,),"")
B38: Perf. | C38: =IF(ISNA(VLOOKUP(C37,'Results input'!$J$135:$L$142,3,FALSE)),0,VLOOKUP(C37,'Results input'!$J$135:$L$142,3,FALSE)) -> 0 | E38: =IF(ISNA(VLOOKUP(E37,'Results input'!$J$135:$L$142,3,FALSE)),0,VLOOKUP(E37,'Results input'!$J$135:$L$142,3,FALSE)) -> 1.2 | G38: =IF(ISNA(VLOOKUP(G37,'Results input'!$J$135:$L$142,3,FALSE)),0,VLOOKUP(G37,'Results input'!$J$135:$L$142,3,FALSE)) -> 0 | I38: =IF(ISNA(VLOOKUP(I37,'Results input'!$J$135:$L$142,3,FALSE)),0,VLOOKUP(I37,'Results input'!$J$135:$L$142,3,FALSE)) -> 0 | K38: =IF(ISNA(VLOOKUP(K37,'Results input'!$J$135:$L$142,3,FALSE)),0,VLOOKUP(K37,'Results input'!$J$135:$L$142,3,FALSE)) -> 0 | M38: =IF(ISNA(VLOOKUP(M37,'Results input'!$J$135:$L$142,3,FALSE)),0,VLOOKUP(M37,'Results input'!$J$135:$L$142,3,FALSE)) -> 0 | O38: =IF(ISNA(VLOOKUP(O37,'Results input'!$J$135:$L$142,3,FALSE)),0,VLOOKUP(O37,'Results input'!$J$135:$L$142,3,FALSE)) -> 1.15 | Q38: =IF(ISNA(VLOOKUP(Q37,'Results input'!$J$135:$L$142,3,FALSE)),0,VLOOKUP(Q37,'Results input'!$J$135:$L$142,3,FALSE)) -> 0
A39: ='women dec'!A23 -> W50 High J | B39: Name | C39: =IF('women dec'!C23=0," ",'women dec'!C23) -> Karen Davies | D39: =IF((C40>0),VLOOKUP(C39,'Results input'!$J$145:$M$152,4,),"") -> 5 | E39: =IF('women dec'!E23=0," ",'women dec'!E23) -> Julie Wakelam | F39: =IF((E40>0),VLOOKUP(E39,'Results input'!$J$145:$M$152,4,),"") -> 8 | G39: =IF('women dec'!G23=0," ",'women dec'!G23) | H39: =IF((G40>0),VLOOKUP(G39,'Results input'!$J$145:$M$152,4,),"") | I39: =IF('women dec'!I23=0," ",'women dec'!I23) -> Elaine Restorick | J39: =IF((I40>0),VLOOKUP(I39,'Results input'!$J$145:$M$152,4,),"") -> 7 | K39: =IF('women dec'!K23=0," ",'women dec'!K23) -> Rosemary Chrimes | L39: =IF((K40>0),VLOOKUP(K39,'Results input'!$J$145:$M$152,4,),"") -> 6 | M39: =IF('women dec'!M23=0," ",'women dec'!M23) | N39: =IF((M40>0),VLOOKUP(M39,'Results input'!$J$145:$M$152,4,),"") | O39: =IF('women dec'!O23=0," ",'women dec'!O23) -> Ros Townsend Hope | P39: =IF((O40>0),VLOOKUP(O39,'Results input'!$J$145:$M$152,4,),"") -> 4 | Q39: =IF('women dec'!Q23=0," ",'women dec'!Q23) | R39: =IF((Q40>0),VLOOKUP(Q39,'Results input'!$J$145:$M$152,4,),"")
B40: Perf. | C40: =IF(ISNA(VLOOKUP(C39,'Results input'!$J$145:$L$152,3,FALSE)),0,VLOOKUP(C39,'Results input'!$J$145:$L$152,3,FALSE)) -> 1 | E40: =IF(ISNA(VLOOKUP(E39,'Results input'!$J$145:$L$152,3,FALSE)),0,VLOOKUP(E39,'Results input'!$J$145:$L$152,3,FALSE)) -> 1.15 | G40: =IF(ISNA(VLOOKUP(G39,'Results input'!$J$145:$L$152,3,FALSE)),0,VLOOKUP(G39,'Results input'!$J$145:$L$152,3,FALSE)) -> 0 | I40: =IF(ISNA(VLOOKUP(I39,'Results input'!$J$145:$L$152,3,FALSE)),0,VLOOKUP(I39,'Results input'!$J$145:$L$152,3,FALSE)) -> 1.05 | K40: =IF(ISNA(VLOOKUP(K39,'Results input'!$J$145:$L$152,3,FALSE)),0,VLOOKUP(K39,'Results input'!$J$145:$L$152,3,FALSE)) -> 1 | M40: =IF(ISNA(VLOOKUP(M39,'Results input'!$J$145:$L$152,3,FALSE)),0,VLOOKUP(M39,'Results input'!$J$145:$L$152,3,FALSE)) -> 0 | O40: =IF(ISNA(VLOOKUP(O39,'Results input'!$J$145:$L$152,3,FALSE)),0,VLOOKUP(O39,'Results input'!$J$145:$L$152,3,FALSE)) -> 1 | Q40: =IF(ISNA(VLOOKUP(Q39,'Results input'!$J$145:$L$152,3,FALSE)),0,VLOOKUP(Q39,'Results input'!$J$145:$L$152,3,FALSE)) -> 0
A41: ='women dec'!A24 -> W50 Shot | B41: Name | C41: =IF('women dec'!C24=0," ",'women dec'!C24) -> Karen Davies | D41: =IF((C42>0),VLOOKUP(C41,'Results input'!$J$155:$M$162,4,),"") -> 4 | E41: =IF('women dec'!E24=0," ",'women dec'!E24) -> Julie Wakelam | F41: =IF((E42>0),VLOOKUP(E41,'Results input'!$J$155:$M$162,4,),"") -> 5 | G41: =IF('women dec'!G24=0," ",'women dec'!G24) | H41: =IF((G42>0),VLOOKUP(G41,'Results input'!$J$155:$M$162,4,),"") | I41: =IF('women dec'!I24=0," ",'women dec'!I24) -> Elaine Restorick | J41: =IF((I42>0),VLOOKUP(I41,'Results input'!$J$155:$M$162,4,),"") -> 3 | K41: =IF('women dec'!K24=0," ",'women dec'!K24) -> Rosemary Chrimes | L41: =IF((K42>0),VLOOKUP(K41,'Results input'!$J$155:$M$162,4,),"") -> 7 | M41: =IF('women dec'!M24=0," ",'women dec'!M24) -> Dawn Gallagher | N41: =IF((M42>0),VLOOKUP(M41,'Results input'!$J$155:$M$162,4,),"") -> 8 | O41: =IF('women dec'!O24=0," ",'women dec'!O24) -> Melanie Garland | P41: =IF((O42>0),VLOOKUP(O41,'Results input'!$J$155:$M$162,4,),"") -> 6 | Q41: =IF('women dec'!Q24=0," ",'women dec'!Q24) -> Carole Rafferty | R41: =IF((Q42>0),VLOOKUP(Q41,'Results input'!$J$155:$M$162,4,),"")
B42: Perf. | C42: =IF(ISNA(VLOOKUP(C41,'Results input'!$J$155:$L$162,3,FALSE)),0,VLOOKUP(C41,'Results input'!$J$155:$L$162,3,FALSE)) -> 6.3 | E42: =IF(ISNA(VLOOKUP(E41,'Results input'!$J$155:$L$162,3,FALSE)),0,VLOOKUP(E41,'Results input'!$J$155:$L$162,3,FALSE)) -> 6.59 | G42: =IF(ISNA(VLOOKUP(G41,'Results input'!$J$155:$L$162,3,FALSE)),0,VLOOKUP(G41,'Results input'!$J$155:$L$162,3,FALSE)) -> 0 | I42: =IF(ISNA(VLOOKUP(I41,'Results input'!$J$155:$L$162,3,FALSE)),0,VLOOKUP(I41,'Results input'!$J$155:$L$162,3,FALSE)) -> 5.6 | K42: =IF(ISNA(VLOOKUP(K41,'Results input'!$J$155:$L$162,3,FALSE)),0,VLOOKUP(K41,'Results input'!$J$155:$L$162,3,FALSE)) -> 7.29 | M42: =IF(ISNA(VLOOKUP(M41,'Results input'!$J$155:$L$162,3,FALSE)),0,VLOOKUP(M41,'Results input'!$J$155:$L$162,3,FALSE)) -> 7.45 | O42: =IF(ISNA(VLOOKUP(O41,'Results input'!$J$155:$L$162,3,FALSE)),0,VLOOKUP(O41,'Results input'!$J$155:$L$162,3,FALSE)) -> 7.07 | Q42: =IF(ISNA(VLOOKUP(Q41,'Results input'!$J$155:$L$162,3,FALSE)),0,VLOOKUP(Q41,'Results input'!$J$155:$L$162,3,FALSE)) -> 0
A43: ='women dec'!A25 -> W40 Javelin | B43: Name | C43: =IF('women dec'!C25=0," ",'women dec'!C25) -> Julie Rogers | D43: =IF((C44>0),VLOOKUP(C43,'Results input'!$J$165:$M$172,4,),"") -> 7 | E43: =IF('women dec'!E25=0," ",'women dec'!E25) -> Julie Wakelam | F43: =IF((E44>0),VLOOKUP(E43,'Results input'!$J$165:$M$172,4,),"") | G43: =IF('women dec'!G25=0," ",'women dec'!G25) | H43: =IF((G44>0),VLOOKUP(G43,'Results input'!$J$165:$M$172,4,),"") | I43: =IF('women dec'!I25=0," ",'women dec'!I25) | J43: =IF((I44>0),VLOOKUP(I43,'Results input'!$J$165:$M$172,4,),"") | K43: =IF('women dec'!K25=0," ",'women dec'!K25) -> Joanne Smallwood | L43: =IF((K44>0),VLOOKUP(K43,'Results input'!$J$165:$M$172,4,),"") -> 6 | M43: =IF('women dec'!M25=0," ",'women dec'!M25) -> Dawn Gallagher | N43: =IF((M44>0),VLOOKUP(M43,'Results input'!$J$165:$M$172,4,),"") -> 5 | O43: =IF('women dec'!O25=0," ",'women dec'!O25) -> Ruth Bird | P43: =IF((O44>0),VLOOKUP(O43,'Results input'!$J$165:$M$172,4,),"") -> 8 | Q43: =IF('women dec'!Q25=0," ",'women dec'!Q25) -> Carole Rafferty | R43: =IF((Q44>0),VLOOKUP(Q43,'Results input'!$J$165:$M$172,4,),"")
B44: Perf. | C44: =IF(ISNA(VLOOKUP(C43,'Results input'!$J$165:$L$172,3,FALSE)),0,VLOOKUP(C43,'Results input'!$J$165:$L$172,3,FALSE)) -> 21.46 | E44: =IF(ISNA(VLOOKUP(E43,'Results input'!$J$165:$L$172,3,FALSE)),0,VLOOKUP(E43,'Results input'!$J$165:$L$172,3,FALSE)) -> 0 | G44: =IF(ISNA(VLOOKUP(G43,'Results input'!$J$165:$L$172,3,FALSE)),0,VLOOKUP(G43,'Results input'!$J$165:$L$172,3,FALSE)) -> 0 | I44: =IF(ISNA(VLOOKUP(I43,'Results input'!$J$165:$L$172,3,FALSE)),0,VLOOKUP(I43,'Results input'!$J$165:$L$172,3,FALSE)) -> 0 | K44: =IF(ISNA(VLOOKUP(K43,'Results input'!$J$165:$L$172,3,FALSE)),0,VLOOKUP(K43,'Results input'!$J$165:$L$172,3,FALSE)) -> 13.89 | M44: =IF(ISNA(VLOOKUP(M43,'Results input'!$J$165:$L$172,3,FALSE)),0,VLOOKUP(M43,'Results input'!$J$165:$L$172,3,FALSE)) -> 11.32 | O44: =IF(ISNA(VLOOKUP(O43,'Results input'!$J$165:$L$172,3,FALSE)),0,VLOOKUP(O43,'Results input'!$J$165:$L$172,3,FALSE)) -> 23.12 | Q44: =IF(ISNA(VLOOKUP(Q43,'Results input'!$J$165:$L$172,3,FALSE)),0,VLOOKUP(Q43,'Results input'!$J$165:$L$172,3,FALSE)) -> 0
A45: ='women dec'!A26 -> W40 Shot | B45: Name | C45: =IF('women dec'!C26=0," ",'women dec'!C26) -> Judy Johnson | D45: =IF((C46>0),VLOOKUP(C45,'Results input'!$J$175:$M$182,4,),"") -> 5 | E45: =IF('women dec'!E26=0," ",'women dec'!E26) -> Yasmine Al-Daftary | F45: =IF((E46>0),VLOOKUP(E45,'Results input'!$J$175:$M$182,4,),"") -> 7 | G45: =IF('women dec'!G26=0," ",'women dec'!G26) | H45: =IF((G46>0),VLOOKUP(G45,'Results input'!$J$175:$M$182,4,),"") | I45: =IF('women dec'!I26=0," ",'women dec'!I26) | J45: =IF((I46>0),VLOOKUP(I45,'Results input'!$J$175:$M$182,4,),"") | K45: =IF('women dec'!K26=0," ",'women dec'!K26) -> Julie Bellfield | L45: =IF((K46>0),VLOOKUP(K45,'Results input'!$J$175:$M$182,4,),"") -> 6 | M45: =IF('women dec'!M26=0," ",'women dec'!M26) -> Julia Reeves | N45: =IF((M46>0),VLOOKUP(M45,'Results input'!$J$175:$M$182,4,),"") -> 4 | O45: =IF('women dec'!O26=0," ",'women dec'!O26) -> Ruth Bird | P45: =IF((O46>0),VLOOKUP(O45,'Results input'!$J$175:$M$182,4,),"") -> 8 | Q45: =IF('women dec'!Q26=0," ",'women dec'!Q26) | R45: =IF((Q46>0),VLOOKUP(Q45,'Results input'!$J$175:$M$182,4,),"")
B46: Perf. | C46: =IF(ISNA(VLOOKUP(C45,'Results input'!$J$175:$L$182,3,FALSE)),0,VLOOKUP(C45,'Results input'!$J$175:$L$182,3,FALSE)) -> 5.62 | E46: =IF(ISNA(VLOOKUP(E45,'Results input'!$J$175:$L$182,3,FALSE)),0,VLOOKUP(E45,'Results input'!$J$175:$L$182,3,FALSE)) -> 6.5 | G46: =IF(ISNA(VLOOKUP(G45,'Results input'!$J$175:$L$182,3,FALSE)),0,VLOOKUP(G45,'Results input'!$J$175:$L$182,3,FALSE)) -> 0 | I46: =IF(ISNA(VLOOKUP(I45,'Results input'!$J$175:$L$182,3,FALSE)),0,VLOOKUP(I45,'Results input'!$J$175:$L$182,3,FALSE)) -> 0 | K46: =IF(ISNA(VLOOKUP(K45,'Results input'!$J$175:$L$182,3,FALSE)),0,VLOOKUP(K45,'Results input'!$J$175:$L$182,3,FALSE)) -> 6.25 | M46: =IF(ISNA(VLOOKUP(M45,'Results input'!$J$175:$L$182,3,FALSE)),0,VLOOKUP(M45,'Results input'!$J$175:$L$182,3,FALSE)) -> 5.22 | O46: =IF(ISNA(VLOOKUP(O45,'Results input'!$J$175:$L$182,3,FALSE)),0,VLOOKUP(O45,'Results input'!$J$175:$L$182,3,FALSE)) -> 8.7 | Q46: =IF(ISNA(VLOOKUP(Q45,'Results input'!$J$175:$L$182,3,FALSE)),0,VLOOKUP(Q45,'Results input'!$J$175:$L$182,3,FALSE)) -> 0
A47: ='women dec'!A27 -> 0 | B47: Name | C47: =IF('women dec'!C27=0," ",'women dec'!C27) | D47: =IF((C48>0),VLOOKUP(C47,'Results input'!$J$185:$M$192,4,),"") | E47: =IF('women dec'!E27=0," ",'women dec'!E27) | F47: =IF((E48>0),VLOOKUP(E47,'Results input'!$J$185:$M$192,4,),"") | G47: =IF('women dec'!G27=0," ",'women dec'!G27) | H47: =IF((G48>0),VLOOKUP(G47,'Results input'!$J$185:$M$192,4,),"") | I47: =IF('women dec'!I27=0," ",'women dec'!I27) | J47: =IF((I48>0),VLOOKUP(I47,'Results input'!$J$185:$M$192,4,),"") | K47: =IF('women dec'!K27=0," ",'women dec'!K27) | L47: =IF((K48>0),VLOOKUP(K47,'Results input'!$J$185:$M$192,4,),"") | M47: =IF('women dec'!M27=0," ",'women dec'!M27) | N47: =IF((M48>0),VLOOKUP(M47,'Results input'!$J$185:$M$192,4,),"") | O47: =IF('women dec'!O27=0," ",'women dec'!O27) | P47: =IF((O48>0),VLOOKUP(O47,'Results input'!$J$185:$M$192,4,),"") | Q47: =IF('women dec'!Q27=0," ",'women dec'!Q27) | R47: =IF((Q48>0),VLOOKUP(Q47,'Results input'!$J$185:$M$192,4,),"")
B48: Perf. | C48: =IF(ISNA(VLOOKUP(C47,'Results input'!$J$185:$L$192,3,FALSE)),0,VLOOKUP(C47,'Results input'!$J$185:$L$192,3,FALSE)) -> 0 | E48: =IF(ISNA(VLOOKUP(E47,'Results input'!$J$185:$L$192,3,FALSE)),0,VLOOKUP(E47,'Results input'!$J$185:$L$192,3,FALSE)) -> 0 | G48: =IF(ISNA(VLOOKUP(G47,'Results input'!$J$185:$L$192,3,FALSE)),0,VLOOKUP(G47,'Results input'!$J$185:$L$192,3,FALSE)) -> 0 | I48: =IF(ISNA(VLOOKUP(I47,'Results input'!$J$185:$L$192,3,FALSE)),0,VLOOKUP(I47,'Results input'!$J$185:$L$192,3,FALSE)) -> 0 | K48: =IF(ISNA(VLOOKUP(K47,'Results input'!$J$185:$L$192,3,FALSE)),0,VLOOKUP(K47,'Results input'!$J$185:$L$192,3,FALSE)) -> 0 | M48: =IF(ISNA(VLOOKUP(M47,'Results input'!$J$185:$L$192,3,FALSE)),0,VLOOKUP(M47,'Results input'!$J$185:$L$192,3,FALSE)) -> 0 | O48: =IF(ISNA(VLOOKUP(O47,'Results input'!$J$185:$L$192,3,FALSE)),0,VLOOKUP(O47,'Results input'!$J$185:$L$192,3,FALSE)) -> 0 | Q48: =IF(ISNA(VLOOKUP(Q47,'Results input'!$J$185:$L$192,3,FALSE)),0,VLOOKUP(Q47,'Results input'!$J$185:$L$192,3,FALSE)) -> 0
A49: ='women dec'!A28 -> spare | B49: Name | C49: =IF('women dec'!C28=0," ",'women dec'!C28) | D49: =IF((C50>0),VLOOKUP(C49,'Results input'!$J$195:$M$202,4,),"") | E49: =IF('women dec'!E28=0," ",'women dec'!E28) | F49: =IF((E50>0),VLOOKUP(E49,'Results input'!$J$195:$M$202,4,),"") | G49: =IF('women dec'!G28=0," ",'women dec'!G28) | H49: =IF((G50>0),VLOOKUP(G49,'Results input'!$J$195:$M$202,4,),"") | I49: =IF('women dec'!I28=0," ",'women dec'!I28) | J49: =IF((I50>0),VLOOKUP(I49,'Results input'!$J$195:$M$202,4,),"") | K49: =IF('women dec'!K28=0," ",'women dec'!K28) | L49: =IF((K50>0),VLOOKUP(K49,'Results input'!$J$195:$M$202,4,),"") | M49: =IF('women dec'!M28=0," ",'women dec'!M28) | N49: =IF((M50>0),VLOOKUP(M49,'Results input'!$J$195:$M$202,4,),"") | O49: =IF('women dec'!O28=0," ",'women dec'!O28) | P49: =IF((O50>0),VLOOKUP(O49,'Results input'!$J$195:$M$202,4,),"") | Q49: =IF('women dec'!Q28=0," ",'women dec'!Q28) | R49: =IF((Q50>0),VLOOKUP(Q49,'Results input'!$J$195:$M$202,4,),"")
B50: Perf. | C50: =IF(ISNA(VLOOKUP(C49,'Results input'!$J$195:$L$202,3,FALSE)),0,VLOOKUP(C49,'Results input'!$J$195:$L$202,3,FALSE)) -> 0 | E50: =IF(ISNA(VLOOKUP(E49,'Results input'!$J$195:$L$202,3,FALSE)),0,VLOOKUP(E49,'Results input'!$J$195:$L$202,3,FALSE)) -> 0 | G50: =IF(ISNA(VLOOKUP(G49,'Results input'!$J$195:$L$202,3,FALSE)),0,VLOOKUP(G49,'Results input'!$J$195:$L$202,3,FALSE)) -> 0 | I50: =IF(ISNA(VLOOKUP(I49,'Results input'!$J$195:$L$202,3,FALSE)),0,VLOOKUP(I49,'Results input'!$J$195:$L$202,3,FALSE)) -> 0 | K50: =IF(ISNA(VLOOKUP(K49,'Results input'!$J$195:$L$202,3,FALSE)),0,VLOOKUP(K49,'Results input'!$J$195:$L$202,3,FALSE)) -> 0 | M50: =IF(ISNA(VLOOKUP(M49,'Results input'!$J$195:$L$202,3,FALSE)),0,VLOOKUP(M49,'Results input'!$J$195:$L$202,3,FALSE)) -> 0 | O50: =IF(ISNA(VLOOKUP(O49,'Results input'!$J$195:$L$202,3,FALSE)),0,VLOOKUP(O49,'Results input'!$J$195:$L$202,3,FALSE)) -> 0 | Q50: =IF(ISNA(VLOOKUP(Q49,'Results input'!$J$195:$L$202,3,FALSE)),0,VLOOKUP(Q49,'Results input'!$J$195:$L$202,3,FALSE)) -> 0
A51: Field Totals | D51: =SUM(D37:D48) -> 21 | F51: =SUM(F37:F48) -> 28 | H51: =SUM(H37:H48) -> 0 | J51: =SUM(J37:J48) -> 10 | L51: =SUM(L37:L48) -> 25 | N51: =SUM(N37:N48) -> 17 | P51: =SUM(P37:P48) -> 33 | R51: =SUM(R37:R48) -> 0
A53: Track Totals | D53: =SUM(D3:D32) -> 52 | F53: =SUM(F3:F32) -> 67 | H53: =SUM(H3:H32) -> 8 | J53: =SUM(J3:J32) -> 28 | L53: =SUM(L3:L32) -> 77 | N53: =SUM(N3:N32) -> 53 | P53: =SUM(P3:P32) -> 74 | R53: =SUM(R3:R32) -> 0
A55: Final TOTALS | D55: =(D33+D51) -> 73 | F55: =(F33+F51) -> 95 | H55: =(H33+H51) -> 8 | J55: =(J33+J51) -> 38 | L55: =(L33+L51) -> 102 | N55: =(N33+N51) -> 70 | P55: =(P33+P51) -> 107 | R55: =(R33+R51) -> 0
A56: Positions (Team) | D56: =RANK(D55,$D55:$R55) -> 4 | F56: =RANK(F55,$D55:$R55) -> 3 | H56: =RANK(H55,$D55:$R55) -> 7 | J56: =RANK(J55,$D55:$R55) -> 6 | L56: =RANK(L55,$D55:$R55) -> 2 | N56: =RANK(N55,$D55:$R55) -> 5 | P56: =RANK(P55,$D55:$R55) -> 1 | R56: =RANK(R55,$D55:$R55) -> 8
A57: Lge Pts
A59: Note;- All events + Relays Score 8,7,6,5,4,3,2,1
A61: GUESTS results:-
C62: Event | E62: Name | G62: Club | I62: Performance
C63: W50 1500m | E63: Rebecca Hambrook | G63: Worcester
C64: W50 1500m | E64: Liz Tindle | G64: Halesowen | I64: 6.42.0
C65: W50 1500m | E65: Ellen Ambrose | G65: Halesowen | I65: 6.42.6
C66: W40 1500m | E66: Caroline Lambert | G66: Halesowen | I66: 6.20.2
C67: W40 1500m | E67: Helen Attwood | G67: Halesowen | I67: 7.21.0

Sheet Final Positions
A1: Men | B1: Match 1 Stourport | D1: Match 2 Birchfield | H1: Match 3 DASH | L1: Match 4 Worcester
A2: Team | B2: Score | C2: Lge Pts | D2: Score | E2: Lge Pts | F2: Total score | G2: Total Pts | H2: Score | I2: Lge Pts | J2: Total score | K2: Total Pts | L2: Score | M2: Lge Pts | N2: Total score | O2: Total League Pts | P2: Position
A3: Worcester | B3: 130 | C3: 8 | F3: =B3+D3 -> 130 | G3: =C3+E3 -> 8 | J3: =F3+H3 -> 130 | K3: =G3+I3 -> 8 | N3: =J3+L3 -> 130 | O3: =K3+M3 -> 8 | P3: 1
A4: B & R | B4: 115 | C4: 7 | F4: =B4+D4 -> 115 | G4: =C4+E4 -> 7 | J4: =F4+H4 -> 115 | K4: =G4+I4 -> 7 | N4: =J4+L4 -> 115 | O4: =K4+M4 -> 7 | P4: 2
A5: Birchfield | B5: 99 | C5: 6 | F5: =B5+D5 -> 99 | G5: =C5+E5 -> 6 | J5: =F5+H5 -> 99 | K5: =G5+I5 -> 6 | N5: =J5+L5 -> 99 | O5: =K5+M5 -> 6 | P5: 3
A6: Sparkhill | B6: 88 | C6: 5 | F6: =B6+D6 -> 88 | G6: =C6+E6 -> 5 | J6: =F6+H6 -> 88 | K6: =G6+I6 -> 5 | N6: =J6+L6 -> 88 | O6: =K6+M6 -> 5 | P6: 4
A7: Halesowen | B7: 75 | C7: 4 | F7: =B7+D7 -> 75 | G7: =C7+E7 -> 4 | J7: =F7+H7 -> 75 | K7: =G7+I7 -> 4 | N7: =J7+L7 -> 75 | O7: =K7+M7 -> 4 | P7: 5
A8: Droitwich & KSAC | B8: 69 | C8: 3 | F8: =B8+D8 -> 69 | G8: =C8+E8 -> 3 | J8: =F8+H8 -> 69 | K8: =G8+I8 -> 3 | N8: =J8+L8 -> 69 | O8: =K8+M8 -> 3 | P8: 6
A9: MMAC | B9: 28 | C9: 2 | F9: =B9+D9 -> 28 | G9: =C9+E9 -> 2 | J9: =F9+H9 -> 28 | K9: =G9+I9 -> 2 | N9: =J9+L9 -> 28 | O9: =K9+M9 -> 2 | P9: 7
A10: DASH | B10: 17 | C10: 1 | F10: =B10+D10 -> 17 | G10: =C10+E10 -> 1 | J10: =F10+H10 -> 17 | K10: =G10+I10 -> 1 | N10: =J10+L10 -> 17 | O10: =K10+M10 -> 1 | P10: 8
A13: Women | B13: Match 1 Stourport | D13: Match 2 Birchfield | H13: Match 3 DASH | L13: Match 4 Worcester
A14: Team | B14: Score | C14: Lge Pts | D14: Score | E14: Lge Pts | F14: Total score | G14: Total Pts | H14: Score | I14: Lge Pts | J14: Total score | K14: Total Pts | L14: Score | M14: Lge Pts | N14: Total score | O14: Total League Pts | P14: Position
A15: Worcester | B15: 107 | C15: 8 | F15: =B15+D15 -> 107 | G15: =C15+E15 -> 8 | J15: =F15+H15 -> 107 | K15: =G15+I15 -> 8 | N15: =J15+L15 -> 107 | O15: =K15+M15 -> 8 | P15: 1
A16: Halesowen | B16: 102 | C16: 7 | F16: =B16+D16 -> 102 | G16: =C16+E16 -> 7 | J16: =F16+H16 -> 102 | K16: =G16+I16 -> 7 | N16: =J16+L16 -> 102 | O16: =K16+M16 -> 7 | P16: 2
A17: B & R | B17: 95 | C17: 6 | F17: =B17+D17 -> 95 | G17: =C17+E17 -> 6 | J17: =F17+H17 -> 95 | K17: =G17+I17 -> 6 | N17: =J17+L17 -> 95 | O17: =K17+M17 -> 6 | P17: 3
A18: Birchfield | B18: 73 | C18: 5 | F18: =B18+D18 -> 73 | G18: =C18+E18 -> 5 | J18: =F18+H18 -> 73 | K18: =G18+I18 -> 5 | N18: =J18+L18 -> 73 | O18: =K18+M18 -> 5 | P18: 4
A19: Sparkhill | B19: 70 | C19: 4 | F19: =B19+D19 -> 70 | G19: =C19+E19 -> 4 | J19: =F19+H19 -> 70 | K19: =G19+I19 -> 4 | N19: =J19+L19 -> 70 | O19: =K19+M19 -> 4 | P19: 5
A20: DASH | B20: 38 | C20: 3 | F20: =B20+D20 -> 38 | G20: =C20+E20 -> 3 | J20: =F20+H20 -> 38 | K20: =G20+I20 -> 3 | N20: =J20+L20 -> 38 | O20: =K20+M20 -> 3 | P20: 6
A21: Droitwich & KSAC | B21: 8 | C21: 2 | F21: =B21+D21 -> 8 | G21: =C21+E21 -> 2 | J21: =F21+H21 -> 8 | K21: =G21+I21 -> 2 | N21: =J21+L21 -> 8 | O21: =K21+M21 -> 2 | P21: 7
A22: MMAC | B22: 0 | C22: 0 | F22: =B22+D22 -> 0 | G22: =C22+E22 -> 0 | J22: =F22+H22 -> 0 | K22: =G22+I22 -> 0 | N22: =J22+L22 -> 0 | O22: =K22+M22 -> 0 | P22: 8

Sheet Men dec.
A1: Club:- | C1: Birchfield | E1: B & R | G1: Droitwich & KSAC | I1: DASH | K1: Halesowen | M1: Sparkhill | O1: Worcester | Q1: MMAC
C2: 13 / 14 / A | E2: 21 / 22 / N | G2: 23 / 24 / O | I2: 3 / 4 / C | K2: 9 / 10 / P | M2: 1 /2 / S | O2: 11 / 12 / F | Q2: 35 / 36 / F
A3: Events
A4: M60 100m | C4: Robin Davies | E4: Pete Mould | G4: Tony Crocker | K4: Les Woods | M4: Bernie Wareing | O4: Laurence Oldfield | Q4: Michael Elwell
A5: M50 100m | C5: Paul Rogers | E5: David Cleverley | G5: Andy Priest | K5: Chris Cleary | M5: Simon Willington | O5: John Steel
A6: M40 100m | C6: Martin Maynard | E6: Calvin Scoltock | G6: Keith Waldron | K6: Kevin Monk | O6: Richard White
A7: M35 100m | C7: Hervin Prince | E7: Martin Aspley-Davis | I7: Richard Westwood | K7: Matt Allen | O7: Edward Gerrard
A8: M35 400m | C8: Jag Ubhoo | E8: Martin Aspley-Davis | J8: matt a | K8: Mark Turner | M8: Rob Mills | O8: Dave Hall
A9: M40 400m | C9: Connolly Meagher | E9: Calvin Scoltock | G9: Adrian James | K9: Mike Neylon | M9: David Hanson | O9: Nick Hitchens | Q9: Michael Elwell
A10: M50 400m | C10: Wilf Morgan | E10: David Cleverley | K10: Chris Cleary | M10: Simon Willington | O10: Richard White | Q10: Robin MacDonald
A11: M40 2k Walk | C11: John Constandinou | E11: Calvin Scoltock | I11: Mike Horton | K11: Kevin Monk | M11: Martin Millicheap | O11: Mark Palethorpe
A12: M60 2k Walk | C12: Peter Boszko | E12: Len Quartly | I12: Glyn Jones | M12: David Winter | O12: Les Scrivens
A13: M35 1500m | C13: Johnny Cullen | E13: Andy Freeman | K13: Nic Hazelwood | M13: Rob Mills | O13: Dave Hall
A14: M40 1500m | C14: Connolly Meagher | E14: Dean Hartshorne | K14: Mark Hadley | M14: Paul Shipway | O14: Warren Miles | Q14: Carson Tweedie
A15: M60 1500m | C15: Robin Davies | E15: Vince Rollason | K15: Paul Allen | M15: Mick Edwards | O15: Terry Bedington | Q15: Michael Elwell
A16: Team name | C16: =C1 -> Birchfield | E16: =E1 -> B & R | G16: =G1 -> Droitwich & KSAC | I16: =I1 -> DASH | K16: =K1 -> Halesowen | M16: =M1 -> Sparkhill | O16: =O1 -> Worcester | Q16: =Q1 -> MMAC
A17: Relay Team Names (4x200m) | C17: Martin Maynard | E17: Calvin Scoltock | G17: Keith Waldron | K17: Nic Hazelwood | O17: Dave Hall
C18: Connolly Meagher | E18: Dean Hartshorne | G18: Adrian James | K18: Roger Mallard | O18: Richard White
C19: Paul Rogers | E19: Martin Aspley-Davis | G19: Andy Priest | K19: Matt Allen | O19: Warren Miles
C20: Jag Ubhoo | E20: Andy Freeman | G20: Neil Williams | K20: Mike Neylon | O20: Laurence Oldfield
A22: M50 Hammer | C22: Dave Fall | E22: Clive Brown | G22: Dave Russell | K22: Kevin Monk | O22: Marc Flannery | Q22: Anthony Porter
A23: M35 Hammer | C23: Julian Barnett | E23: Andy Freeman | G23: Keith Waldron | K23: Matt Allen | M23: Michael Westwood | O23: Peter Stewart | Q23: Anthony Porter
A24: M60 Shot | C24: Wilf Morgan | E24: Clive Brown | G24: Dave Russell | K24: Les Woods | M24: Bernie Waring | O24: Ian Bowles | Q24: Michael Elwell
A25: M35 High J | C25: Martin Maynard | E25: Andy Freeman | G25: Adrian James | K25: Mike Neylon | M25: David Hanson | O25: Peter Stewart
A26: M50 High J | C26: Paul Rogers | E26: Dave Cleverley | G26: Tony Crocker | M26: Simon Willington | O26: Marc Flannery
A27: M40 Triple J | C27: John Constandinou | E27: Wondu Ben Beyene | G27: Adrian James | K27: Mike Neylon | M27: David Hanson | O27: Marc Flannery
A28: M35 Javelin | C28: Julian Barnett | E28: Andy Freeman | G28: Dave Russell | K28: Matt Allen | M28: Michael Westwood | O28: Peter Stewart | Q28: Anthony Porter
A29: Spare
A31: Guest names
A32: M35 1500m | K32: Roger Mallard | O32: Phil Bullock
A33: M35 1500m | K33: Matt Allen | O33: Nick Hitchens
A34: M40 1500m | K34: Kevin Monk | O34: Darren Salisbury
A35: M50 1500m | E35: Matt Henney | O35: Martyn Cole
A36: M60 1500m | O36: Barry Swindells
A37: M60 100m | O37: Richard Perkins
A38: M50 Hammer | F38: Richard Eastman
A39: M60 Walk | C39: John Fenton
A40: M60 Walk | C40: David Fall
C42: NB Guests will not add automatically!!

Sheet women dec
A1: Club:- | C1: Birchfield | E1: B & R | G1: Droitwich & KSAC | I1: DASH | K1: Halesowen | M1: Sparkhill | O1: Worcester | Q1: MMAC
C2: 63 /64 / A | E2: 71/ 72 /N | G2: 73 / 74 /O | I2: 53/ 54 / C | K2: 59 / 60 / P | M2: 151 /152 / S | O2: 61 / 62 / F | Q2: 85 / 86 / K
A3: Events
A4: W60 100m | E4: Rita Brownlie | K4: Rosemary Chrimes | M4: Gill Millicheap | O4: Rebecca Hambrook
A5: W50 100m | C5: Viv Bonner | E5: Julie Wakelam | I5: Elaine Restorick | K5: Liz Tindle | O5: Ros Townsend Hope
A6: W40 100m | C6: Judy Johnson | E6: Debbie Ricci | G6: Kate Murdoch | K6: Julie Dale | O6: Ruth Bird
A7: W35 100m | C7: Julie Rogers | E7: Yasmine Al-Daftary | K7: Sally Spencer | M7: Megan Harris | O7: Cat Goulder- Davies
A8: W35 400m | E8: Karen Riley | K8: Sam Morton | M8: Stella Denniss | O8: Becky Freeman
A9: W40 400m | C9: Julie Rogers | E9: Debbie Ricci | G9: Kate Murdoch | I9: Elaine Restorick | K9: Julie Dale | M9: Manisha Parmar | O9: Tracy Miles
A10: W60 400m | C10: Viv Bonner | E10: Rita Brownlie | I10: Nancy Hitchhough | M10: Gill Millicheap | O10: Rebecca Hambrook
A11: W35 2k Walk | E11: Yasmine Al-Daftary | K11: Lynn Bellfield | M11: Megan Harris
A12: W40 2k Walk | C12: Zita McDonald | E12: Sharon Tonks | I12: Elaine Restorick | K12: Julie Bellfield | M12: Hilary Mann | O12: Wendy Bennett
A13: W35 1500m | C13: Wendy Morant | E13: Karen Riley | K13: Sam Morton | M13: Stella Denniss | O13: Becky Freeman
A14: W40 1500m | C14: Zita McDonald | E14: Becky Salvey | I14: Elaine Restorick | K14: Anna Cosimetti | M14: Manisha Parmar | O14: Tracy Miles
A15: W50 1500m | C15: Zita McDonald | E15: Ann Stuart | I15: Nancy Hitch Hough | K15: Sally Spencer | O15: Ros Townsend Hope
A16: Team | C16: =C1 -> Birchfield | E16: =E1 -> B & R | G16: =G1 -> Droitwich & KSAC | I16: =I1 -> DASH | K16: =K1 -> Halesowen | M16: =M1 -> Sparkhill | O16: =O1 -> Worcester | Q16: =Q1 -> MMAC
A17: Relay Teams names (4x200m) | C17: Viv Bonner | E17: Debbie Ricci | K17: Sally Spencer | M17: Stella Denniss | O17: Becky Freeman
C18: Judy Johnson | E18: Yasmine Al-Daftary | K18: Liz Tindle | M18: Manisha Parmar | O18: Tracy Miles
C19: Julie Rogers | E19: Karen Riley | K19: Julie Dale | M19: Gill Millicheap | O19: Ros Townsend Hope
C20: Zita McDonald | E20: Julie Wakelam | K20: Sam Morton | M20: Hilary Mann | O20: Cat Goulder- Davies
O21: 1
A22: W35 High J | E22: Karen Riley | O22: Ruth Bird
A23: W50 High J | C23: Karen Davies | E23: Julie Wakelam | I23: Elaine Restorick | K23: Rosemary Chrimes | O23: Ros Townsend Hope
A24: W50 Shot | C24: Karen Davies | E24: Julie Wakelam | I24: Elaine Restorick | K24: Rosemary Chrimes | M24: Dawn Gallagher | O24: Melanie Garland | Q24: Carole Rafferty
A25: W40 Javelin | C25: Julie Rogers | E25: Julie Wakelam | K25: Joanne Smallwood | M25: Dawn Gallagher | O25: Ruth Bird | Q25: Carole Rafferty
A26: W40 Shot | C26: Judy Johnson | E26: Yasmine Al-Daftary | K26: Julie Bellfield | M26: Julia Reeves | O26: Ruth Bird
A28: spare
A30: Guest names
A31: High J | E31: Karen Riley
A32: 1500m | E32: Karen Riley | K32: Helen Attwood
A33: 100m | O33: Ruth Bird
A34: W50 1500m | K34: Ellen Ambrose | O34: Rebecca Hambrook
A35: W50 1500m | K35: Liz Tindle | M35: Julia Reeves
A36: 1500m | K36: Caroline Lambert
C39: NB Guests will not add automatically!!

Sheet Read me 1st
A1: The input sheet has declaration sheets which automatically add the names and events to the results sheet(2). On the results sheets the scores will add up automatically and be shown at the bottom of the page, useful for giving interim scores!. Transfer the final results to the positions sheet which will also auto add. Alternative old system use dec sheets and Men and women results input
A3: Notes on using Vets League Score Sheet
A4: Before Competition day | B4: 1 | C4: Look through the tabs at the bottom of the Page and see what the sheets say before changing anything.
B5: 2 | C5: Make a backup copy just in case!!
C6: Good idea to try your printers now, see all sheets print OK (landscape) adjust page area if needed
B7: 3 | C7: Go to the Grey Men dec / women dec tabs
B8: 4 | C8: Delete the competitor names [on this sheet only not the results sheet] not the events!!! (If names present!) (the names were only left in to illustrate how it works) Check ALL the Headers and Footers are correct. [see View]
B9: 5 | C9: Resave with your own file Name [eg VetsL2010m4]
C10: Try and Have a reader to help you enter the results on the day
A11: Before first results | B11: 6 | C11: In The GRAY tab declaration sheets Put in the team and Numbers; THEN under each team fill in names. Put in the Initial + surnames in the correct columns from the declaration sheets (Short names can go in completely but long names will cause problems printing).
B12: 7 | C12: Check the names have automatically appeared on the appropriate score sheet; If correct SAVE
A13: To enter results | B13: 8 | C13: Repeat steps 6+7 for Men dec/women dec.
B14: 9 | C14: After entering all the names select the results tab Men or Women Then find the event you need
B15: 10 | C15: Enter performance under name (see format notes)
B16: 11 | C16: Enter score in correct column to the right
B17: 12 | C17: Check the scores have added at the bottom | M17: Enter all the results saving from time to time -check results appear correctly.
B18: 13 | C18: Save every few events for safety | M18: Give out scores from results sheet from time to time
A19: To Complete the results | B19: 14 | C19: When all events are entered check no spaces are left | M19: Give out scores from results sheet from time to time
B20: 15 | C20: If all is correct Save!! | M20: Now go to point 14
B21: 16 | C21: Determine positions of clubs from scores and add to bottom lines. Of results sheets Save again.
B22: 17 | C22: Print a copy IF OK run rest off
B23: 18 | C23: Transfer results to Final positions sheet (print out is helpful here)
B24: 19 | C24: If clever with excel sort on column P then Q Need to highlight women's and men's results separately.
B25: 20 | C25: Check positions are correct and SAVE
B26: 21 | C26: Print a copy IF OK run rest off
B27: 22 | C27: Well done get out the whisky!!!!!
C29: ANY Problems on the day Shout for (or at!) DAVE Cowley
C31: GOOD LUCK!!
C33: After match send copies of all sheets and declarations to Area Secretary. (ADD Guest results at bottom please)
C35: NB if events different change on declaration sheet not score sheet
C36: Times are formatted on result sheet so check format and change if events have been moved
