Workbook
Name Men_sort_Area: 'Final Positions'!$A$3:$O$10
Name R___N_lions: 'Final Positions'!$A$3:$O$10
Name Women_sort_area: 'Final Positions'!$A$15:$O$22

Sheet Results input
A1: Men Results INPUT SHEET | H1: Women Results INPUT SHEET
A2: ='Men dec.'!A4 -> M60 100m | H2: ='women dec'!A4 -> W60 100m | P2: Men's Key to Teams | S2: Women's Key to Teams
A3: Position | B3: Number | C3: Name | D3: Club | E3: Performance | F3: Points | H3: Position | I3: Number | J3: Name | K3: Club | L3: Performance | M3: Points
A4: 1 | B4: 22 | C4: =IF(B4=""," ",HLOOKUP(D4,'Men dec.'!$C$1:$Q$28,4,FALSE)) -> Pete Mould | D4: =VLOOKUP(B4,$P$4:$Q$35,2,FALSE) -> B & R | E4: 13.4 | F4: =IF(OR(E4=0,E4="dis",E4="",E4=" ", E4="nvh"),"",8) -> 8 | G4: 12 | H4: 1 | I4: 152 | J4: =IF(I4=""," ",HLOOKUP(K4,'women dec'!$C$1:$Q$37,4,FALSE)) -> Gill Millicheap | K4: =VLOOKUP(I4,$S$4:$T$35,2,FALSE) -> Sparkhill | L4: 18.5 | M4: =IF(OR(L4=0,L4="dis",L4="",L4=" ", L4="nvh"),"",8) -> 8 | P4: 1 | Q4: Sparkhill | S4: 151 | T4: Sparkhill
A5: 2 | B5: 12 | C5: =IF(B5=""," ",HLOOKUP(D5,'Men dec.'!$C$1:$Q$28,4,FALSE)) -> Laurence Oldfield | D5: =VLOOKUP(B5,$P$4:$Q$35,2,FALSE) -> Worcester | E5: 14.7 | F5: =IF(OR(E5=0,E5="dis",E5="",E5=" ", E5="nvh"),"",7) -> 7 | H5: 2 | I5: 72 | J5: =IF(I5=""," ",HLOOKUP(K5,'women dec'!$C$1:$Q$37,4,FALSE)) -> Rita Brownlie | K5: =VLOOKUP(I5,$S$4:$T$35,2,FALSE) -> B & R | L5: 20.5 | M5: =IF(OR(L5=0,L5="dis",L5="",L5=" ", L5="nvh"),"",7) -> 7 | P5: 2 | Q5: Sparkhill | S5: 152 | T5: Sparkhill
A6: 3 | B6: 24 | C6: =IF(B6=""," ",HLOOKUP(D6,'Men dec.'!$C$1:$Q$28,4,FALSE)) -> Tony Crocker | D6: =VLOOKUP(B6,$P$4:$Q$35,2,FALSE) -> Droitwich & KSAC | E6: 16.6 | F6: =IF(OR(E6=0,E6="dis",E6="",E6=" ", E6="nvh"),"",6) -> 6 | H6: 3 | I6: 62 | J6: =IF(I6=""," ",HLOOKUP(K6,'women dec'!$C$1:$Q$37,4,FALSE)) -> Rebecca Hambrook | K6: =VLOOKUP(I6,$S$4:$T$35,2,FALSE) -> Worcester | L6: 20.7 | M6: =IF(OR(L6=0,L6="dis",L6="",L6=" ", L6="nvh"),"",6) -> 6 | P6: 3 | Q6: DASH | S6: 53 | T6: DASH
A7: 4 | B7: 10 | C7: =IF(B7=""," ",HLOOKUP(D7,'Men dec.'!$C$1:$Q$28,4,FALSE)) -> Les Woods | D7: =VLOOKUP(B7,$P$4:$Q$35,2,FALSE) -> Halesowen | E7: 16.7 | F7: =IF(OR(E7=0,E7="dis",E7="",E7=" ", E7="nvh"),"",5) -> 5 | H7: 4 | I7: 60 | J7: =IF(I7=""," ",HLOOKUP(K7,'women dec'!$C$1:$Q$37,4,FALSE)) -> Rosemary Chrimes | K7: =VLOOKUP(I7,$S$4:$T$35,2,FALSE) -> Halesowen | L7: 21.1 | M7: =IF(OR(L7=0,L7="dis",L7="",L7=" ", L7="nvh"),"",5) -> 5 | P7: 4 | Q7: DASH | S7: 54 | T7: DASH
A8: 5 | B8: 2 | C8: =IF(B8=""," ",HLOOKUP(D8,'Men dec.'!$C$1:$Q$28,4,FALSE)) -> Bernie Wareing | D8: =VLOOKUP(B8,$P$4:$Q$35,2,FALSE) -> Sparkhill | E8: 18.1 | F8: =IF(OR(E8=0,E8="dis",E8="",E8=" ", E8="nvh"),"",4) -> 4 | H8: 5 | J8: =IF(I8=""," ",HLOOKUP(K8,'women dec'!$C$1:$Q$37,4,FALSE)) | K8: =VLOOKUP(I8,$S$4:$T$35,2,FALSE) -> #N/A | M8: =IF(OR(L8=0,L8="dis",L8="",L8=" ", L8="nvh"),"",4) | P8: 9 | Q8: Halesowen | S8: 59 | T8: Halesowen
A9: 6 | B9: 14 | C9: =IF(B9=""," ",HLOOKUP(D9,'Men dec.'!$C$1:$Q$28,4,FALSE)) -> Robin Davies | D9: =VLOOKUP(B9,$P$4:$Q$35,2,FALSE) -> Birchfield | E9: 18.3 | F9: =IF(OR(E9=0,E9="dis",E9="",E9=" ", E9="nvh"),"",3) -> 3 | H9: 6 | J9: =IF(I9=""," ",HLOOKUP(K9,'women dec'!$C$1:$Q$37,4,FALSE)) | K9: =VLOOKUP(I9,$S$4:$T$35,2,FALSE) -> #N/A | M9: =IF(OR(L9=0,L9="dis",L9="",L9=" ", L9="nvh"),"",3) | P9: 10 | Q9: Halesowen | S9: 60 | T9: Halesowen
A10: 7 | B10: 36 | C10: =IF(B10=""," ",HLOOKUP(D10,'Men dec.'!$C$1:$Q$28,4,FALSE)) -> Michael Elwell | D10: =VLOOKUP(B10,$P$4:$Q$35,2,FALSE) -> MMAC | E10: 18.5 | F10: =IF(OR(E10=0,E10="dis",E10="",E10=" ", E10="nvh"),"",2) -> 2 | H10: 7 | J10: =IF(I10=""," ",HLOOKUP(K10,'women dec'!$C$1:$Q$37,4,FALSE)) | K10: =VLOOKUP(I10,$S$4:$T$35,2,FALSE) -> #N/A | M10: =IF(OR(L10=0,L10="dis",L10="",L10=" ", L10="nvh"),"",2) | P10: 11 | Q10: Worcester | S10: 61 | T10: Worcester
A11: 8 | C11: =IF(B11=""," ",HLOOKUP(D11,'Men dec.'!$C$1:$Q$28,4,FALSE)) | D11: =VLOOKUP(B11,$P$4:$Q$35,2,FALSE) -> #N/A | F11: =IF(OR(E11=0,E11="dis",E11="",E11=" ", E11="nvh"),"",1) | H11: 8 | J11: =IF(I11=""," ",HLOOKUP(K11,'women dec'!$C$1:$Q$37,4,FALSE)) | K11: =VLOOKUP(I11,$S$4:$T$35,2,FALSE) -> #N/A | M11: =IF(OR(L11=0,L11="dis",L11="",L11=" ", L11="nvh"),"",1) | P11: 12 | Q11: Worcester | S11: 62 | T11: Worcester
A12: ='Men dec.'!A5 -> M50 100m | H12: ='women dec'!A5 -> W50 100m | P12: 13 | Q12: Birchfield | S12: 63 | T12: Birchfield
A13: Position | B13: Number | C13: Name | D13: Club | E13: Performance | F13: Points | H13: Position | I13: Number | J13: Name | K13: Club | L13: Performance | M13: Points | P13: 14 | Q13: Birchfield | S13: 64 | T13: Birchfield
A14: 1 | B14: 23 | C14: =IF(B14=""," ",HLOOKUP(D14,'Men dec.'!$C$1:$Q$28,5,FALSE)) -> Andy Priest | D14: =VLOOKUP(B14,$P$4:$Q$35,2,FALSE) -> Droitwich & KSAC | E14: 13 | F14: =IF(OR(E14=0,E14="dis",E14="",E14=" ", E14="nvh"),"",8) -> 8 | G14: 12 | H14: 1 | I14: 63 | J14: =IF(I14=""," ",HLOOKUP(K14,'women dec'!$C$1:$Q$37,5,FALSE)) -> Viv Bonner | K14: =VLOOKUP(I14,$S$4:$T$35,2,FALSE) -> Birchfield | L14: 14.7 | M14: =IF(OR(L14=0,L14="dis",L14="",L14=" ", L14="nvh"),"",8) -> 8 | P14: 21 | Q14: B & R | S14: 71 | T14: B & R
A15: 2 | B15: 13 | C15: =IF(B15=""," ",HLOOKUP(D15,'Men dec.'!$C$1:$Q$28,5,FALSE)) -> Paul Rogers | D15: =VLOOKUP(B15,$P$4:$Q$35,2,FALSE) -> Birchfield | E15: 14.3 | F15: =IF(OR(E15=0,E15="dis",E15="",E15=" ", E15="nvh"),"",7) -> 7 | H15: 2 | I15: 53 | J15: =IF(I15=""," ",HLOOKUP(K15,'women dec'!$C$1:$Q$37,5,FALSE)) -> Elaine Restorick | K15: =VLOOKUP(I15,$S$4:$T$35,2,FALSE) -> DASH | L15: 16.5 | M15: =IF(OR(L15=0,L15="dis",L15="",L15=" ", L15="nvh"),"",7) -> 7 | P15: 22 | Q15: B & R | S15: 72 | T15: B & R
A16: 3 | B16: 11 | C16: =IF(B16=""," ",HLOOKUP(D16,'Men dec.'!$C$1:$Q$28,5,FALSE)) -> John Steel | D16: =VLOOKUP(B16,$P$4:$Q$35,2,FALSE) -> Worcester | E16: 14.4 | F16: =IF(OR(E16=0,E16="dis",E16="",E16=" ", E16="nvh"),"",6) -> 6 | H16: 3 | I16: 59 | J16: =IF(I16=""," ",HLOOKUP(K16,'women dec'!$C$1:$Q$37,5,FALSE)) -> Liz Tindle | K16: =VLOOKUP(I16,$S$4:$T$35,2,FALSE) -> Halesowen | L16: 16.7 | M16: =IF(OR(L16=0,L16="dis",L16="",L16=" ", L16="nvh"),"",6) -> 6 | P16: 23 | Q16: Droitwich & KSAC | S16: 73 | T16: Droitwich & KSAC
A17: 4 | B17: 1 | C17: =IF(B17=""," ",HLOOKUP(D17,'Men dec.'!$C$1:$Q$28,5,FALSE)) -> Simon Willington | D17: =VLOOKUP(B17,$P$4:$Q$35,2,FALSE) -> Sparkhill | E17: 15.2 | F17: =IF(OR(E17=0,E17="dis",E17="",E17=" ", E17="nvh"),"",5) -> 5 | H17: 4 | I17: 71 | J17: =IF(I17=""," ",HLOOKUP(K17,'women dec'!$C$1:$Q$37,5,FALSE)) -> Julie Wakelam | K17: =VLOOKUP(I17,$S$4:$T$35,2,FALSE) -> B & R | L17: 16.9 | M17: =IF(OR(L17=0,L17="dis",L17="",L17=" ", L17="nvh"),"",5) -> 5 | P17: 24 | Q17: Droitwich & KSAC | S17: 74 | T17: Droitwich & KSAC
A18: 5 | B18: 21 | C18: =IF(B18=""," ",HLOOKUP(D18,'Men dec.'!$C$1:$Q$28,5,FALSE)) -> David Cleverley | D18: =VLOOKUP(B18,$P$4:$Q$35,2,FALSE) -> B & R | E18: 17.3 | F18: =IF(OR(E18=0,E18="dis",E18="",E18=" ", E18="nvh"),"",4) -> 4 | H18: 5 | I18: 61 | J18: =IF(I18=""," ",HLOOKUP(K18,'women dec'!$C$1:$Q$37,5,FALSE)) -> Ros Townsend Hope | K18: =VLOOKUP(I18,$S$4:$T$35,2,FALSE) -> Worcester | L18: 17.8 | M18: =IF(OR(L18=0,L18="dis",L18="",L18=" ", L18="nvh"),"",4) -> 4 | P18: 35 | Q18: MMAC | S18: 85 | T18: MMAC
A19: 6 | C19: =IF(B19=""," ",HLOOKUP(D19,'Men dec.'!$C$1:$Q$28,5,FALSE)) | D19: =VLOOKUP(B19,$P$4:$Q$35,2,FALSE) -> #N/A | F19: =IF(OR(E19=0,E19="dis",E19="",E19=" ", E19="nvh"),"",3) | H19: 6 | J19: =IF(I19=""," ",HLOOKUP(K19,'women dec'!$C$1:$Q$37,5,FALSE)) | K19: =VLOOKUP(I19,$S$4:$T$35,2,FALSE) -> #N/A | M19: =IF(OR(L19=0,L19="dis",L19="",L19=" ", L19="nvh"),"",3) | P19: 36 | Q19: MMAC | S19: 86 | T19: MMAC
A20: 7 | C20: =IF(B20=""," ",HLOOKUP(D20,'Men dec.'!$C$1:$Q$28,5,FALSE)) | D20: =VLOOKUP(B20,$P$4:$Q$35,2,FALSE) -> #N/A | F20: =IF(OR(E20=0,E20="dis",E20="",E20=" ", E20="nvh"),"",2) | H20: 7 | J20: =IF(I20=""," ",HLOOKUP(K20,'women dec'!$C$1:$Q$37,5,FALSE)) | K20: =VLOOKUP(I20,$S$4:$T$35,2,FALSE) -> #N/A | M20: =IF(OR(L20=0,L20="dis",L20="",L20=" ", L20="nvh"),"",2) | P20: 1x | Q20: Sparkhill | S20: 151x | T20: Sparkhill
A21: 8 | C21: =IF(B21=""," ",HLOOKUP(D21,'Men dec.'!$C$1:$Q$28,5,FALSE)) | D21: =VLOOKUP(B21,$P$4:$Q$35,2,FALSE) -> #N/A | F21: =IF(OR(E21=0,E21="dis",E21="",E21=" ", E21="nvh"),"",1) | H21: 8 | J21: =IF(I21=""," ",HLOOKUP(K21,'women dec'!$C$1:$Q$37,5,FALSE)) | K21: =VLOOKUP(I21,$S$4:$T$35,2,FALSE) -> #N/A | M21: =IF(OR(L21=0,L21="dis",L21="",L21=" ", L21="nvh"),"",1) | P21: 2x | Q21: Sparkhill | S21: 152x | T21: Sparkhill
A22: ='Men dec.'!A6 -> M40 100m | H22: ='women dec'!A6 -> W40 100m | P22: 3x | Q22: DASH | S22: 53x | T22: DASH
A23: Position | B23: Number | C23: Name | D23: Club | E23: Performance | F23: Points | H23: Position | I23: Number | J23: Name | K23: Club | L23: Performance | M23: Points | P23: 4x | Q23: DASH | S23: 54x | T23: DASH
A24: 1 | B24: 14 | C24: =IF(B24=""," ",HLOOKUP(D24,'Men dec.'!$C$1:$Q$28,6,FALSE)) -> Martin Maynard | D24: =VLOOKUP(B24,$P$4:$Q$35,2,FALSE) -> Birchfield | E24: 12.8 | F24: =IF(OR(E24=0,E24="dis",E24="",E24=" ", E24="nvh"),"",8) -> 8 | G24: 12 | H24: 1 | I24: 74 | J24: =IF(I24=""," ",HLOOKUP(K24,'women dec'!$C$1:$Q$37,6,FALSE)) -> Kate Murdoch | K24: =VLOOKUP(I24,$S$4:$T$35,2,FALSE) -> Droitwich & KSAC | L24: 14.3 | M24: =IF(OR(L24=0,L24="dis",L24="",L24=" ", L24="nvh"),"",8) -> 8 | P24: 9x | Q24: Halesowen | S24: 59x | T24: Halesowen
A25: 2 | B25: 24 | C25: =IF(B25=""," ",HLOOKUP(D25,'Men dec.'!$C$1:$Q$28,6,FALSE)) -> Keith Waldron | D25: =VLOOKUP(B25,$P$4:$Q$35,2,FALSE) -> Droitwich & KSAC | E25: 13.2 | F25: =IF(OR(E25=0,E25="dis",E25="",E25=" ", E25="nvh"),"",7) -> 7 | H25: 2 | I25: 72 | J25: =IF(I25=""," ",HLOOKUP(K25,'women dec'!$C$1:$Q$37,6,FALSE)) -> Debbie Ricci | K25: =VLOOKUP(I25,$S$4:$T$35,2,FALSE) -> B & R | L25: 15.3 | M25: =IF(OR(L25=0,L25="dis",L25="",L25=" ", L25="nvh"),"",7) -> 7 | P25: 10x | Q25: Halesowen | S25: 60x | T25: Halesowen
A26: 3 | B26: 22 | C26: =IF(B26=""," ",HLOOKUP(D26,'Men dec.'!$C$1:$Q$28,6,FALSE)) -> Calvin Scoltock | D26: =VLOOKUP(B26,$P$4:$Q$35,2,FALSE) -> B & R | E26: 13.7 | F26: =IF(OR(E26=0,E26="dis",E26="",E26=" ", E26="nvh"),"",6) -> 6 | H26: 3 | I26: 64 | J26: =IF(I26=""," ",HLOOKUP(K26,'women dec'!$C$1:$Q$37,6,FALSE)) -> Judy Johnson | K26: =VLOOKUP(I26,$S$4:$T$35,2,FALSE) -> Birchfield | L26: 15.7 | M26: =IF(OR(L26=0,L26="dis",L26="",L26=" ", L26="nvh"),"",6) -> 6 | P26: 11x | Q26: Worcester | S26: 61x | T26: Worcester
A27: 4 | B27: 12 | C27: =IF(B27=""," ",HLOOKUP(D27,'Men dec.'!$C$1:$Q$28,6,FALSE)) -> Richard White | D27: =VLOOKUP(B27,$P$4:$Q$35,2,FALSE) -> Worcester | E27: 14 | F27: =IF(OR(E27=0,E27="dis",E27="",E27=" ", E27="nvh"),"",5) -> 5 | H27: 4 | I27: 60 | J27: =IF(I27=""," ",HLOOKUP(K27,'women dec'!$C$1:$Q$37,6,FALSE)) -> Julie Dale | K27: =VLOOKUP(I27,$S$4:$T$35,2,FALSE) -> Halesowen | L27: 15.9 | M27: =IF(OR(L27=0,L27="dis",L27="",L27=" ", L27="nvh"),"",5) -> 5 | P27: 12x | Q27: Worcester | S27: 62x | T27: Worcester
A28: 5 | B28: 10 | C28: =IF(B28=""," ",HLOOKUP(D28,'Men dec.'!$C$1:$Q$28,6,FALSE)) -> Kevin Monk | D28: =VLOOKUP(B28,$P$4:$Q$35,2,FALSE) -> Halesowen | E28: 14.3 | F28: =IF(OR(E28=0,E28="dis",E28="",E28=" ", E28="nvh"),"",4) -> 4 | H28: 5 | I28: 62 | J28: =IF(I28=""," ",HLOOKUP(K28,'women dec'!$C$1:$Q$37,6,FALSE)) -> Ruth Bird | K28: =VLOOKUP(I28,$S$4:$T$35,2,FALSE) -> Worcester | L28: 17.2 | M28: =IF(OR(L28=0,L28="dis",L28="",L28=" ", L28="nvh"),"",4) -> 4 | P28: 13x | Q28: Birchfield | S28: 63x | T28: Birchfield
A29: 6 | C29: =IF(B29=""," ",HLOOKUP(D29,'Men dec.'!$C$1:$Q$28,6,FALSE)) | D29: =VLOOKUP(B29,$P$4:$Q$35,2,FALSE) -> #N/A | F29: =IF(OR(E29=0,E29="dis",E29="",E29=" ", E29="nvh"),"",3) | H29: 6 | J29: =IF(I29=""," ",HLOOKUP(K29,'women dec'!$C$1:$Q$37,6,FALSE)) | K29: =VLOOKUP(I29,$S$4:$T$35,2,FALSE) -> #N/A | M29: =IF(OR(L29=0,L29="dis",L29="",L29=" ", L29="nvh"),"",3) | P29: 14x | Q29: Birchfield | S29: 64x | T29: Birchfield
A30: 7 | C30: =IF(B30=""," ",HLOOKUP(D30,'Men dec.'!$C$1:$Q$28,6,FALSE)) | D30: =VLOOKUP(B30,$P$4:$Q$35,2,FALSE) -> #N/A | F30: =IF(OR(E30=0,E30="dis",E30="",E30=" ", E30="nvh"),"",2) | H30: 7 | J30: =IF(I30=""," ",HLOOKUP(K30,'women dec'!$C$1:$Q$37,6,FALSE)) | K30: =VLOOKUP(I30,$S$4:$T$35,2,FALSE) -> #N/A | M30: =IF(OR(L30=0,L30="dis",L30="",L30=" ", L30="nvh"),"",2) | P30: 21x | Q30: B & R | S30: 71x | T30: B & R
A31: 8 | C31: =IF(B31=""," ",HLOOKUP(D31,'Men dec.'!$C$1:$Q$28,6,FALSE)) | D31: =VLOOKUP(B31,$P$4:$Q$35,2,FALSE) -> #N/A | F31: =IF(OR(E31=0,E31="dis",E31="",E31=" ", E31="nvh"),"",1) | H31: 8 | J31: =IF(I31=""," ",HLOOKUP(K31,'women dec'!$C$1:$Q$37,6,FALSE)) | K31: =VLOOKUP(I31,$S$4:$T$35,2,FALSE) -> #N/A | M31: =IF(OR(L31=0,L31="dis",L31="",L31=" ", L31="nvh"),"",1) | P31: 22x | Q31: B & R | S31: 72x | T31: B & R
A32: ='Men dec.'!A7 -> M35 100m | H32: ='women dec'!A7 -> W35 100m | P32: 23x | Q32: Droitwich & KSAC | S32: 73x | T32: Droitwich & KSAC
A33: Position | B33: Number | C33: Name | D33: Club | E33: Performance | F33: Points | H33: Position | I33: Number | J33: Name | K33: Club | L33: Performance | M33: Points | P33: 24x | Q33: Droitwich & KSAC | S33: 74x | T33: Droitwich & KSAC
A34: 1 | B34: 21 | C34: =IF(B34=""," ",HLOOKUP(D34,'Men dec.'!$C$1:$Q$28,7,FALSE)) -> Martin Aspley-Davis | D34: =VLOOKUP(B34,$P$4:$Q$35,2,FALSE) -> B & R | E34: 12.3 | F34: =IF(OR(E34=0,E34="dis",E34="",E34=" ", E34="nvh"),"",8) -> 8 | G34: 12 | H34: 1 | I34: 61 | J34: =IF(I34=""," ",HLOOKUP(K34,'women dec'!$C$1:$Q$37,7,FALSE)) -> Cat Goulder- Davies | K34: =VLOOKUP(I34,$S$4:$T$35,2,FALSE) -> Worcester | L34: 14.1 | M34: =IF(OR(L34=0,L34="dis",L34="",L34=" ", L34="nvh"),"",8) -> 8 | P34: 35x | Q34: MMAC | S34: 85x | T34: MMAC
A35: 2 | B35: 13 | C35: =IF(B35=""," ",HLOOKUP(D35,'Men dec.'!$C$1:$Q$28,7,FALSE)) -> Hervin Prince | D35: =VLOOKUP(B35,$P$4:$Q$35,2,FALSE) -> Birchfield | E35: 13.2 | F35: =IF(OR(E35=0,E35="dis",E35="",E35=" ", E35="nvh"),"",7) -> 7 | H35: 2 | I35: 63 | J35: =IF(I35=""," ",HLOOKUP(K35,'women dec'!$C$1:$Q$37,7,FALSE)) -> Julie Rogers | K35: =VLOOKUP(I35,$S$4:$T$35,2,FALSE) -> Birchfield | L35: 14.8 | M35: =IF(OR(L35=0,L35="dis",L35="",L35=" ", L35="nvh"),"",7) -> 7 | P35: 36x | Q35: MMAC | S35: 86x | T35: MMAC
A36: 3 | B36: 3 | C36: =IF(B36=""," ",HLOOKUP(D36,'Men dec.'!$C$1:$Q$28,7,FALSE)) -> Richard Westwood | D36: =VLOOKUP(B36,$P$4:$Q$35,2,FALSE) -> DASH | E36: 13.6 | F36: =IF(OR(E36=0,E36="dis",E36="",E36=" ", E36="nvh"),"",6) -> 6 | H36: 3 | I36: 151 | J36: =IF(I36=""," ",HLOOKUP(K36,'women dec'!$C$1:$Q$37,7,FALSE)) -> Megan Harris | K36: =VLOOKUP(I36,$S$4:$T$35,2,FALSE) -> Sparkhill | L36: 15.7 | M36: =IF(OR(L36=0,L36="dis",L36="",L36=" ", L36="nvh"),"",6) -> 6
A37: 4 | B37: 11 | C37: =IF(B37=""," ",HLOOKUP(D37,'Men dec.'!$C$1:$Q$28,7,FALSE)) -> Edward Gerrard | D37: =VLOOKUP(B37,$P$4:$Q$35,2,FALSE) -> Worcester | E37: 14.4 | F37: =IF(OR(E37=0,E37="dis",E37="",E37=" ", E37="nvh"),"",5) -> 5 | H37: 4 | I37: 71 | J37: =IF(I37=""," ",HLOOKUP(K37,'women dec'!$C$1:$Q$37,7,FALSE)) -> Yasmine Al-Daftary | K37: =VLOOKUP(I37,$S$4:$T$35,2,FALSE) -> B & R | L37: 16.1 | M37: =IF(OR(L37=0,L37="dis",L37="",L37=" ", L37="nvh"),"",5) -> 5
A38: 5 | B38: 9 | C38: =IF(B38=""," ",HLOOKUP(D38,'Men dec.'!$C$1:$Q$28,7,FALSE)) -> Matt Allen | D38: =VLOOKUP(B38,$P$4:$Q$35,2,FALSE) -> Halesowen | E38: 16.7 | F38: =IF(OR(E38=0,E38="dis",E38="",E38=" ", E38="nvh"),"",4) -> 4 | H38: 5 | I38: 59 | J38: =IF(I38=""," ",HLOOKUP(K38,'women dec'!$C$1:$Q$37,7,FALSE)) -> Sally Spencer | K38: =VLOOKUP(I38,$S$4:$T$35,2,FALSE) -> Halesowen | L38: 16.3 | M38: =IF(OR(L38=0,L38="dis",L38="",L38=" ", L38="nvh"),"",4) -> 4
A39: 6 | C39: =IF(B39=""," ",HLOOKUP(D39,'Men dec.'!$C$1:$Q$28,7,FALSE)) | D39: =VLOOKUP(B39,$P$4:$Q$35,2,FALSE) -> #N/A | E39: 0 | F39: =IF(OR(E39=0,E39="dis",E39="",E39=" ", E39="nvh"),"",3) | H39: 6 | J39: =IF(I39=""," ",HLOOKUP(K39,'women dec'!$C$1:$Q$37,7,FALSE)) | K39: =VLOOKUP(I39,$S$4:$T$35,2,FALSE) -> #N/A | M39: =IF(OR(L39=0,L39="dis",L39="",L39=" ", L39="nvh"),"",3)
A40: 7 | C40: =IF(B40=""," ",HLOOKUP(D40,'Men dec.'!$C$1:$Q$28,7,FALSE)) | D40: =VLOOKUP(B40,$P$4:$Q$35,2,FALSE) -> #N/A | E40: 0 | F40: =IF(OR(E40=0,E40="dis",E40="",E40=" ", E40="nvh"),"",2) | H40: 7 | J40: =IF(I40=""," ",HLOOKUP(K40,'women dec'!$C$1:$Q$37,7,FALSE)) | K40: =VLOOKUP(I40,$S$4:$T$35,2,FALSE) -> #N/A | M40: =IF(OR(L40=0,L40="dis",L40="",L40=" ", L40="nvh"),"",2)
...

Sheet Men
A1: EVENT | B1: Club:- | C1: ='Men dec.'!C1 -> Birchfield | E1: ='Men dec.'!E1 -> B & R | G1: ='Men dec.'!G1 -> Droitwich & KSAC | I1: ='Men dec.'!I1 -> DASH | K1: ='Men dec.'!K1 -> Halesowen | M1: ='Men dec.'!M1 -> Sparkhill | O1: ='Men dec.'!O1 -> Worcester | Q1: ='Men dec.'!Q1 -> MMAC
B2: Number | C2: ='Men dec.'!C2 -> 13 / 14 / A | D2: Pts | E2: ='Men dec.'!E2 -> 21 / 22 / N | F2: Pts | G2: ='Men dec.'!G2 -> 23 / 24 / O | H2: Pts | I2: ='Men dec.'!I2 -> 3 / 4 / C | J2: Pts | K2: ='Men dec.'!K2 -> 9 / 10 / P | L2: Pts | M2: ='Men dec.'!M2 -> 1 /2 / S | N2: Pts | O2: ='Men dec.'!O2 -> 11 / 12 / F | P2: Pts | Q2: ='Men dec.'!Q2 -> 35 / 36 / F | R2: Pts
A3: ='Men dec.'!A4 -> M60 100m | B3: Name | C3: =IF('Men dec.'!C4=0," ",'Men dec.'!C4) -> Robin Davies | D3: =IF((C4>0),VLOOKUP(C3,'Results input'!$C$4:$F$11,4,),"") -> 3 | E3: =IF('Men dec.'!E4=0," ",'Men dec.'!E4) -> Pete Mould | F3: =IF((E4>0),VLOOKUP(E3,'Results input'!$C$4:$F$11,4,),"") -> 8 | G3: =IF('Men dec.'!G4=0," ",'Men dec.'!G4) -> Tony Crocker | H3: =IF((G4>0),VLOOKUP(G3,'Results input'!$C$4:$F$11,4,),"") -> 6 | I3: =IF('Men dec.'!I4=0," ",'Men dec.'!I4) | J3: =IF((I4>0),VLOOKUP(I3,'Results input'!$C$4:$F$11,4,),"") | K3: =IF('Men dec.'!K4=0," ",'Men dec.'!K4) -> Les Woods | L3: =IF((K4>0),VLOOKUP(K3,'Results input'!$C$4:$F$11,4,),"") -> 5 | M3: =IF('Men dec.'!M4=0," ",'Men dec.'!M4) -> Bernie Wareing | N3: =IF((M4>0),VLOOKUP(M3,'Results input'!$C$4:$F$11,4,),"") -> 4 | O3: =IF('Men dec.'!O4=0," ",'Men dec.'!O4) -> Laurence Oldfield | P3: =IF((O4>0),VLOOKUP(O3,'Results input'!$C$4:$F$11,4,),"") -> 7 | Q3: =IF('Men dec.'!Q4=0," ",'Men dec.'!Q4) -> Michael Elwell | R3: =IF((Q4>0),VLOOKUP(Q3,'Results input'!$C$4:$F$11,4,),"") -> 2
B4: Perf. | C4: =IF(ISNA(VLOOKUP(C3,'Results input'!$C$4:$E$11,3,FALSE)),0,VLOOKUP(C3,'Results input'!$C$4:$E$11,3,FALSE)) -> 18.3 | E4: =IF(ISNA(VLOOKUP(E3,'Results input'!$C$4:$E$11,3,FALSE)),0,VLOOKUP(E3,'Results input'!$C$4:$E$11,3,FALSE)) -> 13.4 | G4: =IF(ISNA(VLOOKUP(G3,'Results input'!$C$4:$E$11,3,FALSE)),0,VLOOKUP(G3,'Results input'!$C$4:$E$11,3,FALSE)) -> 16.6 | I4: =IF(ISNA(VLOOKUP(I3,'Results input'!$C$4:$E$11,3,FALSE)),0,VLOOKUP(I3,'Results input'!$C$4:$E$11,3,FALSE)) -> 0 | K4: =IF(ISNA(VLOOKUP(K3,'Results input'!$C$4:$E$11,3,FALSE)),0,VLOOKUP(K3,'Results input'!$C$4:$E$11,3,FALSE)) -> 16.7 | M4: =IF(ISNA(VLOOKUP(M3,'Results input'!$C$4:$E$11,3,FALSE)),0,VLOOKUP(M3,'Results input'!$C$4:$E$11,3,FALSE)) -> 18.1 | O4: =IF(ISNA(VLOOKUP(O3,'Results input'!$C$4:$E$11,3,FALSE)),0,VLOOKUP(O3,'Results input'!$C$4:$E$11,3,FALSE)) -> 14.7 | Q4: =IF(ISNA(VLOOKUP(Q3,'Results input'!$C$4:$E$11,3,FALSE)),0,VLOOKUP(Q3,'Results input'!$C$4:$E$11,3,FALSE)) -> 18.5
A5: ='Men dec.'!A5 -> M50 100m | B5: Name | C5: =IF('Men dec.'!C5=0," ",'Men dec.'!C5) -> Paul Rogers | D5: =IF((C6>0),VLOOKUP(C5,'Results input'!$C$14:$F$21,4,),"") -> 7 | E5: =IF('Men dec.'!E5=0," ",'Men dec.'!E5) -> David Cleverley | F5: =IF((E6>0),VLOOKUP(E5,'Results input'!$C$14:$F$21,4,),"") -> 4 | G5: =IF('Men dec.'!G5=0," ",'Men dec.'!G5) -> Andy Priest | H5: =IF((G6>0),VLOOKUP(G5,'Results input'!$C$14:$F$21,4,),"") -> 8 | I5: =IF('Men dec.'!I5=0," ",'Men dec.'!I5) | J5: =IF((I6>0),VLOOKUP(I5,'Results input'!$C$14:$F$21,4,),"") | K5: =IF('Men dec.'!K5=0," ",'Men dec.'!K5) -> Chris Cleary | L5: =IF((K6>0),VLOOKUP(K5,'Results input'!$C$14:$F$21,4,),"") | M5: =IF('Men dec.'!M5=0," ",'Men dec.'!M5) -> Simon Willington | N5: =IF((M6>0),VLOOKUP(M5,'Results input'!$C$14:$F$21,4,),"") -> 5 | O5: =IF('Men dec.'!O5=0," ",'Men dec.'!O5) -> John Steel | P5: =IF((O6>0),VLOOKUP(O5,'Results input'!$C$14:$F$21,4,),"") -> 6 | Q5: =IF('Men dec.'!Q5=0," ",'Men dec.'!Q5) | R5: =IF((Q6>0),VLOOKUP(Q5,'Results input'!$C$14:$F$21,4,),"")
B6: Perf. | C6: =IF(ISNA(VLOOKUP(C5,'Results input'!$C$14:$E$21,3,FALSE)),0,VLOOKUP(C5,'Results input'!$C$14:$E$21,3,FALSE)) -> 14.3 | E6: =IF(ISNA(VLOOKUP(E5,'Results input'!$C$14:$E$21,3,FALSE)),0,VLOOKUP(E5,'Results input'!$C$14:$E$21,3,FALSE)) -> 17.3 | G6: =IF(ISNA(VLOOKUP(G5,'Results input'!$C$14:$E$21,3,FALSE)),0,VLOOKUP(G5,'Results input'!$C$14:$E$21,3,FALSE)) -> 13 | I6: =IF(ISNA(VLOOKUP(I5,'Results input'!$C$14:$E$21,3,FALSE)),0,VLOOKUP(I5,'Results input'!$C$14:$E$21,3,FALSE)) -> 0 | K6: =IF(ISNA(VLOOKUP(K5,'Results input'!$C$14:$E$21,3,FALSE)),0,VLOOKUP(K5,'Results input'!$C$14:$E$21,3,FALSE)) -> 0 | M6: =IF(ISNA(VLOOKUP(M5,'Results input'!$C$14:$E$21,3,FALSE)),0,VLOOKUP(M5,'Results input'!$C$14:$E$21,3,FALSE)) -> 15.2 | O6: =IF(ISNA(VLOOKUP(O5,'Results input'!$C$14:$E$21,3,FALSE)),0,VLOOKUP(O5,'Results input'!$C$14:$E$21,3,FALSE)) -> 14.4 | Q6: =IF(ISNA(VLOOKUP(Q5,'Results input'!$C$14:$E$21,3,FALSE)),0,VLOOKUP(Q5,'Results input'!$C$14:$E$21,3,FALSE)) -> 0 | S6: Note performances will not appear unless the athlete has been declared
A7: ='Men dec.'!A6 -> M40 100m | B7: Name | C7: =IF('Men dec.'!C6=0," ",'Men dec.'!C6) -> Martin Maynard | D7: =IF((C8>0),VLOOKUP(C7,'Results input'!$C$24:$F$31,4,),"") -> 8 | E7: =IF('Men dec.'!E6=0," ",'Men dec.'!E6) -> Calvin Scoltock | F7: =IF((E8>0),VLOOKUP(E7,'Results input'!$C$24:$F$31,4,),"") -> 6 | G7: =IF('Men dec.'!G6=0," ",'Men dec.'!G6) -> Keith Waldron | H7: =IF((G8>0),VLOOKUP(G7,'Results input'!$C$24:$F$31,4,),"") -> 7 | I7: =IF('Men dec.'!I6=0," ",'Men dec.'!I6) | J7: =IF((I8>0),VLOOKUP(I7,'Results input'!$C$24:$F$31,4,),"") | K7: =IF('Men dec.'!K6=0," ",'Men dec.'!K6) -> Kevin Monk | L7: =IF((K8>0),VLOOKUP(K7,'Results input'!$C$24:$F$31,4,),"") -> 4 | M7: =IF('Men dec.'!M6=0," ",'Men dec.'!M6) | N7: =IF((M8>0),VLOOKUP(M7,'Results input'!$C$24:$F$31,4,),"") | O7: =IF('Men dec.'!O6=0," ",'Men dec.'!O6) -> Richard White | P7: =IF((O8>0),VLOOKUP(O7,'Results input'!$C$24:$F$31,4,),"") -> 5 | Q7: =IF('Men dec.'!Q6=0," ",'Men dec.'!Q6) | R7: =IF((Q8>0),VLOOKUP(Q7,'Results input'!$C$24:$F$31,4,),"")
B8: Perf. | C8: =IF(ISNA(VLOOKUP(C7,'Results input'!$C$24:$E$31,3,FALSE)),0,VLOOKUP(C7,'Results input'!$C$24:$E$31,3,FALSE)) -> 12.8 | E8: =IF(ISNA(VLOOKUP(E7,'Results input'!$C$24:$E$31,3,FALSE)),0,VLOOKUP(E7,'Results input'!$C$24:$E$31,3,FALSE)) -> 13.7 | G8: =IF(ISNA(VLOOKUP(G7,'Results input'!$C$24:$E$31,3,FALSE)),0,VLOOKUP(G7,'Results input'!$C$24:$E$31,3,FALSE)) -> 13.2 | I8: =IF(ISNA(VLOOKUP(I7,'Results input'!$C$24:$E$31,3,FALSE)),0,VLOOKUP(I7,'Results input'!$C$24:$E$31,3,FALSE)) -> 0 | K8: =IF(ISNA(VLOOKUP(K7,'Results input'!$C$24:$E$31,3,FALSE)),0,VLOOKUP(K7,'Results input'!$C$24:$E$31,3,FALSE)) -> 14.3 | M8: =IF(ISNA(VLOOKUP(M7,'Results input'!$C$24:$E$31,3,FALSE)),0,VLOOKUP(M7,'Results input'!$C$24:$E$31,3,FALSE)) -> 0 | O8: =IF(ISNA(VLOOKUP(O7,'Results input'!$C$24:$E$31,3,FALSE)),0,VLOOKUP(O7,'Results input'!$C$24:$E$31,3,FALSE)) -> 14 | Q8: =IF(ISNA(VLOOKUP(Q7,'Results input'!$C$24:$E$31,3,FALSE)),0,VLOOKUP(Q7,'Results input'!$C$24:$E$31,3,FALSE)) -> 0
A9: ='Men dec.'!A7 -> M35 100m | B9: Name | C9: =IF('Men dec.'!C7=0," ",'Men dec.'!C7) -> Hervin Prince | D9: =IF((C10>0),VLOOKUP(C9,'Results input'!$C$34:$F$41,4,),"") -> 7 | E9: =IF('Men dec.'!E7=0," ",'Men dec.'!E7) -> Martin Aspley-Davis | F9: =IF((E10>0),VLOOKUP(E9,'Results input'!$C$34:$F$41,4,),"") -> 8 | G9: =IF('Men dec.'!G7=0," ",'Men dec.'!G7) | H9: =IF((G10>0),VLOOKUP(G9,'Results input'!$C$34:$F$41,4,),"") | I9: =IF('Men dec.'!I7=0," ",'Men dec.'!I7) -> Richard Westwood | J9: =IF((I10>0),VLOOKUP(I9,'Results input'!$C$34:$F$41,4,),"") -> 6 | K9: =IF('Men dec.'!K7=0," ",'Men dec.'!K7) -> Matt Allen | L9: =IF((K10>0),VLOOKUP(K9,'Results input'!$C$34:$F$41,4,),"") -> 4 | M9: =IF('Men dec.'!M7=0," ",'Men dec.'!M7) | N9: =IF((M10>0),VLOOKUP(M9,'Results input'!$C$34:$F$41,4,),"") | O9: =IF('Men dec.'!O7=0," ",'Men dec.'!O7) -> Edward Gerrard | P9: =IF((O10>0),VLOOKUP(O9,'Results input'!$C$34:$F$41,4,),"") -> 5 | Q9: =IF('Men dec.'!Q7=0," ",'Men dec.'!Q7) | R9: =IF((Q10>0),VLOOKUP(Q9,'Results input'!$C$34:$F$41,4,),"")
B10: Perf. | C10: =IF(ISNA(VLOOKUP(C9,'Results input'!$C$34:$E$41,3,FALSE)),0,VLOOKUP(C9,'Results input'!$C$34:$E$41,3,FALSE)) -> 13.2 | E10: =IF(ISNA(VLOOKUP(E9,'Results input'!$C$34:$E$41,3,FALSE)),0,VLOOKUP(E9,'Results input'!$C$34:$E$41,3,FALSE)) -> 12.3 | G10: =IF(ISNA(VLOOKUP(G9,'Results input'!$C$34:$E$41,3,FALSE)),0,VLOOKUP(G9,'Results input'!$C$34:$E$41,3,FALSE)) -> 0 | I10: =IF(ISNA(VLOOKUP(I9,'Results input'!$C$34:$E$41,3,FALSE)),0,VLOOKUP(I9,'Results input'!$C$34:$E$41,3,FALSE)) -> 13.6 | K10: =IF(ISNA(VLOOKUP(K9,'Results input'!$C$34:$E$41,3,FALSE)),0,VLOOKUP(K9,'Results input'!$C$34:$E$41,3,FALSE)) -> 16.7 | M10: =IF(ISNA(VLOOKUP(M9,'Results input'!$C$34:$E$41,3,FALSE)),0,VLOOKUP(M9,'Results input'!$C$34:$E$41,3,FALSE)) -> 0 | O10: =IF(ISNA(VLOOKUP(O9,'Results input'!$C$34:$E$41,3,FALSE)),0,VLOOKUP(O9,'Results input'!$C$34:$E$41,3,FALSE)) -> 14.4 | Q10: =IF(ISNA(VLOOKUP(Q9,'Results input'!$C$34:$E$41,3,FALSE)),0,VLOOKUP(Q9,'Results input'!$C$34:$E$41,3,FALSE)) -> 0
A11: ='Men dec.'!A8 -> M35 400m | B11: Name | C11: =IF('Men dec.'!C8=0," ",'Men dec.'!C8) -> Jag Ubhoo | D11: =IF((C12>0),VLOOKUP(C11,'Results input'!$C$44:$F$51,4,),"") -> 5 | E11: =IF('Men dec.'!E8=0," ",'Men dec.'!E8) -> Martin Aspley-Davis | F11: =IF((E12>0),VLOOKUP(E11,'Results input'!$C$44:$F$51,4,),"") -> 7 | G11: =IF('Men dec.'!G8=0," ",'Men dec.'!G8) | H11: =IF((G12>0),VLOOKUP(G11,'Results input'!$C$44:$F$51,4,),"") | I11: =IF('Men dec.'!I8=0," ",'Men dec.'!I8) | J11: =IF((I12>0),VLOOKUP(I11,'Results input'!$C$44:$F$51,4,),"") | K11: =IF('Men dec.'!K8=0," ",'Men dec.'!K8) -> Mark Turner | L11: =IF((K12>0),VLOOKUP(K11,'Results input'!$C$44:$F$51,4,),"") -> 8 | M11: =IF('Men dec.'!M8=0," ",'Men dec.'!M8) -> Rob Mills | N11: =IF((M12>0),VLOOKUP(M11,'Results input'!$C$44:$F$51,4,),"") -> 4 | O11: =IF('Men dec.'!O8=0," ",'Men dec.'!O8) -> Dave Hall | P11: =IF((O12>0),VLOOKUP(O11,'Results input'!$C$44:$F$51,4,),"") -> 6 | Q11: =IF('Men dec.'!Q8=0," ",'Men dec.'!Q8) | R11: =IF((Q12>0),VLOOKUP(Q11,'Results input'!$C$44:$F$51,4,),"")
B12: Perf. | C12: =IF(ISNA(VLOOKUP(C11,'Results input'!$C$44:$E$51,3,FALSE)),0,VLOOKUP(C11,'Results input'!$C$44:$E$51,3,FALSE)) -> 62.8 | E12: =IF(ISNA(VLOOKUP(E11,'Results input'!$C$44:$E$51,3,FALSE)),0,VLOOKUP(E11,'Results input'!$C$44:$E$51,3,FALSE)) -> 53.8 | G12: =IF(ISNA(VLOOKUP(G11,'Results input'!$C$44:$E$51,3,FALSE)),0,VLOOKUP(G11,'Results input'!$C$44:$E$51,3,FALSE)) -> 0 | I12: =IF(ISNA(VLOOKUP(I11,'Results input'!$C$44:$E$51,3,FALSE)),0,VLOOKUP(I11,'Results input'!$C$44:$E$51,3,FALSE)) -> 0 | K12: =IF(ISNA(VLOOKUP(K11,'Results input'!$C$44:$E$51,3,FALSE)),0,VLOOKUP(K11,'Results input'!$C$44:$E$51,3,FALSE)) -> 53 | M12: =IF(ISNA(VLOOKUP(M11,'Results input'!$C$44:$E$51,3,FALSE)),0,VLOOKUP(M11,'Results input'!$C$44:$E$51,3,FALSE)) -> 72.5 | O12: =IF(ISNA(VLOOKUP(O11,'Results input'!$C$44:$E$51,3,FALSE)),0,VLOOKUP(O11,'Results input'!$C$44:$E$51,3,FALSE)) -> 62 | Q12: =IF(ISNA(VLOOKUP(Q11,'Results input'!$C$44:$E$51,3,FALSE)),0,VLOOKUP(Q11,'Results input'!$C$44:$E$51,3,FALSE)) -> 0 | U12: `
A13: ='Men dec.'!A9 -> M40 400m | B13: Name | C13: =IF('Men dec.'!C9=0," ",'Men dec.'!C9) -> Connolly Meagher | D13: =IF((C14>0),VLOOKUP(C13,'Results input'!$C$54:$F$61,4,),"") -> 4 | E13: =IF('Men dec.'!E9=0," ",'Men dec.'!E9) -> Calvin Scoltock | F13: =IF((E14>0),VLOOKUP(E13,'Results input'!$C$54:$F$61,4,),"") -> 6 | G13: =IF('Men dec.'!G9=0," ",'Men dec.'!G9) -> Adrian James | H13: =IF((G14>0),VLOOKUP(G13,'Results input'!$C$54:$F$61,4,),"") -> 8 | I13: =IF('Men dec.'!I9=0," ",'Men dec.'!I9) | J13: =IF((I14>0),VLOOKUP(I13,'Results input'!$C$54:$F$61,4,),"") | K13: =IF('Men dec.'!K9=0," ",'Men dec.'!K9) -> Mike Neylon | L13: =IF((K14>0),VLOOKUP(K13,'Results input'!$C$54:$F$61,4,),"") -> 5 | M13: =IF('Men dec.'!M9=0," ",'Men dec.'!M9) -> David Hanson | N13: =IF((M14>0),VLOOKUP(M13,'Results input'!$C$54:$F$61,4,),"") -> 7 | O13: =IF('Men dec.'!O9=0," ",'Men dec.'!O9) -> Nick Hitchens | P13: =IF((O14>0),VLOOKUP(O13,'Results input'!$C$54:$F$61,4,),"") -> 3 | Q13: =IF('Men dec.'!Q9=0," ",'Men dec.'!Q9) -> Michael Elwell | R13: =IF((Q14>0),VLOOKUP(Q13,'Results input'!$C$54:$F$61,4,),"") -> 2
B14: Perf. | C14: =IF(ISNA(VLOOKUP(C13,'Results input'!$C$54:$E$61,3,FALSE)),0,VLOOKUP(C13,'Results input'!$C$54:$E$61,3,FALSE)) -> 61.5 | E14: =IF(ISNA(VLOOKUP(E13,'Results input'!$C$54:$E$61,3,FALSE)),0,VLOOKUP(E13,'Results input'!$C$54:$E$61,3,FALSE)) -> 59.6 | G14: =IF(ISNA(VLOOKUP(G13,'Results input'!$C$54:$E$61,3,FALSE)),0,VLOOKUP(G13,'Results input'!$C$54:$E$61,3,FALSE)) -> 57.8 | I14: =IF(ISNA(VLOOKUP(I13,'Results input'!$C$54:$E$61,3,FALSE)),0,VLOOKUP(I13,'Results input'!$C$54:$E$61,3,FALSE)) -> 0 | K14: =IF(ISNA(VLOOKUP(K13,'Results input'!$C$54:$E$61,3,FALSE)),0,VLOOKUP(K13,'Results input'!$C$54:$E$61,3,FALSE)) -> 59.8 | M14: =IF(ISNA(VLOOKUP(M13,'Results input'!$C$54:$E$61,3,FALSE)),0,VLOOKUP(M13,'Results input'!$C$54:$E$61,3,FALSE)) -> 59 | O14: =IF(ISNA(VLOOKUP(O13,'Results input'!$C$54:$E$61,3,FALSE)),0,VLOOKUP(O13,'Results input'!$C$54:$E$61,3,FALSE)) -> 62.2 | Q14: =IF(ISNA(VLOOKUP(Q13,'Results input'!$C$54:$E$61,3,FALSE)),0,VLOOKUP(Q13,'Results input'!$C$54:$E$61,3,FALSE)) -> 83.9
A15: ='Men dec.'!A10 -> M50 400m | B15: Name | C15: =IF('Men dec.'!C10=0," ",'Men dec.'!C10) -> Wilf Morgan | D15: =IF((C16>0),VLOOKUP(C15,'Results input'!$C$64:$F$71,4,),"") -> 4 | E15: =IF('Men dec.'!E10=0," ",'Men dec.'!E10) -> David Cleverley | F15: =IF((E16>0),VLOOKUP(E15,'Results input'!$C$64:$F$71,4,),"") -> 6 | G15: =IF('Men dec.'!G10=0," ",'Men dec.'!G10) | H15: =IF((G16>0),VLOOKUP(G15,'Results input'!$C$64:$F$71,4,),"") | I15: =IF('Men dec.'!I10=0," ",'Men dec.'!I10) | J15: =IF((I16>0),VLOOKUP(I15,'Results input'!$C$64:$F$71,4,),"") | K15: =IF('Men dec.'!K10=0," ",'Men dec.'!K10) -> Chris Cleary | L15: =IF((K16>0),VLOOKUP(K15,'Results input'!$C$64:$F$71,4,),"") | M15: =IF('Men dec.'!M10=0," ",'Men dec.'!M10) -> Simon Willington | N15: =IF((M16>0),VLOOKUP(M15,'Results input'!$C$64:$F$71,4,),"") -> 7 | O15: =IF('Men dec.'!O10=0," ",'Men dec.'!O10) -> Richard White | P15: =IF((O16>0),VLOOKUP(O15,'Results input'!$C$64:$F$71,4,),"") -> 8 | Q15: =IF('Men dec.'!Q10=0," ",'Men dec.'!Q10) -> Robin MacDonald | R15: =IF((Q16>0),VLOOKUP(Q15,'Results input'!$C$64:$F$71,4,),"") -> 5
B16: Perf. | C16: =IF(ISNA(VLOOKUP(C15,'Results input'!$C$64:$E$71,3,FALSE)),0,VLOOKUP(C15,'Results input'!$C$64:$E$71,3,FALSE)) -> 88.3 | E16: =IF(ISNA(VLOOKUP(E15,'Results input'!$C$64:$E$71,3,FALSE)),0,VLOOKUP(E15,'Results input'!$C$64:$E$71,3,FALSE)) -> 78.9 | G16: =IF(ISNA(VLOOKUP(G15,'Results input'!$C$64:$E$71,3,FALSE)),0,VLOOKUP(G15,'Results input'!$C$64:$E$71,3,FALSE)) -> 0 | I16: =IF(ISNA(VLOOKUP(I15,'Results input'!$C$64:$E$71,3,FALSE)),0,VLOOKUP(I15,'Results input'!$C$64:$E$71,3,FALSE)) -> 0 | K16: =IF(ISNA(VLOOKUP(K15,'Results input'!$C$64:$E$71,3,FALSE)),0,VLOOKUP(K15,'Results input'!$C$64:$E$71,3,FALSE)) -> 0 | M16: =IF(ISNA(VLOOKUP(M15,'Results input'!$C$64:$E$71,3,FALSE)),0,VLOOKUP(M15,'Results input'!$C$64:$E$71,3,FALSE)) -> 72.7 | O16: =IF(ISNA(VLOOKUP(O15,'Results input'!$C$64:$E$71,3,FALSE)),0,VLOOKUP(O15,'Results input'!$C$64:$E$71,3,FALSE)) -> 58.3 | Q16: =IF(ISNA(VLOOKUP(Q15,'Results input'!$C$64:$E$71,3,FALSE)),0,VLOOKUP(Q15,'Results input'!$C$64:$E$71,3,FALSE)) -> 82.7
A17: ='Men dec.'!A11 -> M40 2k Walk | B17: Name | C17: =IF('Men dec.'!C11=0," ",'Men dec.'!C11) -> John Constandinou | D17: =IF((C18>0),VLOOKUP(C17,'Results input'!$C$74:$F$81,4,),"") -> 7 | E17: =IF('Men dec.'!E11=0," ",'Men dec.'!E11) -> Calvin Scoltock | F17: =IF((E18>0),VLOOKUP(E17,'Results input'!$C$74:$F$81,4,),"") -> 6 | G17: =IF('Men dec.'!G11=0," ",'Men dec.'!G11) | H17: =IF((G18>0),VLOOKUP(G17,'Results input'!$C$74:$F$81,4,),"") | I17: =IF('Men dec.'!I11=0," ",'Men dec.'!I11) -> Mike Horton | J17: =IF((I18>0),VLOOKUP(I17,'Results input'!$C$74:$F$81,4,),"") -> 4 | K17: =IF('Men dec.'!K11=0," ",'Men dec.'!K11) -> Kevin Monk | L17: =IF((K18>0),VLOOKUP(K17,'Results input'!$C$74:$F$81,4,),"") -> 8 | M17: =IF('Men dec.'!M11=0," ",'Men dec.'!M11) -> Martin Millicheap | N17: =IF((M18>0),VLOOKUP(M17,'Results input'!$C$74:$F$81,4,),"") -> 3 | O17: =IF('Men dec.'!O11=0," ",'Men dec.'!O11) -> Mark Palethorpe | P17: =IF((O18>0),VLOOKUP(O17,'Results input'!$C$74:$F$81,4,),"") -> 5 | Q17: =IF('Men dec.'!Q11=0," ",'Men dec.'!Q11) | R17: =IF((Q18>0),VLOOKUP(Q17,'Results input'!$C$74:$F$81,4,),"")
B18: Perf. | C18: =IF(ISNA(VLOOKUP(C17,'Results input'!$C$74:$E$81,3,FALSE)),0,VLOOKUP(C17,'Results input'!$C$74:$E$81,3,FALSE)) -> 10.56.4 | E18: =IF(ISNA(VLOOKUP(E17,'Results input'!$C$74:$E$81,3,FALSE)),0,VLOOKUP(E17,'Results input'!$C$74:$E$81,3,FALSE)) -> 11.48.0 | G18: =IF(ISNA(VLOOKUP(G17,'Results input'!$C$74:$E$81,3,FALSE)),0,VLOOKUP(G17,'Results input'!$C$74:$E$81,3,FALSE)) -> 0 | I18: =IF(ISNA(VLOOKUP(I17,'Results input'!$C$74:$E$81,3,FALSE)),0,VLOOKUP(I17,'Results input'!$C$74:$E$81,3,FALSE)) -> 13.29.0 | K18: =IF(ISNA(VLOOKUP(K17,'Results input'!$C$74:$E$81,3,FALSE)),0,VLOOKUP(K17,'Results input'!$C$74:$E$81,3,FALSE)) -> 10.24.5 | M18: =IF(ISNA(VLOOKUP(M17,'Results input'!$C$74:$E$81,3,FALSE)),0,VLOOKUP(M17,'Results input'!$C$74:$E$81,3,FALSE)) -> 14.33.7 | O18: =IF(ISNA(VLOOKUP(O17,'Results input'!$C$74:$E$81,3,FALSE)),0,VLOOKUP(O17,'Results input'!$C$74:$E$81,3,FALSE)) -> 12.22.2 | Q18: =IF(ISNA(VLOOKUP(Q17,'Results input'!$C$74:$E$81,3,FALSE)),0,VLOOKUP(Q17,'Results input'!$C$74:$E$81,3,FALSE)) -> 0
A19: ='Men dec.'!A12 -> M60 2k Walk | B19: Name | C19: =IF('Men dec.'!C12=0," ",'Men dec.'!C12) -> Peter Boszko | D19: =IF((C20>0),VLOOKUP(C19,'Results input'!$C$84:$F$91,4,),"") -> 8 | E19: =IF('Men dec.'!E12=0," ",'Men dec.'!E12) -> Len Quartly | F19: =IF((E20>0),VLOOKUP(E19,'Results input'!$C$84:$F$91,4,),"") -> 5 | G19: =IF('Men dec.'!G12=0," ",'Men dec.'!G12) | H19: =IF((G20>0),VLOOKUP(G19,'Results input'!$C$84:$F$91,4,),"") | I19: =IF('Men dec.'!I12=0," ",'Men dec.'!I12) -> Glyn Jones | J19: =IF((I20>0),VLOOKUP(I19,'Results input'!$C$84:$F$91,4,),"") -> 7 | K19: =IF('Men dec.'!K12=0," ",'Men dec.'!K12) | L19: =IF((K20>0),VLOOKUP(K19,'Results input'!$C$84:$F$91,4,),"") | M19: =IF('Men dec.'!M12=0," ",'Men dec.'!M12) -> David Winter | N19: =IF((M20>0),VLOOKUP(M19,'Results input'!$C$84:$F$91,4,),"") -> 6 | O19: =IF('Men dec.'!O12=0," ",'Men dec.'!O12) -> Les Scrivens | P19: =IF((O20>0),VLOOKUP(O19,'Results input'!$C$84:$F$91,4,),"") -> 4 | Q19: =IF('Men dec.'!Q12=0," ",'Men dec.'!Q12) | R19: =IF((Q20>0),VLOOKUP(Q19,'Results input'!$C$84:$F$91,4,),"")
B20: Perf. | C20: =IF(ISNA(VLOOKUP(C19,'Results input'!$C$84:$E$91,3,FALSE)),0,VLOOKUP(C19,'Results input'!$C$84:$E$91,3,FALSE)) -> 11.00.5 | E20: =IF(ISNA(VLOOKUP(E19,'Results input'!$C$84:$E$91,3,FALSE)),0,VLOOKUP(E19,'Results input'!$C$84:$E$91,3,FALSE)) -> 12.15.1 | G20: =IF(ISNA(VLOOKUP(G19,'Results input'!$C$84:$E$91,3,FALSE)),0,VLOOKUP(G19,'Results input'!$C$84:$E$91,3,FALSE)) -> 0 | I20: =IF(ISNA(VLOOKUP(I19,'Results input'!$C$84:$E$91,3,FALSE)),0,VLOOKUP(I19,'Results input'!$C$84:$E$91,3,FALSE)) -> 11.59.5 | K20: =IF(ISNA(VLOOKUP(K19,'Results input'!$C$84:$E$91,3,FALSE)),0,VLOOKUP(K19,'Results input'!$C$84:$E$91,3,FALSE)) -> 0 | M20: =IF(ISNA(VLOOKUP(M19,'Results input'!$C$84:$E$91,3,FALSE)),0,VLOOKUP(M19,'Results input'!$C$84:$E$91,3,FALSE)) -> 12.08.6 | O20: =IF(ISNA(VLOOKUP(O19,'Results input'!$C$84:$E$91,3,FALSE)),0,VLOOKUP(O19,'Results input'!$C$84:$E$91,3,FALSE)) -> 12.55.8 | Q20: =IF(ISNA(VLOOKUP(Q19,'Results input'!$C$84:$E$91,3,FALSE)),0,VLOOKUP(Q19,'Results input'!$C$84:$E$91,3,FALSE)) -> 0
A21: ='Men dec.'!A13 -> M35 1500m | B21: Name | C21: =IF('Men dec.'!C13=0," ",'Men dec.'!C13) -> Johnny Cullen | D21: =IF((C22>0),VLOOKUP(C21,'Results input'!$C$94:$F$101,4,),"") -> 6 | E21: =IF('Men dec.'!E13=0," ",'Men dec.'!E13) -> Andy Freeman | F21: =IF((E22>0),VLOOKUP(E21,'Results input'!$C$94:$F$101,4,),"") -> 5 | G21: =IF('Men dec.'!G13=0," ",'Men dec.'!G13) | H21: =IF((G22>0),VLOOKUP(G21,'Results input'!$C$94:$F$101,4,),"") | I21: =IF('Men dec.'!I13=0," ",'Men dec.'!I13) | J21: =IF((I22>0),VLOOKUP(I21,'Results input'!$C$94:$F$101,4,),"") | K21: =IF('Men dec.'!K13=0," ",'Men dec.'!K13) -> Nic Hazelwood | L21: =IF((K22>0),VLOOKUP(K21,'Results input'!$C$94:$F$101,4,),"") -> 8 | M21: =IF('Men dec.'!M13=0," ",'Men dec.'!M13) -> Rob Mills | N21: =IF((M22>0),VLOOKUP(M21,'Results input'!$C$94:$F$101,4,),"") -> 4 | O21: =IF('Men dec.'!O13=0," ",'Men dec.'!O13) -> Dave Hall | P21: =IF((O22>0),VLOOKUP(O21,'Results input'!$C$94:$F$101,4,),"") -> 7 | Q21: =IF('Men dec.'!Q13=0," ",'Men dec.'!Q13) | R21: =IF((Q22>0),VLOOKUP(Q21,'Results input'!$C$94:$F$101,4,),"")
B22: Perf. | C22: =IF(ISNA(VLOOKUP(C21,'Results input'!$C$94:$E$101,3,FALSE)),0,VLOOKUP(C21,'Results input'!$C$94:$E$101,3,FALSE)) -> 4.27.6 | E22: =IF(ISNA(VLOOKUP(E21,'Results input'!$C$94:$E$101,3,FALSE)),0,VLOOKUP(E21,'Results input'!$C$94:$E$101,3,FALSE)) -> 4.37.1 | G22: =IF(ISNA(VLOOKUP(G21,'Results input'!$C$94:$E$101,3,FALSE)),0,VLOOKUP(G21,'Results input'!$C$94:$E$101,3,FALSE)) -> 0 | I22: =IF(ISNA(VLOOKUP(I21,'Results input'!$C$94:$E$101,3,FALSE)),0,VLOOKUP(I21,'Results input'!$C$94:$E$101,3,FALSE)) -> 0 | K22: =IF(ISNA(VLOOKUP(K21,'Results input'!$C$94:$E$101,3,FALSE)),0,VLOOKUP(K21,'Results input'!$C$94:$E$101,3,FALSE)) -> 4.06.4 | M22: =IF(ISNA(VLOOKUP(M21,'Results input'!$C$94:$E$101,3,FALSE)),0,VLOOKUP(M21,'Results input'!$C$94:$E$101,3,FALSE)) -> 5.33.1 | O22: =IF(ISNA(VLOOKUP(O21,'Results input'!$C$94:$E$101,3,FALSE)),0,VLOOKUP(O21,'Results input'!$C$94:$E$101,3,FALSE)) -> 4.19.0 | Q22: =IF(ISNA(VLOOKUP(Q21,'Results input'!$C$94:$E$101,3,FALSE)),0,VLOOKUP(Q21,'Results input'!$C$94:$E$101,3,FALSE)) -> 0
A23: ='Men dec.'!A14 -> M40 1500m | B23: Name | C23: =IF('Men dec.'!C14=0," ",'Men dec.'!C14) -> Connolly Meagher | D23: =IF((C24>0),VLOOKUP(C23,'Results input'!$C$104:$F$111,4,),"") | E23: =IF('Men dec.'!E14=0," ",'Men dec.'!E14) -> Dean Hartshorne | F23: =IF((E24>0),VLOOKUP(E23,'Results input'!$C$104:$F$111,4,),"") -> 5 | G23: =IF('Men dec.'!G14=0," ",'Men dec.'!G14) | H23: =IF((G24>0),VLOOKUP(G23,'Results input'!$C$104:$F$111,4,),"") | I23: =IF('Men dec.'!I14=0," ",'Men dec.'!I14) | J23: =IF((I24>0),VLOOKUP(I23,'Results input'!$C$104:$F$111,4,),"") | K23: =IF('Men dec.'!K14=0," ",'Men dec.'!K14) -> Mark Hadley | L23: =IF((K24>0),VLOOKUP(K23,'Results input'!$C$104:$F$111,4,),"") -> 7 | M23: =IF('Men dec.'!M14=0," ",'Men dec.'!M14) -> Paul Shipway | N23: =IF((M24>0),VLOOKUP(M23,'Results input'!$C$104:$F$111,4,),"") -> 4 | O23: =IF('Men dec.'!O14=0," ",'Men dec.'!O14) -> Warren Miles | P23: =IF((O24>0),VLOOKUP(O23,'Results input'!$C$104:$F$111,4,),"") -> 8 | Q23: =IF('Men dec.'!Q14=0," ",'Men dec.'!Q14) -> Carson Tweedie | R23: =IF((Q24>0),VLOOKUP(Q23,'Results input'!$C$104:$F$111,4,),"") -> 6
B24: Perf. | C24: =IF(ISNA(VLOOKUP(C23,'Results input'!$C$104:$E$111,3,FALSE)),0,VLOOKUP(C23,'Results input'!$C$104:$E$111,3,FALSE)) -> 0 | E24: =IF(ISNA(VLOOKUP(E23,'Results input'!$C$104:$E$111,3,FALSE)),0,VLOOKUP(E23,'Results input'!$C$104:$E$111,3,FALSE)) -> 4.57.6 | G24: =IF(ISNA(VLOOKUP(G23,'Results input'!$C$104:$E$111,3,FALSE)),0,VLOOKUP(G23,'Results input'!$C$104:$E$111,3,FALSE)) -> 0 | I24: =IF(ISNA(VLOOKUP(I23,'Results input'!$C$104:$E$111,3,FALSE)),0,VLOOKUP(I23,'Results input'!$C$104:$E$111,3,FALSE)) -> 0 | K24: =IF(ISNA(VLOOKUP(K23,'Results input'!$C$104:$E$111,3,FALSE)),0,VLOOKUP(K23,'Results input'!$C$104:$E$111,3,FALSE)) -> 4.34.2 | M24: =IF(ISNA(VLOOKUP(M23,'Results input'!$C$104:$E$111,3,FALSE)),0,VLOOKUP(M23,'Results input'!$C$104:$E$111,3,FALSE)) -> 5.53.5 | O24: =IF(ISNA(VLOOKUP(O23,'Results input'!$C$104:$E$111,3,FALSE)),0,VLOOKUP(O23,'Results input'!$C$104:$E$111,3,FALSE)) -> 4.34.1 | Q24: =IF(ISNA(VLOOKUP(Q23,'Results input'!$C$104:$E$111,3,FALSE)),0,VLOOKUP(Q23,'Results input'!$C$104:$E$111,3,FALSE)) -> 4.38.9
A25: ='Men dec.'!A15 -> M60 1500m | B25: Name | C25: =IF('Men dec.'!C15=0," ",'Men dec.'!C15) -> Robin Davies | D25: =IF((C26>0),VLOOKUP(C25,'Results input'!$C$114:$F$121,4,),"") -> 3 | E25: =IF('Men dec.'!E15=0," ",'Men dec.'!E15) -> Vince Rollason | F25: =IF((E26>0),VLOOKUP(E25,'Results input'!$C$114:$F$121,4,),"") -> 7 | G25: =IF('Men dec.'!G15=0," ",'Men dec.'!G15) | H25: =IF((G26>0),VLOOKUP(G25,'Results input'!$C$114:$F$121,4,),"") | I25: =IF('Men dec.'!I15=0," ",'Men dec.'!I15) | J25: =IF((I26>0),VLOOKUP(I25,'Results input'!$C$114:$F$121,4,),"") | K25: =IF('Men dec.'!K15=0," ",'Men dec.'!K15) -> Paul Allen | L25: =IF((K26>0),VLOOKUP(K25,'Results input'!$C$114:$F$121,4,),"") -> 6 | M25: =IF('Men dec.'!M15=0," ",'Men dec.'!M15) -> Mick Edwards | N25: =IF((M26>0),VLOOKUP(M25,'Results input'!$C$114:$F$121,4,),"") -> 5 | O25: =IF('Men dec.'!O15=0," ",'Men dec.'!O15) -> Terry Bedington | P25: =IF((O26>0),VLOOKUP(O25,'Results input'!$C$114:$F$121,4,),"") -> 8 | Q25: =IF('Men dec.'!Q15=0," ",'Men dec.'!Q15) -> Michael Elwell | R25: =IF((Q26>0),VLOOKUP(Q25,'Results input'!$C$114:$F$121,4,),"") -> 4
B26: Perf. | C26: =IF(ISNA(VLOOKUP(C25,'Results input'!$C$114:$E$121,3,FALSE)),0,VLOOKUP(C25,'Results input'!$C$114:$E$121,3,FALSE)) -> 7.18.3 | E26: =IF(ISNA(VLOOKUP(E25,'Results input'!$C$114:$E$121,3,FALSE)),0,VLOOKUP(E25,'Results input'!$C$114:$E$121,3,FALSE)) -> 5.49.4 | G26: =IF(ISNA(VLOOKUP(G25,'Results input'!$C$114:$E$121,3,FALSE)),0,VLOOKUP(G25,'Results input'!$C$114:$E$121,3,FALSE)) -> 0 | I26: =IF(ISNA(VLOOKUP(I25,'Results input'!$C$114:$E$121,3,FALSE)),0,VLOOKUP(I25,'Results input'!$C$114:$E$121,3,FALSE)) -> 0 | K26: =IF(ISNA(VLOOKUP(K25,'Results input'!$C$114:$E$121,3,FALSE)),0,VLOOKUP(K25,'Results input'!$C$114:$E$121,3,FALSE)) -> 5.55.0 | M26: =IF(ISNA(VLOOKUP(M25,'Results input'!$C$114:$E$121,3,FALSE)),0,VLOOKUP(M25,'Results input'!$C$114:$E$121,3,FALSE)) -> 6.04.6 | O26: =IF(ISNA(VLOOKUP(O25,'Results input'!$C$114:$E$121,3,FALSE)),0,VLOOKUP(O25,'Results input'!$C$114:$E$121,3,FALSE)) -> 5.45.5 | Q26: =IF(ISNA(VLOOKUP(Q25,'Results input'!$C$114:$E$121,3,FALSE)),0,VLOOKUP(Q25,'Results input'!$C$114:$E$121,3,FALSE)) -> 6.32.4
A27: ='Men dec.'!A16 -> Team name | C27: =IF('Men dec.'!C16=0," ",'Men dec.'!C16) -> Birchfield | E27: =IF('Men dec.'!E16=0," ",'Men dec.'!E16) -> B & R | G27: =IF('Men dec.'!G16=0," ",'Men dec.'!G16) -> Droitwich & KSAC | I27: =IF('Men dec.'!I16=0," ",'Men dec.'!I16) -> DASH | K27: =IF('Men dec.'!K16=0," ",'Men dec.'!K16) -> Halesowen | M27: =IF('Men dec.'!M16=0," ",'Men dec.'!M16) -> Sparkhill | O27: =IF('Men dec.'!O16=0," ",'Men dec.'!O16) -> Worcester | Q27: =IF('Men dec.'!Q16=0," ",'Men dec.'!Q16) -> MMAC
A28: ='Men dec.'!A17 -> Relay Team Names (4x200m) | B28: Name | C28: ='Men dec.'!C17 -> Martin Maynard | E28: ='Men dec.'!E17 -> Calvin Scoltock | G28: ='Men dec.'!G17 -> Keith Waldron | I28: ='Men dec.'!I17 -> 0 | K28: ='Men dec.'!K17 -> Nic Hazelwood | M28: ='Men dec.'!M17 -> 0 | O28: ='Men dec.'!O17 -> Dave Hall | Q28: ='Men dec.'!Q17 -> 0
C29: ='Men dec.'!C18 -> Connolly Meagher | E29: ='Men dec.'!E18 -> Dean Hartshorne | G29: ='Men dec.'!G18 -> Adrian James | I29: ='Men dec.'!I18 -> 0 | K29: ='Men dec.'!K18 -> Roger Mallard | M29: ='Men dec.'!M18 -> 0 | O29: ='Men dec.'!O18 -> Richard White | Q29: ='Men dec.'!Q18 -> 0
C30: ='Men dec.'!C19 -> Paul Rogers | E30: ='Men dec.'!E19 -> Martin Aspley-Davis | G30: ='Men dec.'!G19 -> Andy Priest | I30: ='Men dec.'!I19 -> 0 | K30: ='Men dec.'!K19 -> Matt Allen | M30: ='Men dec.'!M19 -> 0 | O30: ='Men dec.'!O19 -> Warren Miles | Q30: ='Men dec.'!Q19 -> 0
C31: ='Men dec.'!C20 -> Jag Ubhoo | D31: =IF((C32>0),VLOOKUP(C27,'Results input'!$C$124:$F$131,4,),"") -> 5 | E31: ='Men dec.'!E20 -> Andy Freeman | F31: =IF((E32>0),VLOOKUP(E27,'Results input'!$C$124:$F$131,4,),"") -> 7 | G31: ='Men dec.'!G20 -> Neil Williams | H31: =IF((G32>0),VLOOKUP(G27,'Results input'!$C$124:$F$131,4,),"") -> 8 | I31: ='Men dec.'!I20 -> 0 | J31: =IF((I32>0),VLOOKUP(I27,'Results input'!$C$124:$F$131,4,),"") | K31: ='Men dec.'!K20 -> Mike Neylon | L31: =IF((K32>0),VLOOKUP(K27,'Results input'!$C$124:$F$131,4,),"") -> 4 | M31: ='Men dec.'!M20 -> 0 | N31: =IF((M32>0),VLOOKUP(M27,'Results input'!$C$124:$F$131,4,),"") -> 3 | O31: ='Men dec.'!O20 -> Laurence Oldfield | P31: =IF((O32>0),VLOOKUP(O27,'Results input'!$C$124:$F$131,4,),"") -> 6 | Q31: ='Men dec.'!Q20 -> 0 | R31: =IF((Q32>0),VLOOKUP(Q27,'Results input'!$C$124:$F$131,4,),"")
B32: Perf. | C32: =IF(ISNA(VLOOKUP(C27,'Results input'!$C$124:$E$131,3,FALSE)),0,VLOOKUP(C27,'Results input'!$C$124:$E$131,3,FALSE)) -> 1.50.6 | E32: =IF(ISNA(VLOOKUP(E27,'Results input'!$C$124:$E$131,3,FALSE)),0,VLOOKUP(E27,'Results input'!$C$124:$E$131,3,FALSE)) -> 1.48.3 | G32: =IF(ISNA(VLOOKUP(G27,'Results input'!$C$124:$E$131,3,FALSE)),0,VLOOKUP(G27,'Results input'!$C$124:$E$131,3,FALSE)) -> 1.46.3 | I32: =IF(ISNA(VLOOKUP(I27,'Results input'!$C$124:$E$131,3,FALSE)),0,VLOOKUP(I27,'Results input'!$C$124:$E$131,3,FALSE)) -> 0 | K32: =IF(ISNA(VLOOKUP(K27,'Results input'!$C$124:$E$131,3,FALSE)),0,VLOOKUP(K27,'Results input'!$C$124:$E$131,3,FALSE)) -> 1.53.1 | M32: =IF(ISNA(VLOOKUP(M27,'Results input'!$C$124:$E$131,3,FALSE)),0,VLOOKUP(M27,'Results input'!$C$124:$E$131,3,FALSE)) -> 2.13.5 | O32: =IF(ISNA(VLOOKUP(O27,'Results input'!$C$124:$E$131,3,FALSE)),0,VLOOKUP(O27,'Results input'!$C$124:$E$131,3,FALSE)) -> 1.50.1 | Q32: =IF(ISNA(VLOOKUP(Q27,'Results input'!$C$124:$E$131,3,FALSE)),0,VLOOKUP(Q27,'Results input'!$C$124:$E$131,3,FALSE)) -> 0
A33: TOTALS (track) | D33: =SUM(D3:D32) -> 67 | F33: =SUM(F3:F32) -> 80 | H33: =SUM(H3:H32) -> 37 | J33: =SUM(J3:J32) -> 17 | L33: =SUM(L3:L32) -> 59 | N33: =SUM(N3:N32) -> 52 | P33: =SUM(P3:P32) -> 78 | R33: =SUM(R3:R32) -> 19
A35: EVENT | B35: Club:- | C35: =C1 -> Birchfield | E35: =E1 -> B & R | G35: =G1 -> Droitwich & KSAC | I35: =I1 -> DASH | K35: =K1 -> Halesowen | M35: =M1 -> Sparkhill | O35: =O1 -> Worcester | Q35: =Q1 -> MMAC
B36: Number | C36: =C2 -> 13 / 14 / A | D36: Pts | E36: =E2 -> 21 / 22 / N | F36: Pts | G36: =G2 -> 23 / 24 / O | H36: Pts | I36: =I2 -> 3 / 4 / C | J36: Pts | K36: =K2 -> 9 / 10 / P | L36: Pts | M36: =M2 -> 1 /2 / S | N36: Pts | O36: =O2 -> 11 / 12 / F | P36: Pts | Q36: =Q2 -> 35 / 36 / F | R36: Pts
A37: ='Men dec.'!A22 -> M50 Hammer | B37: Name | C37: =IF('Men dec.'!C22=0," ",'Men dec.'!C22) -> Dave Fall | D37: =IF((C38>0),VLOOKUP(C37,'Results input'!$C$135:$F$142,4,),"") -> 3 | E37: =IF('Men dec.'!E22=0," ",'Men dec.'!E22) -> Clive Brown | F37: =IF((E38>0),VLOOKUP(E37,'Results input'!$C$135:$F$142,4,),"") -> 4 | G37: =IF('Men dec.'!G22=0," ",'Men dec.'!G22) -> Dave Russell | H37: =IF((G38>0),VLOOKUP(G37,'Results input'!$C$135:$F$142,4,),"") -> 7 | I37: =IF('Men dec.'!I22=0," ",'Men dec.'!I22) | J37: =IF((I38>0),VLOOKUP(I37,'Results input'!$C$135:$F$142,4,),"") | K37: =IF('Men dec.'!K22=0," ",'Men dec.'!K22) -> Kevin Monk | L37: =IF((K38>0),VLOOKUP(K37,'Results input'!$C$135:$F$142,4,),"") -> 5 | M37: =IF('Men dec.'!M22=0," ",'Men dec.'!M22) | N37: =IF((M38>0),VLOOKUP(M37,'Results input'!$C$135:$F$142,4,),"") | O37: =IF('Men dec.'!O22=0," ",'Men dec.'!O22) -> Marc Flannery | P37: =IF((O38>0),VLOOKUP(O37,'Results input'!$C$135:$F$142,4,),"") -> 8 | Q37: =IF('Men dec.'!Q22=0," ",'Men dec.'!Q22) -> Anthony Porter | R37: =IF((Q38>0),VLOOKUP(Q37,'Results input'!$C$135:$F$142,4,),"") -> 6
B38: Perf. | C38: =IF(ISNA(VLOOKUP(C37,'Results input'!$C$135:$E$142,3,FALSE)),0,VLOOKUP(C37,'Results input'!$C$135:$E$142,3,FALSE)) -> 11.8 | E38: =IF(ISNA(VLOOKUP(E37,'Results input'!$C$135:$E$142,3,FALSE)),0,VLOOKUP(E37,'Results input'!$C$135:$E$142,3,FALSE)) -> 13.04 | G38: =IF(ISNA(VLOOKUP(G37,'Results input'!$C$135:$E$142,3,FALSE)),0,VLOOKUP(G37,'Results input'!$C$135:$E$142,3,FALSE)) -> 22.49 | I38: =IF(ISNA(VLOOKUP(I37,'Results input'!$C$135:$E$142,3,FALSE)),0,VLOOKUP(I37,'Results input'!$C$135:$E$142,3,FALSE)) -> 0 | K38: =IF(ISNA(VLOOKUP(K37,'Results input'!$C$135:$E$142,3,FALSE)),0,VLOOKUP(K37,'Results input'!$C$135:$E$142,3,FALSE)) -> 13.68 | M38: =IF(ISNA(VLOOKUP(M37,'Results input'!$C$135:$E$142,3,FALSE)),0,VLOOKUP(M37,'Results input'!$C$135:$E$142,3,FALSE)) -> 0 | O38: =IF(ISNA(VLOOKUP(O37,'Results input'!$C$135:$E$142,3,FALSE)),0,VLOOKUP(O37,'Results input'!$C$135:$E$142,3,FALSE)) -> 24.28 | Q38: =IF(ISNA(VLOOKUP(Q37,'Results input'!$C$135:$E$142,3,FALSE)),0,VLOOKUP(Q37,'Results input'!$C$135:$E$142,3,FALSE)) -> 16.55
A39: ='Men dec.'!A23 -> M35 Hammer | B39: Name | C39: =IF('Men dec.'!C23=0," ",'Men dec.'!C23) -> Julian Barnett | D39: =IF((C40>0),VLOOKUP(C39,'Results input'!$C$145:$F$152,4,),"") -> 5 | E39: =IF('Men dec.'!E23=0," ",'Men dec.'!E23) -> Andy Freeman | F39: =IF((E40>0),VLOOKUP(E39,'Results input'!$C$145:$F$152,4,),"") -> 7 | G39: =IF('Men dec.'!G23=0," ",'Men dec.'!G23) -> Keith Waldron | H39: =IF((G40>0),VLOOKUP(G39,'Results input'!$C$145:$F$152,4,),"") -> 6 | I39: =IF('Men dec.'!I23=0," ",'Men dec.'!I23) | J39: =IF((I40>0),VLOOKUP(I39,'Results input'!$C$145:$F$152,4,),"") | K39: =IF('Men dec.'!K23=0," ",'Men dec.'!K23) -> Matt Allen | L39: =IF((K40>0),VLOOKUP(K39,'Results input'!$C$145:$F$152,4,),"") -> 3 | M39: =IF('Men dec.'!M23=0," ",'Men dec.'!M23) -> Michael Westwood | N39: =IF((M40>0),VLOOKUP(M39,'Results input'!$C$145:$F$152,4,),"") -> 4 | O39: =IF('Men dec.'!O23=0," ",'Men dec.'!O23) -> Peter Stewart | P39: =IF((O40>0),VLOOKUP(O39,'Results input'!$C$145:$F$152,4,),"") -> 8 | Q39: =IF('Men dec.'!Q23=0," ",'Men dec.'!Q23) -> Anthony Porter | R39: =IF((Q40>0),VLOOKUP(Q39,'Results input'!$C$145:$F$152,4,),"")
B40: Perf. | C40: =IF(ISNA(VLOOKUP(C39,'Results input'!$C$145:$F$152,3,FALSE)),0,VLOOKUP(C39,'Results input'!$C$145:$F$152,3,FALSE)) -> 14.01 | E40: =IF(ISNA(VLOOKUP(E39,'Results input'!$C$145:$F$152,3,FALSE)),0,VLOOKUP(E39,'Results input'!$C$145:$F$152,3,FALSE)) -> 17.29 | G40: =IF(ISNA(VLOOKUP(G39,'Results input'!$C$145:$F$152,3,FALSE)),0,VLOOKUP(G39,'Results input'!$C$145:$F$152,3,FALSE)) -> 15.93 | I40: =IF(ISNA(VLOOKUP(I39,'Results input'!$C$145:$F$152,3,FALSE)),0,VLOOKUP(I39,'Results input'!$C$145:$F$152,3,FALSE)) -> 0 | K40: =IF(ISNA(VLOOKUP(K39,'Results input'!$C$145:$F$152,3,FALSE)),0,VLOOKUP(K39,'Results input'!$C$145:$F$152,3,FALSE)) -> 8.21 | M40: =IF(ISNA(VLOOKUP(M39,'Results input'!$C$145:$F$152,3,FALSE)),0,VLOOKUP(M39,'Results input'!$C$145:$F$152,3,FALSE)) -> 13.75 | O40: =IF(ISNA(VLOOKUP(O39,'Results input'!$C$145:$F$152,3,FALSE)),0,VLOOKUP(O39,'Results input'!$C$145:$F$152,3,FALSE)) -> 21.85 | Q40: =IF(ISNA(VLOOKUP(Q39,'Results input'!$C$145:$F$152,3,FALSE)),0,VLOOKUP(Q39,'Results input'!$C$145:$F$152,3,FALSE)) -> 0
A41: ='Men dec.'!A24 -> M60 Shot | B41: Name | C41: =IF('Men dec.'!C24=0," ",'Men dec.'!C24) -> Wilf Morgan | D41: =IF((C42>0),VLOOKUP(C41,'Results input'!$C$155:$F$162,4,),"") -> 2 | E41: =IF('Men dec.'!E24=0," ",'Men dec.'!E24) -> Clive Brown | F41: =IF((E42>0),VLOOKUP(E41,'Results input'!$C$155:$F$162,4,),"") -> 4 | G41: =IF('Men dec.'!G24=0," ",'Men dec.'!G24) -> Dave Russell | H41: =IF((G42>0),VLOOKUP(G41,'Results input'!$C$155:$F$162,4,),"") -> 8 | I41: =IF('Men dec.'!I24=0," ",'Men dec.'!I24) | J41: =IF((I42>0),VLOOKUP(I41,'Results input'!$C$155:$F$162,4,),"") | K41: =IF('Men dec.'!K24=0," ",'Men dec.'!K24) -> Les Woods | L41: =IF((K42>0),VLOOKUP(K41,'Results input'!$C$155:$F$162,4,),"") -> 5 | M41: =IF('Men dec.'!M24=0," ",'Men dec.'!M24) -> Bernie Waring | N41: =IF((M42>0),VLOOKUP(M41,'Results input'!$C$155:$F$162,4,),"") -> 6 | O41: =IF('Men dec.'!O24=0," ",'Men dec.'!O24) -> Ian Bowles | P41: =IF((O42>0),VLOOKUP(O41,'Results input'!$C$155:$F$162,4,),"") -> 7 | Q41: =IF('Men dec.'!Q24=0," ",'Men dec.'!Q24) -> Michael Elwell | R41: =IF((Q42>0),VLOOKUP(Q41,'Results input'!$C$155:$F$162,4,),"") -> 3
...

Sheet Women
A1: EVENT | B1: Club:- | C1: ='women dec'!C1 -> Birchfield | E1: ='women dec'!E1 -> B & R | G1: ='women dec'!G1 -> Droitwich & KSAC | I1: ='women dec'!I1 -> DASH | K1: ='women dec'!K1 -> Halesowen | M1: ='women dec'!M1 -> Sparkhill | O1: ='women dec'!O1 -> Worcester | Q1: ='women dec'!Q1 -> MMAC
B2: Number | C2: ='women dec'!C2 -> 63 /64 / A | D2: Pts | E2: ='women dec'!E2 -> 71/ 72 /N | F2: Pts | G2: ='women dec'!G2 -> 73 / 74 /O | H2: Pts | I2: ='women dec'!I2 -> 53/ 54 / C | J2: Pts | K2: ='women dec'!K2 -> 59 / 60 / P | L2: Pts | M2: ='women dec'!M2 -> 151 /152 / S | N2: Pts | O2: ='women dec'!O2 -> 61 / 62 / F | P2: Pts | Q2: ='women dec'!Q2 -> 85 / 86 / K | R2: Pts
A3: ='women dec'!A4 -> W60 100m | B3: Name | C3: =IF('women dec'!C4=0," ",'women dec'!C4) | D3: =IF((C4>0),VLOOKUP(C3,'Results input'!$J$4:$M$11,4,),"") | E3: =IF('women dec'!E4=0," ",'women dec'!E4) -> Rita Brownlie | F3: =IF((E4>0),VLOOKUP(E3,'Results input'!$J$4:$M$11,4,),"") -> 7 | G3: =IF('women dec'!G4=0," ",'women dec'!G4) | H3: =IF((G4>0),VLOOKUP(G3,'Results input'!$J$4:$M$11,4,),"") | I3: =IF('women dec'!I4=0," ",'women dec'!I4) | J3: =IF((I4>0),VLOOKUP(I3,'Results input'!$J$4:$M$11,4,),"") | K3: =IF('women dec'!K4=0," ",'women dec'!K4) -> Rosemary Chrimes | L3: =IF((K4>0),VLOOKUP(K3,'Results input'!$J$4:$M$11,4,),"") -> 5 | M3: =IF('women dec'!M4=0," ",'women dec'!M4) -> Gill Millicheap | N3: =IF((M4>0),VLOOKUP(M3,'Results input'!$J$4:$M$11,4,),"") -> 8 | O3: =IF('women dec'!O4=0," ",'women dec'!O4) -> Rebecca Hambrook | P3: =IF((O4>0),VLOOKUP(O3,'Results input'!$J$4:$M$11,4,),"") -> 6 | Q3: =IF('women dec'!Q4=0," ",'women dec'!Q4) | R3: =IF((Q4>0),VLOOKUP(Q3,'Results input'!$J$4:$M$11,4,),"")
B4: Perf. | C4: =IF(ISNA(VLOOKUP(C3,'Results input'!$J$4:$L$11,3,FALSE)),0,VLOOKUP(C3,'Results input'!$J$4:$L$11,3,FALSE)) -> 0 | E4: =IF(ISNA(VLOOKUP(E3,'Results input'!$J$4:$L$11,3,FALSE)),0,VLOOKUP(E3,'Results input'!$J$4:$L$11,3,FALSE)) -> 20.5 | G4: =IF(ISNA(VLOOKUP(G3,'Results input'!$J$4:$L$11,3,FALSE)),0,VLOOKUP(G3,'Results input'!$J$4:$L$11,3,FALSE)) -> 0 | I4: =IF(ISNA(VLOOKUP(I3,'Results input'!$J$4:$L$11,3,FALSE)),0,VLOOKUP(I3,'Results input'!$J$4:$L$11,3,FALSE)) -> 0 | K4: =IF(ISNA(VLOOKUP(K3,'Results input'!$J$4:$L$11,3,FALSE)),0,VLOOKUP(K3,'Results input'!$J$4:$L$11,3,FALSE)) -> 21.1 | M4: =IF(ISNA(VLOOKUP(M3,'Results input'!$J$4:$L$11,3,FALSE)),0,VLOOKUP(M3,'Results input'!$J$4:$L$11,3,FALSE)) -> 18.5 | O4: =IF(ISNA(VLOOKUP(O3,'Results input'!$J$4:$L$11,3,FALSE)),0,VLOOKUP(O3,'Results input'!$J$4:$L$11,3,FALSE)) -> 20.7 | Q4: =IF(ISNA(VLOOKUP(Q3,'Results input'!$J$4:$L$11,3,FALSE)),0,VLOOKUP(Q3,'Results input'!$J$4:$L$11,3,FALSE)) -> 0
A5: ='women dec'!A5 -> W50 100m | B5: Name | C5: =IF('women dec'!C5=0," ",'women dec'!C5) -> Viv Bonner | D5: =IF((C6>0),VLOOKUP(C5,'Results input'!$J$14:$M$21,4,),"") -> 8 | E5: =IF('women dec'!E5=0," ",'women dec'!E5) -> Julie Wakelam | F5: =IF((E6>0),VLOOKUP(E5,'Results input'!$J$14:$M$21,4,),"") -> 5 | G5: =IF('women dec'!G5=0," ",'women dec'!G5) | H5: =IF((G6>0),VLOOKUP(G5,'Results input'!$J$14:$M$21,4,),"") | I5: =IF('women dec'!I5=0," ",'women dec'!I5) -> Elaine Restorick | J5: =IF((I6>0),VLOOKUP(I5,'Results input'!$J$14:$M$21,4,),"") -> 7 | K5: =IF('women dec'!K5=0," ",'women dec'!K5) -> Liz Tindle | L5: =IF((K6>0),VLOOKUP(K5,'Results input'!$J$14:$M$21,4,),"") -> 6 | M5: =IF('women dec'!M5=0," ",'women dec'!M5) | N5: =IF((M6>0),VLOOKUP(M5,'Results input'!$J$14:$M$21,4,),"") | O5: =IF('women dec'!O5=0," ",'women dec'!O5) -> Ros Townsend Hope | P5: =IF((O6>0),VLOOKUP(O5,'Results input'!$J$14:$M$21,4,),"") -> 4 | Q5: =IF('women dec'!Q5=0," ",'women dec'!Q5) | R5: =IF((Q6>0),VLOOKUP(Q5,'Results input'!$J$14:$M$21,4,),"")
B6: Perf. | C6: =IF(ISNA(VLOOKUP(C5,'Results input'!$J$14:$L$21,3,FALSE)),0,VLOOKUP(C5,'Results input'!$J$14:$L$21,3,FALSE)) -> 14.7 | E6: =IF(ISNA(VLOOKUP(E5,'Results input'!$J$14:$L$21,3,FALSE)),0,VLOOKUP(E5,'Results input'!$J$14:$L$21,3,FALSE)) -> 16.9 | G6: =IF(ISNA(VLOOKUP(G5,'Results input'!$J$14:$L$21,3,FALSE)),0,VLOOKUP(G5,'Results input'!$J$14:$L$21,3,FALSE)) -> 0 | I6: =IF(ISNA(VLOOKUP(I5,'Results input'!$J$14:$L$21,3,FALSE)),0,VLOOKUP(I5,'Results input'!$J$14:$L$21,3,FALSE)) -> 16.5 | K6: =IF(ISNA(VLOOKUP(K5,'Results input'!$J$14:$L$21,3,FALSE)),0,VLOOKUP(K5,'Results input'!$J$14:$L$21,3,FALSE)) -> 16.7 | M6: =IF(ISNA(VLOOKUP(M5,'Results input'!$J$14:$L$21,3,FALSE)),0,VLOOKUP(M5,'Results input'!$J$14:$L$21,3,FALSE)) -> 0 | O6: =IF(ISNA(VLOOKUP(O5,'Results input'!$J$14:$L$21,3,FALSE)),0,VLOOKUP(O5,'Results input'!$J$14:$L$21,3,FALSE)) -> 17.8 | Q6: =IF(ISNA(VLOOKUP(Q5,'Results input'!$J$14:$L$21,3,FALSE)),0,VLOOKUP(Q5,'Results input'!$J$14:$L$21,3,FALSE)) -> 0
A7: ='women dec'!A6 -> W40 100m | B7: Name | C7: =IF('women dec'!C6=0," ",'women dec'!C6) -> Judy Johnson | D7: =IF((C8>0),VLOOKUP(C7,'Results input'!$J$24:$M$31,4,),"") -> 6 | E7: =IF('women dec'!E6=0," ",'women dec'!E6) -> Debbie Ricci | F7: =IF((E8>0),VLOOKUP(E7,'Results input'!$J$24:$M$31,4,),"") -> 7 | G7: =IF('women dec'!G6=0," ",'women dec'!G6) -> Kate Murdoch | H7: =IF((G8>0),VLOOKUP(G7,'Results input'!$J$24:$M$31,4,),"") -> 8 | I7: =IF('women dec'!I6=0," ",'women dec'!I6) | J7: =IF((I8>0),VLOOKUP(I7,'Results input'!$J$24:$M$31,4,),"") | K7: =IF('women dec'!K6=0," ",'women dec'!K6) -> Julie Dale | L7: =IF((K8>0),VLOOKUP(K7,'Results input'!$J$24:$M$31,4,),"") -> 5 | M7: =IF('women dec'!M6=0," ",'women dec'!M6) | N7: =IF((M8>0),VLOOKUP(M7,'Results input'!$J$24:$M$31,4,),"") | O7: =IF('women dec'!O6=0," ",'women dec'!O6) -> Ruth Bird | P7: =IF((O8>0),VLOOKUP(O7,'Results input'!$J$24:$M$31,4,),"") -> 4 | Q7: =IF('women dec'!Q6=0," ",'women dec'!Q6) | R7: =IF((Q8>0),VLOOKUP(Q7,'Results input'!$J$24:$M$31,4,),"")
B8: Perf. | C8: =IF(ISNA(VLOOKUP(C7,'Results input'!$J$24:$L$31,3,FALSE)),0,VLOOKUP(C7,'Results input'!$J$24:$L$31,3,FALSE)) -> 15.7 | E8: =IF(ISNA(VLOOKUP(E7,'Results input'!$J$24:$L$31,3,FALSE)),0,VLOOKUP(E7,'Results input'!$J$24:$L$31,3,FALSE)) -> 15.3 | G8: =IF(ISNA(VLOOKUP(G7,'Results input'!$J$24:$L$31,3,FALSE)),0,VLOOKUP(G7,'Results input'!$J$24:$L$31,3,FALSE)) -> 14.3 | I8: =IF(ISNA(VLOOKUP(I7,'Results input'!$J$24:$L$31,3,FALSE)),0,VLOOKUP(I7,'Results input'!$J$24:$L$31,3,FALSE)) -> 0 | K8: =IF(ISNA(VLOOKUP(K7,'Results input'!$J$24:$L$31,3,FALSE)),0,VLOOKUP(K7,'Results input'!$J$24:$L$31,3,FALSE)) -> 15.9 | M8: =IF(ISNA(VLOOKUP(M7,'Results input'!$J$24:$L$31,3,FALSE)),0,VLOOKUP(M7,'Results input'!$J$24:$L$31,3,FALSE)) -> 0 | O8: =IF(ISNA(VLOOKUP(O7,'Results input'!$J$24:$L$31,3,FALSE)),0,VLOOKUP(O7,'Results input'!$J$24:$L$31,3,FALSE)) -> 17.2 | Q8: =IF(ISNA(VLOOKUP(Q7,'Results input'!$J$24:$L$31,3,FALSE)),0,VLOOKUP(Q7,'Results input'!$J$24:$L$31,3,FALSE)) -> 0 | S8: Note performances will not appear unless the athlete has been declared
A9: ='women dec'!A7 -> W35 100m | B9: Name | C9: =IF('women dec'!C7=0," ",'women dec'!C7) -> Julie Rogers | D9: =IF((C10>0),VLOOKUP(C9,'Results input'!$J$34:$M$41,4,),"") -> 7 | E9: =IF('women dec'!E7=0," ",'women dec'!E7) -> Yasmine Al-Daftary | F9: =IF((E10>0),VLOOKUP(E9,'Results input'!$J$34:$M$41,4,),"") -> 5 | G9: =IF('women dec'!G7=0," ",'women dec'!G7) | H9: =IF((G10>0),VLOOKUP(G9,'Results input'!$J$34:$M$41,4,),"") | I9: =IF('women dec'!I7=0," ",'women dec'!I7) | J9: =IF((I10>0),VLOOKUP(I9,'Results input'!$J$34:$M$41,4,),"") | K9: =IF('women dec'!K7=0," ",'women dec'!K7) -> Sally Spencer | L9: =IF((K10>0),VLOOKUP(K9,'Results input'!$J$34:$M$41,4,),"") -> 4 | M9: =IF('women dec'!M7=0," ",'women dec'!M7) -> Megan Harris | N9: =IF((M10>0),VLOOKUP(M9,'Results input'!$J$34:$M$41,4,),"") -> 6 | O9: =IF('women dec'!O7=0," ",'women dec'!O7) -> Cat Goulder- Davies | P9: =IF((O10>0),VLOOKUP(O9,'Results input'!$J$34:$M$41,4,),"") -> 8 | Q9: =IF('women dec'!Q7=0," ",'women dec'!Q7) | R9: =IF((Q10>0),VLOOKUP(Q9,'Results input'!$J$34:$M$41,4,),"")
